BEGIN:VCALENDAR
VERSION:2.0
PRODID:-//Centerville Noon Optimist - ECPv6.15.20//NONSGML v1.0//EN
CALSCALE:GREGORIAN
METHOD:PUBLISH
X-ORIGINAL-URL:https://centervillenoonoptimist.com
X-WR-CALDESC:Events for Centerville Noon Optimist
REFRESH-INTERVAL;VALUE=DURATION:PT1H
X-Robots-Tag:noindex
X-PUBLISHED-TTL:PT1H
BEGIN:VTIMEZONE
TZID:America/New_York
BEGIN:DAYLIGHT
TZOFFSETFROM:-0500
TZOFFSETTO:-0400
TZNAME:EDT
DTSTART:20250309T070000
END:DAYLIGHT
BEGIN:STANDARD
TZOFFSETFROM:-0400
TZOFFSETTO:-0500
TZNAME:EST
DTSTART:20251102T060000
END:STANDARD
BEGIN:DAYLIGHT
TZOFFSETFROM:-0500
TZOFFSETTO:-0400
TZNAME:EDT
DTSTART:20260308T070000
END:DAYLIGHT
BEGIN:STANDARD
TZOFFSETFROM:-0400
TZOFFSETTO:-0500
TZNAME:EST
DTSTART:20261101T060000
END:STANDARD
BEGIN:DAYLIGHT
TZOFFSETFROM:-0500
TZOFFSETTO:-0400
TZNAME:EDT
DTSTART:20270314T070000
END:DAYLIGHT
BEGIN:STANDARD
TZOFFSETFROM:-0400
TZOFFSETTO:-0500
TZNAME:EST
DTSTART:20271107T060000
END:STANDARD
END:VTIMEZONE
BEGIN:VEVENT
DTSTART;TZID=America/New_York:20260521T173000
DTEND;TZID=America/New_York:20260521T190000
DTSTAMP:20260423T132951
CREATED:20251230T045635Z
LAST-MODIFIED:20260417T030554Z
UID:10000530-1779384600-1779390000@centervillenoonoptimist.com
SUMMARY:Optimist 2.0
DESCRIPTION:Join us and see how the Centerville Noon Optimist Club – a world class volunteer organization – makes a difference in local kids’ lives!  This month\, we will be at Nelly’s Taste of Bolivia.  Our speaker will be Karen King\, Communications & Marketing Manager of Centerville-Washington History.  Karen will share information about local history and exhibits at Centerville-Washington History\, including information about past Americana Festivals. \n\n\n\n• Join us every Third Thursday at various local social venues for community building\, fun\, and networking• Listen to a guest speaker or participate in a fun filled social activity• Learn more about how you can help us help kids in the community \n\n\n\nAs always\, snacks will be provided.  \n\n\n\nNetworking 5:30-6:00Meeting 6:00-6:30Social time 6:30-7:00
URL:https://centervillenoonoptimist.com/event/optimist-2-0-8/
CATEGORIES:- CNO 2.0 Meeting,Members,Public
ATTACH;FMTTYPE=image/png:https://centervillenoonoptimist.com/wp-content/uploads/2023/08/2.0-August-2023.png
END:VEVENT
BEGIN:VEVENT
DTSTART;TZID=America/New_York:20260618T173000
DTEND;TZID=America/New_York:20260618T190000
DTSTAMP:20260423T132951
CREATED:20251230T050059Z
LAST-MODIFIED:20260417T032125Z
UID:10000532-1781803800-1781809200@centervillenoonoptimist.com
SUMMARY:Optimist 2.0
DESCRIPTION:Join us and see how the Centerville Noon Optimist Club – a world class volunteer organization – makes a difference in local kids’ lives! We will meet at Heavier than Air Brewing Co and our speaker this month will be Liz Fultz\, Director of the Washington-Centerville Public Library with an update on the renovation of Centerville Library and the expansion of Creativity Commons! \n\n\n\n• Join us every Third Thursday at various local social venues for community building\, fun\, and networking• Listen to a guest speaker or participate in a fun filled social activity• Learn more about how you can help us help kids in the community \n\n\n\nAs always\, snacks will be provided.  \n\n\n\nNetworking 5:30-6:00Meeting 6:00-6:30Social time 6:30-7:00
URL:https://centervillenoonoptimist.com/event/optimist-2-0-9/
CATEGORIES:- CNO 2.0 Meeting,Members,Public
ATTACH;FMTTYPE=image/png:https://centervillenoonoptimist.com/wp-content/uploads/2025/11/Heavier-than-Air-2.0.png
END:VEVENT
BEGIN:VEVENT
DTSTART;TZID=America/New_York:20260716T173000
DTEND;TZID=America/New_York:20260716T190000
DTSTAMP:20260423T132951
CREATED:20260417T032002Z
LAST-MODIFIED:20260417T032008Z
UID:10000594-1784223000-1784228400@centervillenoonoptimist.com
SUMMARY:Optimist 2.0
DESCRIPTION:Join us and see how the Centerville Noon Optimist Club – a world class volunteer organization – makes a difference in local kids’ lives! This month\, we will hear from Crayons to Classrooms and participate in a service project with Crayons to Classrooms. \n\n\n\n• Join us every Third Thursday at various local social venues for community building\, fun\, and networking• Listen to a guest speaker or participate in a fun filled social activity• Learn more about how you can help us help kids in the community \n\n\n\nAs always\, snacks will be provided.  \n\n\n\nNetworking 5:30-6:00Meeting 6:00-6:30Social time 6:30-7:00
URL:https://centervillenoonoptimist.com/event/optimist-2-0-10/
CATEGORIES:- CNO 2.0 Meeting,Members,Public
END:VEVENT
BEGIN:VEVENT
DTSTART;TZID=America/New_York:20260820T173000
DTEND;TZID=America/New_York:20260820T190000
DTSTAMP:20260423T132951
CREATED:20260417T032440Z
LAST-MODIFIED:20260417T032444Z
UID:10000596-1787247000-1787252400@centervillenoonoptimist.com
SUMMARY:Optimist 2.0
DESCRIPTION:Join us and see how the Centerville Noon Optimist Club – a world class volunteer organization – makes a difference in local kids’ lives!  \n\n\n\n• Join us every Third Thursday at various local social venues for community building\, fun\, and networking• Listen to a guest speaker or participate in a fun filled social activity• Learn more about how you can help us help kids in the community \n\n\n\nAs always\, snacks will be provided.  \n\n\n\nNetworking 5:30-6:00Meeting 6:00-6:30Social time 6:30-7:00
URL:https://centervillenoonoptimist.com/event/optimist-2-0-11/
CATEGORIES:- CNO 2.0 Meeting,Members,Public
END:VEVENT
BEGIN:VEVENT
DTSTART;TZID=America/New_York:20260917T173000
DTEND;TZID=America/New_York:20260917T190000
DTSTAMP:20260423T132951
CREATED:20260417T032601Z
LAST-MODIFIED:20260417T032604Z
UID:10000598-1789666200-1789671600@centervillenoonoptimist.com
SUMMARY:Optimist 2.0
DESCRIPTION:Join us and see how the Centerville Noon Optimist Club – a world class volunteer organization – makes a difference in local kids’ lives!  \n\n\n\n• Join us every Third Thursday at various local social venues for community building\, fun\, and networking• Listen to a guest speaker or participate in a fun filled social activity• Learn more about how you can help us help kids in the community \n\n\n\nAs always\, snacks will be provided.  \n\n\n\nNetworking 5:30-6:00Meeting 6:00-6:30Social time 6:30-7:00
URL:https://centervillenoonoptimist.com/event/optimist-2-0-12/
CATEGORIES:- CNO 2.0 Meeting,Members,Public
END:VEVENT
END:VCALENDAR