BEGIN:VCALENDAR
VERSION:2.0
PRODID:-//Centerville Noon Optimist - ECPv6.15.20//NONSGML v1.0//EN
CALSCALE:GREGORIAN
METHOD:PUBLISH
X-WR-CALNAME:Centerville Noon Optimist
X-ORIGINAL-URL:https://centervillenoonoptimist.com
X-WR-CALDESC:Events for Centerville Noon Optimist
REFRESH-INTERVAL;VALUE=DURATION:PT1H
X-Robots-Tag:noindex
X-PUBLISHED-TTL:PT1H
BEGIN:VTIMEZONE
TZID:America/New_York
BEGIN:DAYLIGHT
TZOFFSETFROM:-0500
TZOFFSETTO:-0400
TZNAME:EDT
DTSTART:20220313T070000
END:DAYLIGHT
BEGIN:STANDARD
TZOFFSETFROM:-0400
TZOFFSETTO:-0500
TZNAME:EST
DTSTART:20221106T060000
END:STANDARD
BEGIN:DAYLIGHT
TZOFFSETFROM:-0500
TZOFFSETTO:-0400
TZNAME:EDT
DTSTART:20230312T070000
END:DAYLIGHT
BEGIN:STANDARD
TZOFFSETFROM:-0400
TZOFFSETTO:-0500
TZNAME:EST
DTSTART:20231105T060000
END:STANDARD
BEGIN:DAYLIGHT
TZOFFSETFROM:-0500
TZOFFSETTO:-0400
TZNAME:EDT
DTSTART:20240310T070000
END:DAYLIGHT
BEGIN:STANDARD
TZOFFSETFROM:-0400
TZOFFSETTO:-0500
TZNAME:EST
DTSTART:20241103T060000
END:STANDARD
BEGIN:DAYLIGHT
TZOFFSETFROM:-0500
TZOFFSETTO:-0400
TZNAME:EDT
DTSTART:20250309T070000
END:DAYLIGHT
BEGIN:STANDARD
TZOFFSETFROM:-0400
TZOFFSETTO:-0500
TZNAME:EST
DTSTART:20251102T060000
END:STANDARD
END:VTIMEZONE
BEGIN:VEVENT
DTSTART;TZID=America/New_York:20240215T173000
DTEND;TZID=America/New_York:20240215T190000
DTSTAMP:20260423T222853
CREATED:20231013T183732Z
LAST-MODIFIED:20240201T204053Z
UID:10000132-1708018200-1708023600@centervillenoonoptimist.com
SUMMARY:Optimist 2.0 - Zink's - Wine Tasting
DESCRIPTION:Join us February 15th and see how the Centerville Noon Optimist Club – a world class volunteer organization – makes a difference in local kids’ lives!  This month we will be at Zink’s Meats and Fine Wines for Wine Tasting. \n\n\n\n• Join us every Third Thursday at various local social venues for community building\, fun\, and networking• Listen to a guest speaker or participate in a fun filled social activity• Learn more about how you can help us help kids in the community \n\n\n\nWine flights will be available to purchase for $15.  As always\, snacks will be provided. \n\n\n\nNetworking 5:30-6:00Meeting 6:00-6:30Social time 6:30-7:00
URL:https://centervillenoonoptimist.com/event/optimist-2-0/
LOCATION:Zinks Meats and Fine Wines\, 409 Miamisburg Centerville Rd\, Dayton\, Ohio\, 45459\, United States
CATEGORIES:- CNO 2.0 Meeting,Members,Public
ATTACH;FMTTYPE=image/png:https://centervillenoonoptimist.com/wp-content/uploads/2023/08/2.0-September-2023.png
END:VEVENT
BEGIN:VEVENT
DTSTART;TZID=America/New_York:20240118T173000
DTEND;TZID=America/New_York:20240118T190000
DTSTAMP:20260423T222853
CREATED:20231013T183828Z
LAST-MODIFIED:20240121T021241Z
UID:10000131-1705599000-1705604400@centervillenoonoptimist.com
SUMMARY:Optimist 2.0 - Loose Ends Brewing - Networking and Trivia
DESCRIPTION:Join us  January 18th and see how the Centerville Noon Optimist Club – a world class volunteer organization – makes a difference in local kids’ lives!  This month\, we will be at Loose Ends Brewing for Networking.  Stay after the meeting for trivia! \n\n\n\n• Join us every Third Thursday at various local social venues for community building\, fun\, and networking• Listen to a guest speaker or participate in a fun filled social activity• Learn more about how you can help us help kids in the community \n\n\n\nAs always\, snacks will be provided. \n\n\n\nNetworking 5:30-6:00Meeting 6:00-6:30Social time 6:30-7:00
URL:https://centervillenoonoptimist.com/event/optimist-2-0-3/
LOCATION:Loose Ends Brewing\, 890 S Main St\, Centerville\, Centerville\, Ohio\, 45458\, United States
CATEGORIES:- CNO 2.0 Meeting,Members,Public
ATTACH;FMTTYPE=image/png:https://centervillenoonoptimist.com/wp-content/uploads/2023/10/2.0-January-2024-.png
END:VEVENT
BEGIN:VEVENT
DTSTART;TZID=America/New_York:20231116T173000
DTEND;TZID=America/New_York:20231116T190000
DTSTAMP:20260423T222853
CREATED:20231013T183427Z
LAST-MODIFIED:20231107T040402Z
UID:10000130-1700155800-1700161200@centervillenoonoptimist.com
SUMMARY:Optimist 2.0 - Chappy's
DESCRIPTION:Join us November 16th and see how the Centerville Noon Optimist Club – a world class volunteer organization – makes a difference in local kids’ lives! \n\n\n\n• Join us every Third Thursday at various local social venues for community building\, fun\, and networking• Listen to a guest speaker or participate in a fun filled social activity• Learn more about how you can help us help kids in the community \n\n\n\nJoin us for our November meeting as we hear from our Club President about her plans for the upcoming Optimist year. As always\, snacks will be provided. \n\n\n\nNetworking 5:30-6:00Meeting 6:00-6:30Social time 6:30-7:00
URL:https://centervillenoonoptimist.com/event/optimist-2-0-chappys/
LOCATION:Chappy’s Social House\, 7880 Washington Village Dr\, Dayton\, Ohio\, 45459\, United States
CATEGORIES:- CNO 2.0 Meeting,Public
ATTACH;FMTTYPE=image/png:https://centervillenoonoptimist.com/wp-content/uploads/2023/10/2.0-November-2023.png
END:VEVENT
BEGIN:VEVENT
DTSTART;TZID=America/New_York:20231019T173000
DTEND;TZID=America/New_York:20231019T190000
DTSTAMP:20260423T222853
CREATED:20231002T033925Z
LAST-MODIFIED:20231013T153613Z
UID:10000129-1697736600-1697742000@centervillenoonoptimist.com
SUMMARY:Optimist 2.0 - Bock Family Brewing - Halloween Party
DESCRIPTION:Join us October 19th as we gather at Bock Family Brewing and see how the Centerville Noon Optimist Club – a world class volunteer organization – makes a difference in local kids’ lives! \n\n\n\n• Join us every Third Thursday at various local social venues for community building\, fun\, and networking• Listen to a guest speaker or participate in a fun filled social activity• Learn more about how you can help us help kids in the community \n\n\n\nFor our October Optimist 2.0 meeting we will have a Halloween Party including local ghost stories.  There will be a costume contest so dress in your best Halloween costume!   As always\, snacks will be provided. \n\n\n\nNetworking 5:30-6:00Meeting 6:00-6:30Social time 6:30-7:00
URL:https://centervillenoonoptimist.com/event/optimist-2-0-bocks-family-brewing-halloween-party/
LOCATION:Bock Family Brewing\, 8150 Washington Village Dr\, Dayton\, Ohio\, 45458\, United States
CATEGORIES:- CNO 2.0 Meeting,Public
ATTACH;FMTTYPE=image/png:https://centervillenoonoptimist.com/wp-content/uploads/2023/10/2.0-October-2023.png
END:VEVENT
BEGIN:VEVENT
DTSTART;TZID=America/New_York:20230921T173000
DTEND;TZID=America/New_York:20230921T190000
DTSTAMP:20260423T222853
CREATED:20230804T205958Z
LAST-MODIFIED:20230902T021847Z
UID:10000106-1695317400-1695322800@centervillenoonoptimist.com
SUMMARY:Optimist 2.0 - Zinks - Wine Tasting
DESCRIPTION:Join us September 21st as we gather at Zinks Meats and Fine Wines and see how the Centerville Noon Optimist Club – a world class volunteer organization – makes a difference in local kids’ lives! \n\n\n\n• Join us every Third Thursday at various local social venues for community building\, fun\, and networking• Listen to a guest speaker or participate in a fun filled social activity• Learn more about how you can help us help kids in the community \n\n\n\nFor our September Optimist 2.0 meeting we will have a wine tasting event.  As always\, snacks will be provided. \n\n\n\nNetworking 5:30-6:00Meeting 6:00-6:30Social time 6:30-7:00
URL:https://centervillenoonoptimist.com/event/optimist-2-0-zinks-wine-tasting/
LOCATION:Zinks Meats and Fine Wines\, 409 Miamisburg Centerville Rd\, Dayton\, Ohio\, 45459\, United States
CATEGORIES:- CNO 2.0 Meeting,Public
ATTACH;FMTTYPE=image/png:https://centervillenoonoptimist.com/wp-content/uploads/2023/08/2.0-September-2023.png
END:VEVENT
BEGIN:VEVENT
DTSTART;TZID=America/New_York:20230817T173000
DTEND;TZID=America/New_York:20230817T190000
DTSTAMP:20260423T222853
CREATED:20230801T203127Z
LAST-MODIFIED:20230804T210028Z
UID:10000099-1692293400-1692298800@centervillenoonoptimist.com
SUMMARY:Optimist 2.0 - Nelly's Taste of Bolivia - Trivia!
DESCRIPTION:Join us August 17th as we gather at Nelly’s Taste of Bolivia and see how the Centerville Noon Optimist Club – a world class volunteer organization – makes a difference in local kids’ lives! \n\n\n\n• Join us every Third Thursday at various local social venues for community building\, fun\, and networking• Listen to a guest speaker or participate in a fun filled social activity• Learn more about how you can help us help kids in the community \n\n\n\nFor our August Optimist 2.0 meeting we will have a fun trivia contest!  As always\, snacks will be provided. \n\n\n\nNetworking 5:30-6:00Meeting 6:00-6:30Social time 6:30-7:00
URL:https://centervillenoonoptimist.com/event/optimist-2-0-nellys-taste-of-bolivia-trivia/
LOCATION:Ohio
CATEGORIES:- CNO 2.0 Meeting,Public
ATTACH;FMTTYPE=image/png:https://centervillenoonoptimist.com/wp-content/uploads/2023/08/2.0-August-2023.png
END:VEVENT
BEGIN:VEVENT
DTSTART;TZID=America/New_York:20230720T173000
DTEND;TZID=America/New_York:20230720T190000
DTSTAMP:20260423T222853
CREATED:20230609T035816Z
LAST-MODIFIED:20230619T160159Z
UID:10000085-1689874200-1689879600@centervillenoonoptimist.com
SUMMARY:Optimist 2.0 - Mi Lindo Jalisco - Park District\, Library and RecPlex
DESCRIPTION:Join us July 20th as we gather at Mi Lindo Jalisco and see how the Centerville Noon Optimist Club – a world class volunteer organization – makes a difference in local kids’ lives! \n\n\n\n• Join us every Third Thursday at various local social venues for community building\, fun\, and networking• Listen to a guest speaker who will encourage you with their story of success or participate in a fun filled social activity• Learn more about how you can help us help kids in the community \n\n\n\nFor our July Optimist 2.0 meeting we will hear from the Centerville-Washington Park District\, the Washington-Centerville Public Library and the Washington Township RecPlex.  As always\, snacks will be provided. \n\n\n\nNetworking 5:30-6:00Meeting 6:00-6:30Social time 6:30-7:00
URL:https://centervillenoonoptimist.com/event/optimist-2-0-mi-lindo-jalisco/
LOCATION:Ohio
CATEGORIES:- CNO 2.0 Meeting,Public
ATTACH;FMTTYPE=image/png:https://centervillenoonoptimist.com/wp-content/uploads/2023/06/2.0-July-2023.png
END:VEVENT
BEGIN:VEVENT
DTSTART;TZID=America/New_York:20230615T173000
DTEND;TZID=America/New_York:20230615T190000
DTSTAMP:20260423T222853
CREATED:20230609T034031Z
LAST-MODIFIED:20230609T034033Z
UID:10000084-1686850200-1686855600@centervillenoonoptimist.com
SUMMARY:Optimist 2.0 - Old Scratch Pizza Club Day
DESCRIPTION:Join us June 15th as we gather at Old Scratch Pizza and see how the Centerville Noon Optimist Club – a world class volunteer organization – makes a difference in local kids’ lives! \n\n\n\n• Join us every Third Thursday at various local social venues for community building\, fun\, and networking• Listen to a guest speaker who will encourage you with their story of success or participate in a fun filled social activity• Learn more about how you can help us help kids in the community \n\n\n\nFor our June Optimist 2.0 meeting we will have a club day and learn more about upcoming club activities and how to get involved.  As always\, snacks will be provided. \n\n\n\nNetworking 5:30-6:00Meeting 6:00-6:30Social time 6:30-7:00
URL:https://centervillenoonoptimist.com/event/optimist-2-0-old-scratch-pizza-club-day/
LOCATION:Ohio
CATEGORIES:- CNO 2.0 Meeting,Public
ATTACH;FMTTYPE=image/png:https://centervillenoonoptimist.com/wp-content/uploads/2023/06/2.0-June-2023.png
END:VEVENT
BEGIN:VEVENT
DTSTART;TZID=America/New_York:20230518T173000
DTEND;TZID=America/New_York:20230518T190000
DTSTAMP:20260423T222853
CREATED:20230419T151647Z
LAST-MODIFIED:20230419T151649Z
UID:10000070-1684431000-1684436400@centervillenoonoptimist.com
SUMMARY:Optimist 2.0 - Bock Family Brewing Networking Event
DESCRIPTION:Join us May 18th as we gather at Bock Family Brewing and see how the Centerville Noon Optimist Club – a world class volunteer organization – makes a difference in local kids’ lives! \n\n\n\n• Join us every Third Thursday at various local social venues for community building\, fun\, and networking• Listen to a guest speaker who will encourage you with their story of success or participate in a fun filled social activity• Learn more about how you can help us help kids in the community \n\n\n\nFor our May Optimist 2.0 meeting we will be at Bock Family Brewing for Speed Networking.  As always\, snacks will be provided. \n\n\n\nNetworking 5:30-6:00Meeting 6:00-6:30Social time 6:30-7:00
URL:https://centervillenoonoptimist.com/event/optimist-2-0-bock-family-brewing-networking-event/
LOCATION:Ohio
CATEGORIES:- CNO 2.0 Meeting,Public
ATTACH;FMTTYPE=image/png:https://centervillenoonoptimist.com/wp-content/uploads/2023/04/2.0-May-2023.png
END:VEVENT
BEGIN:VEVENT
DTSTART;TZID=America/New_York:20230420T173000
DTEND;TZID=America/New_York:20230420T190000
DTSTAMP:20260423T222853
CREATED:20230227T203040Z
LAST-MODIFIED:20230411T034353Z
UID:10000045-1682011800-1682017200@centervillenoonoptimist.com
SUMMARY:Optimist 2.0 - Poelking Lanes VIP Lounge
DESCRIPTION:Join us April 20th as we gather at Poelking Lanes VIP Lounge and see how the Centerville Noon Optimist Club – a world class volunteer organization – makes a difference in local kids’ lives! \n\n\n\n• Join us every Third Thursday at various local social venues for community building\, fun\, and networking• Listen to a guest speaker who will encourage you with their story of success or participate in a fun filled social activity• Learn more about how you can help us help kids in the community \n\n\n\nFor our April Optimist 2.0 meeting we will be in the VIP Lounge of Poelking Lanes for bowling with cornhole on the patio.  As always\, snacks will be provided. \n\n\n\nNetworking 5:30-6:00Meeting 6:00-6:30Social time 6:30-7:00
URL:https://centervillenoonoptimist.com/event/optimist-2-0-poelking-lanes-vip-lounge/
LOCATION:Poelking Lanes South\, 8871 Kingsridge Dr\,\, Dayton\, Ohio\, 45458\, United States
CATEGORIES:- CNO 2.0 Meeting,Public
ATTACH;FMTTYPE=image/png:https://centervillenoonoptimist.com/wp-content/uploads/2023/02/2.0-April-2023.png
END:VEVENT
BEGIN:VEVENT
DTSTART;TZID=America/New_York:20230316T173000
DTEND;TZID=America/New_York:20230316T190000
DTSTAMP:20260423T222853
CREATED:20230227T202335Z
LAST-MODIFIED:20230322T211715Z
UID:10000044-1678987800-1678993200@centervillenoonoptimist.com
SUMMARY:Optimist 2.0 - Loose Ends Brewing March Madness
DESCRIPTION:Join us March 16th as we gather at Loose Ends Brewing and see how the Centerville Noon Optimist Club – a world class volunteer organization – makes a difference in local kids’ lives! \n\n\n\n• Join us every Third Thursday at various local social venues for community building\, fun\, and networking• Listen to a guest speaker who will encourage you with their story of success or participate in a fun filled social activity• Learn more about how you can help us help kids in the community \n\n\n\nFor our March Optimist 2.0 meeting we will be celebrating March Madness at Loose Ends Brewing.  As always\, snacks will be provided. \n\n\n\nNetworking 5:30-6:00Meeting 6:00-6:30Social time 6:30-7:00
URL:https://centervillenoonoptimist.com/event/optimist-2-0-loose-ends-brewing-march-madness/
LOCATION:Loose Ends Brewing\, 890 S Main St\, Centerville\, Centerville\, Ohio\, 45458\, United States
CATEGORIES:- CNO 2.0 Meeting,Public
ATTACH;FMTTYPE=image/png:https://centervillenoonoptimist.com/wp-content/uploads/2023/02/2.0-March-2023-.png
END:VEVENT
BEGIN:VEVENT
DTSTART;TZID=America/New_York:20230216T173000
DTEND;TZID=America/New_York:20230216T190000
DTSTAMP:20260423T222853
CREATED:20230201T184600Z
LAST-MODIFIED:20230228T030415Z
UID:10000020-1676568600-1676574000@centervillenoonoptimist.com
SUMMARY:Optimist 2.0 - Soft Rock Cafe Karoake
DESCRIPTION:Join us February 16th as we gather at Soft Rock Cafe and see how the Centerville Noon Optimist Club – a world class volunteer organization – makes a difference in local kids’ lives! \n\n\n\n• Join us every Third Thursday at various local social venues for community building\, fun\, and networking• Listen to a guest speaker who will encourage you with their story of success or participate in a fun filled social activity• Learn more about how you can help us help kids in the community \n\n\n\nFor our February Optimist 2.0 meeting we will be singing Karoake at Soft Rock Cafe! Come out and choose a song to sing or watch other singers! As always\, snacks will be provided. \n\n\n\nNetworking 5:30-6:00Meeting 6:00-6:30Social time 6:30-7:00
URL:https://centervillenoonoptimist.com/event/optimist-2-0-soft-rock-cafe-karoake/
LOCATION:Soft Rock Cafe\, 877 E Franklin St\,\, Dayton\, Ohio\, 45459
CATEGORIES:- CNO 2.0 Meeting,Public
ATTACH;FMTTYPE=image/jpeg:https://centervillenoonoptimist.com/wp-content/uploads/2023/02/CNO-Photo-August-2022-scaled.jpg
END:VEVENT
END:VCALENDAR