BEGIN:VCALENDAR
VERSION:2.0
PRODID:-//Centerville Noon Optimist - ECPv6.15.20//NONSGML v1.0//EN
CALSCALE:GREGORIAN
METHOD:PUBLISH
X-WR-CALNAME:Centerville Noon Optimist
X-ORIGINAL-URL:https://centervillenoonoptimist.com
X-WR-CALDESC:Events for Centerville Noon Optimist
REFRESH-INTERVAL;VALUE=DURATION:PT1H
X-Robots-Tag:noindex
X-PUBLISHED-TTL:PT1H
BEGIN:VTIMEZONE
TZID:America/New_York
BEGIN:DAYLIGHT
TZOFFSETFROM:-0500
TZOFFSETTO:-0400
TZNAME:EDT
DTSTART:20230312T070000
END:DAYLIGHT
BEGIN:STANDARD
TZOFFSETFROM:-0400
TZOFFSETTO:-0500
TZNAME:EST
DTSTART:20231105T060000
END:STANDARD
BEGIN:DAYLIGHT
TZOFFSETFROM:-0500
TZOFFSETTO:-0400
TZNAME:EDT
DTSTART:20240310T070000
END:DAYLIGHT
BEGIN:STANDARD
TZOFFSETFROM:-0400
TZOFFSETTO:-0500
TZNAME:EST
DTSTART:20241103T060000
END:STANDARD
BEGIN:DAYLIGHT
TZOFFSETFROM:-0500
TZOFFSETTO:-0400
TZNAME:EDT
DTSTART:20250309T070000
END:DAYLIGHT
BEGIN:STANDARD
TZOFFSETFROM:-0400
TZOFFSETTO:-0500
TZNAME:EST
DTSTART:20251102T060000
END:STANDARD
END:VTIMEZONE
BEGIN:VEVENT
DTSTART;TZID=America/New_York:20240503T000000
DTEND;TZID=America/New_York:20240504T235959
DTSTAMP:20260424T215410
CREATED:20240121T221957Z
LAST-MODIFIED:20240405T205842Z
UID:10000196-1714694400-1714867199@centervillenoonoptimist.com
SUMMARY:3rd Quarter Ohio District Conference 2023-24
DESCRIPTION:Join us in Dublin\, Ohio for the 3rd quarter Ohio District Conference and meet Optimist members from Optimist clubs across Ohio. Once again\, we look forward to lots of learning with topics asked for by you\, with fun and camaraderie. This is the time we set aside each quarter to help clubs and members\, like you\, to learn things you didn’t know about Optimism\, International programs\, and our District.  We’d love to have you join us on May 3 – 4 (or for the day May 4th) – especially if you are a first-timer or if you have not been to a District Conference in a while. \n\n\n\nThe Centerville Noon Optimist Club will pay the registration fee for all members who attend the conference but you must register in advance.  When you register\, select “Third Party” as the method of payment. \n\n\n\n\nRegister\n\n\n\nInformation
URL:https://centervillenoonoptimist.com/event/3rd-quarter-ohio-district-conference-2023-24/
LOCATION:Embassy Suites and Conference Center\, 5100 Upper Metro Pl\, Dublin\, Ohio\, 43017\, United States
CATEGORIES:- Ohio District Meeting,Members,Volunteer
ATTACH;FMTTYPE=image/png:https://centervillenoonoptimist.com/wp-content/uploads/2024/01/District-Logo-with-Governor-2023-24.png
END:VEVENT
END:VCALENDAR