BEGIN:VCALENDAR
VERSION:2.0
PRODID:-//Centerville Noon Optimist - ECPv6.15.20//NONSGML v1.0//EN
CALSCALE:GREGORIAN
METHOD:PUBLISH
X-WR-CALNAME:Centerville Noon Optimist
X-ORIGINAL-URL:https://centervillenoonoptimist.com
X-WR-CALDESC:Events for Centerville Noon Optimist
REFRESH-INTERVAL;VALUE=DURATION:PT1H
X-Robots-Tag:noindex
X-PUBLISHED-TTL:PT1H
BEGIN:VTIMEZONE
TZID:America/New_York
BEGIN:DAYLIGHT
TZOFFSETFROM:-0500
TZOFFSETTO:-0400
TZNAME:EDT
DTSTART:20240310T070000
END:DAYLIGHT
BEGIN:STANDARD
TZOFFSETFROM:-0400
TZOFFSETTO:-0500
TZNAME:EST
DTSTART:20241103T060000
END:STANDARD
BEGIN:DAYLIGHT
TZOFFSETFROM:-0500
TZOFFSETTO:-0400
TZNAME:EDT
DTSTART:20250309T070000
END:DAYLIGHT
BEGIN:STANDARD
TZOFFSETFROM:-0400
TZOFFSETTO:-0500
TZNAME:EST
DTSTART:20251102T060000
END:STANDARD
BEGIN:DAYLIGHT
TZOFFSETFROM:-0500
TZOFFSETTO:-0400
TZNAME:EDT
DTSTART:20260308T070000
END:DAYLIGHT
BEGIN:STANDARD
TZOFFSETFROM:-0400
TZOFFSETTO:-0500
TZNAME:EST
DTSTART:20261101T060000
END:STANDARD
END:VTIMEZONE
BEGIN:VEVENT
DTSTART;TZID=America/New_York:20250107T114500
DTEND;TZID=America/New_York:20250107T130000
DTSTAMP:20260424T120512
CREATED:20240921T031920Z
LAST-MODIFIED:20241231T043346Z
UID:10000318-1736250300-1736254800@centervillenoonoptimist.com
SUMMARY:CNO Lunch - Escape from Vietnam
DESCRIPTION:Join us for lunch as our speaker is Luong Pham on his Escape from Vietnam. \n\n\n\nGuests are welcome to attend.
URL:https://centervillenoonoptimist.com/event/cno-lunch-34/
LOCATION:St. Leonard Franciscan Center\, 8200 Provincial Way\, Centerville\, Ohio\, 45458\, United States
CATEGORIES:- CNO Lunch Meeting,Members,Public
ATTACH;FMTTYPE=image/png:https://centervillenoonoptimist.com/wp-content/uploads/2023/10/Club-Photo-2022-Small.png
END:VEVENT
BEGIN:VEVENT
DTSTART;TZID=America/New_York:20250114T114500
DTEND;TZID=America/New_York:20250114T130000
DTSTAMP:20260424T120512
CREATED:20240921T032013Z
LAST-MODIFIED:20241231T043525Z
UID:10000319-1736855100-1736859600@centervillenoonoptimist.com
SUMMARY:CNO Lunch - Dayton Film Festival
DESCRIPTION:Join us for lunch as our speaker is Lisa Grigsby speaking to us about the Dayton Film Festival.. \n\n\n\nGuests are welcome to attend.
URL:https://centervillenoonoptimist.com/event/cno-lunch-35/
LOCATION:Yankee Trace Golf Club\, 10000 Yankee St\,\, Centerville\, 45458
CATEGORIES:- CNO Lunch Meeting,Members,Public
ATTACH;FMTTYPE=image/png:https://centervillenoonoptimist.com/wp-content/uploads/2023/10/Club-Photo-2022-Small.png
END:VEVENT
BEGIN:VEVENT
DTSTART;TZID=America/New_York:20250121T114500
DTEND;TZID=America/New_York:20250121T130000
DTSTAMP:20260424T120512
CREATED:20240921T032040Z
LAST-MODIFIED:20250121T151004Z
UID:10000320-1737459900-1737464400@centervillenoonoptimist.com
SUMMARY:CNO Lunch - Sinclair Centerville Campus
DESCRIPTION:Join us for lunch as our speaker is Latonia Peak-Brown\, Sinclair’s Centerville Campus Director. \n\n\n\nGuests are welcome to attend.
URL:https://centervillenoonoptimist.com/event/cno-lunch-36/
LOCATION:Yankee Trace Golf Club\, 10000 Yankee St\,\, Centerville\, 45458
CATEGORIES:- CNO Lunch Meeting,Members,Public
ATTACH;FMTTYPE=image/png:https://centervillenoonoptimist.com/wp-content/uploads/2023/10/Club-Photo-2022-Small.png
END:VEVENT
BEGIN:VEVENT
DTSTART;TZID=America/New_York:20250128T114500
DTEND;TZID=America/New_York:20250128T130000
DTSTAMP:20260424T120512
CREATED:20240921T032109Z
LAST-MODIFIED:20241231T043704Z
UID:10000321-1738064700-1738069200@centervillenoonoptimist.com
SUMMARY:CNO Lunch - CHS Athletic Director
DESCRIPTION:Join us for lunch as our speaker is Brandon Hon\, the new Athletic Director at CHS. \n\n\n\nGuests are welcome to attend.
URL:https://centervillenoonoptimist.com/event/cno-lunch-37/
LOCATION:Yankee Trace Golf Club\, 10000 Yankee St\,\, Centerville\, 45458
CATEGORIES:- CNO Lunch Meeting,Members,Public
ATTACH;FMTTYPE=image/png:https://centervillenoonoptimist.com/wp-content/uploads/2023/10/Club-Photo-2022-Small.png
END:VEVENT
END:VCALENDAR