BEGIN:VCALENDAR
VERSION:2.0
PRODID:-//Centerville Noon Optimist - ECPv6.15.20//NONSGML v1.0//EN
CALSCALE:GREGORIAN
METHOD:PUBLISH
X-ORIGINAL-URL:https://centervillenoonoptimist.com
X-WR-CALDESC:Events for Centerville Noon Optimist
REFRESH-INTERVAL;VALUE=DURATION:PT1H
X-Robots-Tag:noindex
X-PUBLISHED-TTL:PT1H
BEGIN:VTIMEZONE
TZID:America/New_York
BEGIN:DAYLIGHT
TZOFFSETFROM:-0500
TZOFFSETTO:-0400
TZNAME:EDT
DTSTART:20240310T070000
END:DAYLIGHT
BEGIN:STANDARD
TZOFFSETFROM:-0400
TZOFFSETTO:-0500
TZNAME:EST
DTSTART:20241103T060000
END:STANDARD
BEGIN:DAYLIGHT
TZOFFSETFROM:-0500
TZOFFSETTO:-0400
TZNAME:EDT
DTSTART:20250309T070000
END:DAYLIGHT
BEGIN:STANDARD
TZOFFSETFROM:-0400
TZOFFSETTO:-0500
TZNAME:EST
DTSTART:20251102T060000
END:STANDARD
BEGIN:DAYLIGHT
TZOFFSETFROM:-0500
TZOFFSETTO:-0400
TZNAME:EDT
DTSTART:20260308T070000
END:DAYLIGHT
BEGIN:STANDARD
TZOFFSETFROM:-0400
TZOFFSETTO:-0500
TZNAME:EST
DTSTART:20261101T060000
END:STANDARD
END:VTIMEZONE
BEGIN:VEVENT
DTSTART;TZID=America/New_York:20250902T114500
DTEND;TZID=America/New_York:20250902T130000
DTSTAMP:20260423T220506
CREATED:20250221T225531Z
LAST-MODIFIED:20250825T152609Z
UID:10000410-1756813500-1756818000@centervillenoonoptimist.com
SUMMARY:CNO Lunch - Washington Township RecPlex
DESCRIPTION:Join us for lunch as our speaker is Mark Metzger\, director of Washington Township RecPlex. \n\n\n\nGuests are welcome to attend.
URL:https://centervillenoonoptimist.com/event/cno-lunch-50/
LOCATION:Yankee Trace Golf Club\, 10000 Yankee St\,\, Centerville\, 45458
CATEGORIES:- CNO Lunch Meeting,Members,Public
ATTACH;FMTTYPE=image/png:https://centervillenoonoptimist.com/wp-content/uploads/2023/10/Club-Photo-2022-Small.png
END:VEVENT
BEGIN:VEVENT
DTSTART;TZID=America/New_York:20250909T114500
DTEND;TZID=America/New_York:20250909T130000
DTSTAMP:20260423T220506
CREATED:20250221T225550Z
LAST-MODIFIED:20250902T201626Z
UID:10000411-1757418300-1757422800@centervillenoonoptimist.com
SUMMARY:CNO Lunch - Dementia with Lori Horstman
DESCRIPTION:Join us for lunch as our speaker is Lori Horstman\, talking about Dementia – what it is and how we can support those living with it. \n\n\n\nGuests are welcome to attend.
URL:https://centervillenoonoptimist.com/event/cno-lunch-51/
LOCATION:Yankee Trace Golf Club\, 10000 Yankee St\,\, Centerville\, 45458
CATEGORIES:- CNO Lunch Meeting,Members,Public
ATTACH;FMTTYPE=image/png:https://centervillenoonoptimist.com/wp-content/uploads/2023/10/Club-Photo-2022-Small.png
END:VEVENT
BEGIN:VEVENT
DTSTART;TZID=America/New_York:20250916T114500
DTEND;TZID=America/New_York:20250916T130000
DTSTAMP:20260423T220506
CREATED:20250221T225643Z
LAST-MODIFIED:20250825T152948Z
UID:10000412-1758023100-1758027600@centervillenoonoptimist.com
SUMMARY:CNO Lunch - State of the Club
DESCRIPTION:Join us for lunch as we focus on the state of the club and club activities. \n\n\n\nGuests are welcome to attend.
URL:https://centervillenoonoptimist.com/event/cno-lunch-club-day-14/
LOCATION:Yankee Trace Golf Club\, 10000 Yankee St\,\, Centerville\, 45458
CATEGORIES:- CNO Lunch Meeting,Members,Public
ATTACH;FMTTYPE=image/png:https://centervillenoonoptimist.com/wp-content/uploads/2023/10/Club-Photo-2022-Small.png
END:VEVENT
BEGIN:VEVENT
DTSTART;TZID=America/New_York:20250923T114500
DTEND;TZID=America/New_York:20250923T130000
DTSTAMP:20260423T220506
CREATED:20250221T225710Z
LAST-MODIFIED:20250825T152909Z
UID:10000413-1758627900-1758632400@centervillenoonoptimist.com
SUMMARY:CNO Lunch - Tom Routsong with Voting
DESCRIPTION:Join us for lunch as our speaker will be Tom Routsong to speak about voting.  We will also have the golf outing check presentation to Dayton Children’s Hospital. \n\n\n\nGuests are welcome to attend.
URL:https://centervillenoonoptimist.com/event/cno-lunch-52/
LOCATION:Yankee Trace Golf Club\, 10000 Yankee St\,\, Centerville\, 45458
CATEGORIES:- CNO Lunch Meeting,Members,Public
ATTACH;FMTTYPE=image/png:https://centervillenoonoptimist.com/wp-content/uploads/2023/10/Club-Photo-2022-Small.png
END:VEVENT
BEGIN:VEVENT
DTSTART;TZID=America/New_York:20250930T114500
DTEND;TZID=America/New_York:20250930T130000
DTSTAMP:20260423T220506
CREATED:20250221T225817Z
LAST-MODIFIED:20250408T183116Z
UID:10000414-1759232700-1759237200@centervillenoonoptimist.com
SUMMARY:CNO Lunch - No Meeting (Installation Dinner)
DESCRIPTION:There will be no noon meeting due to the evening Installation Dinner.
URL:https://centervillenoonoptimist.com/event/cno-lunch-no-meeting-10/
LOCATION:Yankee Trace Golf Club\, 10000 Yankee St\,\, Centerville\, 45458
CATEGORIES:- CNO Lunch Meeting,Members,Public
ATTACH;FMTTYPE=image/png:https://centervillenoonoptimist.com/wp-content/uploads/2023/10/Club-Photo-2022-Small.png
END:VEVENT
END:VCALENDAR