BEGIN:VCALENDAR
VERSION:2.0
PRODID:-//Centerville Noon Optimist - ECPv6.15.20//NONSGML v1.0//EN
CALSCALE:GREGORIAN
METHOD:PUBLISH
X-WR-CALNAME:Centerville Noon Optimist
X-ORIGINAL-URL:https://centervillenoonoptimist.com
X-WR-CALDESC:Events for Centerville Noon Optimist
REFRESH-INTERVAL;VALUE=DURATION:PT1H
X-Robots-Tag:noindex
X-PUBLISHED-TTL:PT1H
BEGIN:VTIMEZONE
TZID:America/New_York
BEGIN:DAYLIGHT
TZOFFSETFROM:-0500
TZOFFSETTO:-0400
TZNAME:EDT
DTSTART:20230312T070000
END:DAYLIGHT
BEGIN:STANDARD
TZOFFSETFROM:-0400
TZOFFSETTO:-0500
TZNAME:EST
DTSTART:20231105T060000
END:STANDARD
BEGIN:DAYLIGHT
TZOFFSETFROM:-0500
TZOFFSETTO:-0400
TZNAME:EDT
DTSTART:20240310T070000
END:DAYLIGHT
BEGIN:STANDARD
TZOFFSETFROM:-0400
TZOFFSETTO:-0500
TZNAME:EST
DTSTART:20241103T060000
END:STANDARD
BEGIN:DAYLIGHT
TZOFFSETFROM:-0500
TZOFFSETTO:-0400
TZNAME:EDT
DTSTART:20250309T070000
END:DAYLIGHT
BEGIN:STANDARD
TZOFFSETFROM:-0400
TZOFFSETTO:-0500
TZNAME:EST
DTSTART:20251102T060000
END:STANDARD
END:VTIMEZONE
BEGIN:VEVENT
DTSTART;TZID=America/New_York:20240402T114500
DTEND;TZID=America/New_York:20240402T130000
DTSTAMP:20260424T210904
CREATED:20240121T034219Z
LAST-MODIFIED:20240121T035903Z
UID:10000183-1712058300-1712062800@centervillenoonoptimist.com
SUMMARY:CNO Lunch - Club Day
DESCRIPTION:Join us for lunch as we focus on club activities. \n\n\n\nGuests are welcome to attend.
URL:https://centervillenoonoptimist.com/event/cno-lunch-club-day-8/
LOCATION:Yankee Trace Golf Club\, 10000 Yankee St\,\, Centerville\, 45458
CATEGORIES:- CNO Lunch Meeting,Members,Public
ATTACH;FMTTYPE=image/png:https://centervillenoonoptimist.com/wp-content/uploads/2023/10/Club-Photo-2022-Small.png
END:VEVENT
BEGIN:VEVENT
DTSTART;TZID=America/New_York:20240409T114500
DTEND;TZID=America/New_York:20240409T130000
DTSTAMP:20260424T210904
CREATED:20240121T034406Z
LAST-MODIFIED:20240409T192819Z
UID:10000184-1712663100-1712667600@centervillenoonoptimist.com
SUMMARY:CNO Lunch - Meet the Members
DESCRIPTION:Join us for lunch as we focus on several members of our club. \n\n\n\nGuests are welcome to attend.
URL:https://centervillenoonoptimist.com/event/cno-lunch-15/
LOCATION:Yankee Trace Golf Club\, 10000 Yankee St\,\, Centerville\, 45458
CATEGORIES:- CNO Lunch Meeting,Members,Public
ATTACH;FMTTYPE=image/png:https://centervillenoonoptimist.com/wp-content/uploads/2023/10/Club-Photo-2022-Small.png
END:VEVENT
BEGIN:VEVENT
DTSTART;TZID=America/New_York:20240415T230000
DTEND;TZID=America/New_York:20240415T230000
DTSTAMP:20260424T210904
CREATED:20240313T214823Z
LAST-MODIFIED:20240313T214825Z
UID:10000244-1713222000-1713222000@centervillenoonoptimist.com
SUMMARY:Visual Arts Contest
DESCRIPTION:The Optimist Visual Arts Competition gives the youth we serve another outlet for their creativity! This exciting program is designed to encourage and celebrate youth visual art skills in painting and drawing. The contest will be held at the Centerville Noon Optimist local level and at the International level. \n\n\n\nThe theme for 2024 is: “Hope.” Students may submit either a painting or a drawing. There will be two age divisions for judging. \n\n\n\n1st place will receive $125.00 and teacher will receive $125 for the classroom.  \n\n\n\n2nd place will receive $60.00 and teacher will receive $60 for the classroom.  \n\n\n\n3rd place will receive $25.00 and teacher will receive $25 for the classroom. \n\n\n\nEntries are due no later than April 15\, 2024. \n\n\n\n\nVisual Arts Contest Page
URL:https://centervillenoonoptimist.com/event/visual-arts-contest/
CATEGORIES:Community Event,Members,Public
ATTACH;FMTTYPE=image/png:https://centervillenoonoptimist.com/wp-content/uploads/2024/03/Visual-Arts-Competition.png
END:VEVENT
BEGIN:VEVENT
DTSTART;TZID=America/New_York:20240416T114500
DTEND;TZID=America/New_York:20240416T130000
DTSTAMP:20260424T210904
CREATED:20240121T035017Z
LAST-MODIFIED:20240403T031836Z
UID:10000185-1713267900-1713272400@centervillenoonoptimist.com
SUMMARY:CNO Lunch - Dayton Children's Hospital and "Mamma Mia"
DESCRIPTION:Join us for lunch as our speaker is Dr. Brian Lober from Dayton Children’s Hospital.  We will also host part of the cast of “Mamma Mia” from Centerville High School. \n\n\n\nGuests are welcome to attend.
URL:https://centervillenoonoptimist.com/event/cno-lunch-dayton-childrens-hospital-2/
LOCATION:Yankee Trace Golf Club\, 10000 Yankee St\,\, Centerville\, 45458
CATEGORIES:- CNO Lunch Meeting,Members,Public
ATTACH;FMTTYPE=image/png:https://centervillenoonoptimist.com/wp-content/uploads/2023/10/Club-Photo-2022-Small.png
END:VEVENT
BEGIN:VEVENT
DTSTART;TZID=America/New_York:20240418T173000
DTEND;TZID=America/New_York:20240418T190000
DTSTAMP:20260424T210904
CREATED:20240121T020954Z
LAST-MODIFIED:20240223T014528Z
UID:10000174-1713461400-1713466800@centervillenoonoptimist.com
SUMMARY:Optimist 2.0 - On Par Entertainment
DESCRIPTION:Join us April 18th and see how the Centerville Noon Optimist Club – a world class volunteer organization – makes a difference in local kids’ lives!  This month\, we will be at On Par Entertainment and will be joined by members of the Greene Optimist Club! \n\n\n\n• Join us every Third Thursday at various local social venues for community building\, fun\, and networking• Listen to a guest speaker or participate in a fun filled social activity• Learn more about how you can help us help kids in the community \n\n\n\nAs always\, snacks will be provided. \n\n\n\nNetworking 5:30-6:00Meeting 6:00-6:30Social time 6:30-7:00
URL:https://centervillenoonoptimist.com/event/optimist-2-0-on-par-entertainment/
LOCATION:On Par Entertainment\, 4464 Indian Ripple Rd\, Beavercreek\, Ohio\, 45440\, United States
CATEGORIES:- CNO 2.0 Meeting,Members,Public
ATTACH;FMTTYPE=image/png:https://centervillenoonoptimist.com/wp-content/uploads/2024/01/2.0-April-2024-Website-1.png
END:VEVENT
BEGIN:VEVENT
DTSTART;TZID=America/New_York:20240423T114500
DTEND;TZID=America/New_York:20240423T130000
DTSTAMP:20260424T210904
CREATED:20240121T035108Z
LAST-MODIFIED:20240409T192858Z
UID:10000186-1713872700-1713877200@centervillenoonoptimist.com
SUMMARY:CNO Lunch - Big Brothers\, Big Sisters
DESCRIPTION:Join us for lunch as our speakers are Chris Mackey and Chad Lovins with Big Brothers\, Big Sisters. \n\n\n\nGuests are welcome to attend.
URL:https://centervillenoonoptimist.com/event/cno-lunch-16/
LOCATION:Yankee Trace Golf Club\, 10000 Yankee St\,\, Centerville\, 45458
CATEGORIES:- CNO Lunch Meeting,Members,Public
ATTACH;FMTTYPE=image/png:https://centervillenoonoptimist.com/wp-content/uploads/2023/10/Club-Photo-2022-Small.png
END:VEVENT
BEGIN:VEVENT
DTSTART;TZID=America/New_York:20240430T114500
DTEND;TZID=America/New_York:20240430T130000
DTSTAMP:20260424T210904
CREATED:20240121T035135Z
LAST-MODIFIED:20240121T035137Z
UID:10000187-1714477500-1714482000@centervillenoonoptimist.com
SUMMARY:CNO Lunch
DESCRIPTION:Join us for lunch. \n\n\n\nGuests are welcome to attend.
URL:https://centervillenoonoptimist.com/event/cno-lunch-17/
LOCATION:Yankee Trace Golf Club\, 10000 Yankee St\,\, Centerville\, 45458
CATEGORIES:- CNO Lunch Meeting,Members,Public
ATTACH;FMTTYPE=image/png:https://centervillenoonoptimist.com/wp-content/uploads/2023/10/Club-Photo-2022-Small.png
END:VEVENT
END:VCALENDAR