BEGIN:VCALENDAR
VERSION:2.0
PRODID:-//Centerville Noon Optimist - ECPv6.15.20//NONSGML v1.0//EN
CALSCALE:GREGORIAN
METHOD:PUBLISH
X-ORIGINAL-URL:https://centervillenoonoptimist.com
X-WR-CALDESC:Events for Centerville Noon Optimist
REFRESH-INTERVAL;VALUE=DURATION:PT1H
X-Robots-Tag:noindex
X-PUBLISHED-TTL:PT1H
BEGIN:VTIMEZONE
TZID:America/New_York
BEGIN:DAYLIGHT
TZOFFSETFROM:-0500
TZOFFSETTO:-0400
TZNAME:EDT
DTSTART:20240310T070000
END:DAYLIGHT
BEGIN:STANDARD
TZOFFSETFROM:-0400
TZOFFSETTO:-0500
TZNAME:EST
DTSTART:20241103T060000
END:STANDARD
BEGIN:DAYLIGHT
TZOFFSETFROM:-0500
TZOFFSETTO:-0400
TZNAME:EDT
DTSTART:20250309T070000
END:DAYLIGHT
BEGIN:STANDARD
TZOFFSETFROM:-0400
TZOFFSETTO:-0500
TZNAME:EST
DTSTART:20251102T060000
END:STANDARD
BEGIN:DAYLIGHT
TZOFFSETFROM:-0500
TZOFFSETTO:-0400
TZNAME:EDT
DTSTART:20260308T070000
END:DAYLIGHT
BEGIN:STANDARD
TZOFFSETFROM:-0400
TZOFFSETTO:-0500
TZNAME:EST
DTSTART:20261101T060000
END:STANDARD
END:VTIMEZONE
BEGIN:VEVENT
DTSTART;TZID=America/New_York:20250201T000000
DTEND;TZID=America/New_York:20250201T235959
DTSTAMP:20260424T040147
CREATED:20240928T002841Z
LAST-MODIFIED:20250116T194129Z
UID:10000331-1738368000-1738454399@centervillenoonoptimist.com
SUMMARY:Essay Contest Entry Deadline
DESCRIPTION:Boys and girls under the age of 19 are invited to submit an essay on a pre-assigned topic during the months of October\, November\, December\, and January each year. One winner will advance to finals at the district for a chance to win a $3\,500 scholarship. The Essay Contest is sponsored jointly by Centerville Noon Optimist Club and South Metro Optimist Club of Centerville to give young people the opportunity to write about their own opinions regarding the world in which we live.  \n\n\n\nThe Official 2024-2025 Optimist International Essay Contest Topic is: “How Optimism Has Paved My Road to Success” \n\n\n\nPrizes will be as follows: 1st place $500.00\, 2nd place $250.00\, 3rd place $100.00. \n\n\n\nEntries are due no later than February 1\, 2025. \n\n\n\nFor more information\, visit our Essay Contest Page: \n\n\n\n\nEssay Contest Page
URL:https://centervillenoonoptimist.com/event/essay-contest/
CATEGORIES:Community Event,Members,Public,Youth Contest
ATTACH;FMTTYPE=image/png:https://centervillenoonoptimist.com/wp-content/uploads/2023/10/Essay-Contest.png
END:VEVENT
BEGIN:VEVENT
DTSTART;TZID=America/New_York:20250204T114500
DTEND;TZID=America/New_York:20250204T130000
DTSTAMP:20260424T040147
CREATED:20240921T032215Z
LAST-MODIFIED:20241231T040909Z
UID:10000322-1738669500-1738674000@centervillenoonoptimist.com
SUMMARY:CNO Lunch - Club Day
DESCRIPTION:Join us for lunch as we focus on club activities. \n\n\n\nGuests are welcome to attend.
URL:https://centervillenoonoptimist.com/event/cno-lunch-oratorical-contest-5/
LOCATION:Yankee Trace Golf Club\, 10000 Yankee St\,\, Centerville\, 45458
CATEGORIES:- CNO Lunch Meeting,Members,Public
ATTACH;FMTTYPE=image/png:https://centervillenoonoptimist.com/wp-content/uploads/2023/10/Club-Photo-2022-Small.png
END:VEVENT
BEGIN:VEVENT
DTSTART;TZID=America/New_York:20250211T114500
DTEND;TZID=America/New_York:20250211T130000
DTSTAMP:20260424T040147
CREATED:20240921T032341Z
LAST-MODIFIED:20241231T041048Z
UID:10000323-1739274300-1739278800@centervillenoonoptimist.com
SUMMARY:CNO Lunch - Oratorical Contest
DESCRIPTION:Join us for lunch as we host the first day of our Oratorical Contest. \n\n\n\nGuests are welcome to attend.
URL:https://centervillenoonoptimist.com/event/cno-lunch-oratorical-contest-6/
LOCATION:Yankee Trace Golf Club\, 10000 Yankee St\,\, Centerville\, 45458
CATEGORIES:- CNO Lunch Meeting,Members,Public
ATTACH;FMTTYPE=image/png:https://centervillenoonoptimist.com/wp-content/uploads/2023/10/Club-Photo-2022-Small.png
END:VEVENT
BEGIN:VEVENT
DTSTART;TZID=America/New_York:20250218T114500
DTEND;TZID=America/New_York:20250218T130000
DTSTAMP:20260424T040147
CREATED:20240921T032446Z
LAST-MODIFIED:20241231T041012Z
UID:10000324-1739879100-1739883600@centervillenoonoptimist.com
SUMMARY:CNO Lunch - Oratorical Contest
DESCRIPTION:Join us for lunch as we host the second day of our Oratorical Contest \n\n\n\nGuests are welcome to attend.
URL:https://centervillenoonoptimist.com/event/cno-lunch-club-day-12/
LOCATION:Yankee Trace Golf Club\, 10000 Yankee St\,\, Centerville\, 45458
CATEGORIES:- CNO Lunch Meeting,Members,Public
ATTACH;FMTTYPE=image/png:https://centervillenoonoptimist.com/wp-content/uploads/2023/10/Club-Photo-2022-Small.png
END:VEVENT
BEGIN:VEVENT
DTSTART;TZID=America/New_York:20250220T173000
DTEND;TZID=America/New_York:20250220T190000
DTSTAMP:20260424T040147
CREATED:20241231T042003Z
LAST-MODIFIED:20241231T042006Z
UID:10000362-1740072600-1740078000@centervillenoonoptimist.com
SUMMARY:Optimist 2.0 - Zink's - Wine Tasting
DESCRIPTION:Join us February 20th and see how the Centerville Noon Optimist Club – a world class volunteer organization – makes a difference in local kids’ lives! This month we will be at Zink’s Meats and Fine Wines for Wine Tasting. \n\n\n\n• Join us every Third Thursday at various local social venues for community building\, fun\, and networking• Listen to a guest speaker or participate in a fun filled social activity• Learn more about how you can help us help kids in the community \n\n\n\nWine flights will be available to purchase. As always\, snacks will be provided. \n\n\n\nNetworking 5:30-6:00Meeting 6:00-6:30Social time 6:30-7:00
URL:https://centervillenoonoptimist.com/event/optimist-2-0-zinks-wine-tasting-2/
LOCATION:Zinks Meats and Fine Wines\, 409 Miamisburg Centerville Rd\, Dayton\, Ohio\, 45459\, United States
CATEGORIES:- CNO 2.0 Meeting,Members,Public
ATTACH;FMTTYPE=image/png:https://centervillenoonoptimist.com/wp-content/uploads/2023/08/2.0-September-2023.png
END:VEVENT
BEGIN:VEVENT
DTSTART;TZID=America/New_York:20250222T230000
DTEND;TZID=America/New_York:20250222T230000
DTSTAMP:20260424T040147
CREATED:20250113T203408Z
LAST-MODIFIED:20250129T165157Z
UID:10000366-1740265200-1740265200@centervillenoonoptimist.com
SUMMARY:Visual Arts Contest
DESCRIPTION:The Optimist Visual Arts Competition gives the youth we serve another outlet for their creativity! This exciting program is designed to encourage and celebrate youth visual art skills in painting and drawing. The contest will be held at the Centerville Noon Optimist local level and at the International level. \n\n\n\nThe theme for 2024 is: “Bringing Out the Best.” Students may submit either a painting or a drawing. There will be two age divisions for judging. \n\n\n\n1st place will receive $125.00 and teacher will receive $125 for the classroom.  \n\n\n\n2nd place will receive $60.00 and teacher will receive $60 for the classroom.  \n\n\n\n3rd place will receive $25.00 and teacher will receive $25 for the classroom. \n\n\n\nEntries are due no later than February 22\, 2025. \n\n\n\n\nVisual Arts Contest Page
URL:https://centervillenoonoptimist.com/event/visual-arts-contest-2/
CATEGORIES:Community Event,Members,Public,Youth Contest
ATTACH;FMTTYPE=image/png:https://centervillenoonoptimist.com/wp-content/uploads/2024/03/Visual-Arts-Competition.png
END:VEVENT
BEGIN:VEVENT
DTSTART;TZID=America/New_York:20250225T114500
DTEND;TZID=America/New_York:20250225T130000
DTSTAMP:20260424T040147
CREATED:20240921T032602Z
LAST-MODIFIED:20250219T152326Z
UID:10000325-1740483900-1740488400@centervillenoonoptimist.com
SUMMARY:CNO Lunch - Magician Matt Stanley
DESCRIPTION:Join us for lunch as we will be entertained by Magician Matt Stanley. \n\n\n\nGuests are welcome to attend.
URL:https://centervillenoonoptimist.com/event/cno-lunch-38/
LOCATION:Yankee Trace Golf Club\, 10000 Yankee St\,\, Centerville\, 45458
CATEGORIES:- CNO Lunch Meeting,Members,Public
ATTACH;FMTTYPE=image/png:https://centervillenoonoptimist.com/wp-content/uploads/2023/10/Club-Photo-2022-Small.png
END:VEVENT
END:VCALENDAR