BEGIN:VCALENDAR
VERSION:2.0
PRODID:-//Centerville Noon Optimist - ECPv6.15.20//NONSGML v1.0//EN
CALSCALE:GREGORIAN
METHOD:PUBLISH
X-ORIGINAL-URL:https://centervillenoonoptimist.com
X-WR-CALDESC:Events for Centerville Noon Optimist
REFRESH-INTERVAL;VALUE=DURATION:PT1H
X-Robots-Tag:noindex
X-PUBLISHED-TTL:PT1H
BEGIN:VTIMEZONE
TZID:America/New_York
BEGIN:DAYLIGHT
TZOFFSETFROM:-0500
TZOFFSETTO:-0400
TZNAME:EDT
DTSTART:20240310T070000
END:DAYLIGHT
BEGIN:STANDARD
TZOFFSETFROM:-0400
TZOFFSETTO:-0500
TZNAME:EST
DTSTART:20241103T060000
END:STANDARD
BEGIN:DAYLIGHT
TZOFFSETFROM:-0500
TZOFFSETTO:-0400
TZNAME:EDT
DTSTART:20250309T070000
END:DAYLIGHT
BEGIN:STANDARD
TZOFFSETFROM:-0400
TZOFFSETTO:-0500
TZNAME:EST
DTSTART:20251102T060000
END:STANDARD
BEGIN:DAYLIGHT
TZOFFSETFROM:-0500
TZOFFSETTO:-0400
TZNAME:EDT
DTSTART:20260308T070000
END:DAYLIGHT
BEGIN:STANDARD
TZOFFSETFROM:-0400
TZOFFSETTO:-0500
TZNAME:EST
DTSTART:20261101T060000
END:STANDARD
END:VTIMEZONE
BEGIN:VEVENT
DTSTART;TZID=America/New_York:20250506T114500
DTEND;TZID=America/New_York:20250506T130000
DTSTAMP:20260423T233146
CREATED:20250221T222310Z
LAST-MODIFIED:20250417T032524Z
UID:10000393-1746531900-1746536400@centervillenoonoptimist.com
SUMMARY:CNO Lunch - Avenue of Flags Kickoff and Photography Contest Winners
DESCRIPTION:Join us for lunch as our speakers are the AOF team with the Avenue of Flags Kickoff Presentation.  We will also host the winners of the Photography Contest. \n\n\n\nGuests are welcome to attend.
URL:https://centervillenoonoptimist.com/event/cno-lunch-avenue-of-flags-kickoff/
LOCATION:Yankee Trace Golf Club\, 10000 Yankee St\,\, Centerville\, 45458
CATEGORIES:- CNO Lunch Meeting,Members,Public
ATTACH;FMTTYPE=image/png:https://centervillenoonoptimist.com/wp-content/uploads/2023/10/Club-Photo-2022-Small.png
END:VEVENT
BEGIN:VEVENT
DTSTART;TZID=America/New_York:20250507T183000
DTEND;TZID=America/New_York:20250507T193000
DTSTAMP:20260423T233146
CREATED:20250205T031648Z
LAST-MODIFIED:20250211T193633Z
UID:10000376-1746642600-1746646200@centervillenoonoptimist.com
SUMMARY:Centerville/Washington Township's Got Talent FINALE
DESCRIPTION:Come out and view youth talent at the 5th Annual Centerville/Washington Township’s GOT TALENT contest sponsored by the Centerville Noon Optimist Club. \n\n\n\nAn in-person FINALE of the top 10 chosen acts will be held at Centerville High School in the Central Theater on May 7th\, 2025 at 6:30 pm. Doors open at 6:00pm. \n\n\n\nPrizes:$500 1st Place$250 2nd Place$100 3rd Place \n\n\n\n \n\n\n\n\nGOT TALENT Event Page
URL:https://centervillenoonoptimist.com/event/centerville-washington-townships-got-talent-finale-3/
LOCATION:Centerville High School Central Theater\, 500 E Franklin St\, Centerville\, 45459
CATEGORIES:Community Event,Members,Public,Youth Contest
ATTACH;FMTTYPE=image/png:https://centervillenoonoptimist.com/wp-content/uploads/2025/02/Got-Talent-2025-logo.png
END:VEVENT
BEGIN:VEVENT
DTSTART;TZID=America/New_York:20250513T114500
DTEND;TZID=America/New_York:20250513T130000
DTSTAMP:20260423T233146
CREATED:20250221T223935Z
LAST-MODIFIED:20250221T223939Z
UID:10000394-1747136700-1747141200@centervillenoonoptimist.com
SUMMARY:CNO Lunch - John Kalaman Respect for Law
DESCRIPTION:Join us for lunch as hold our John Kalaman Respect for Law Awards Presentation. \n\n\n\nGuests are welcome to attend.
URL:https://centervillenoonoptimist.com/event/cno-lunch-john-kalaman-respect-for-law/
LOCATION:Yankee Trace Golf Club\, 10000 Yankee St\,\, Centerville\, 45458
CATEGORIES:- CNO Lunch Meeting,Members,Public
ATTACH;FMTTYPE=image/png:https://centervillenoonoptimist.com/wp-content/uploads/2023/10/Club-Photo-2022-Small.png
END:VEVENT
BEGIN:VEVENT
DTSTART;TZID=America/New_York:20250515T173000
DTEND;TZID=America/New_York:20250515T190000
DTSTAMP:20260423T233146
CREATED:20250414T194817Z
LAST-MODIFIED:20250414T194819Z
UID:10000441-1747330200-1747335600@centervillenoonoptimist.com
SUMMARY:Optimist 2.0 - Chappy's Social House - Trivia
DESCRIPTION:Join us and see how the Centerville Noon Optimist Club – a world class volunteer organization – makes a difference in local kids’ lives! This month\, we will be at Chappy’s Social House for a night of trivia!  \n\n\n\n• Join us every Third Thursday at various local social venues for community building\, fun\, and networking• Listen to a guest speaker or participate in a fun filled social activity• Learn more about how you can help us help kids in the community \n\n\n\nAs always\, snacks will be provided. \n\n\n\nNetworking 5:30-6:00Meeting 6:00-6:30Social time 6:30-7:00
URL:https://centervillenoonoptimist.com/event/optimist-2-0-chappys-social-house-trivia/
LOCATION:Chappy’s Social House\, 7880 Washington Village Dr\, Dayton\, Ohio\, 45459\, United States
CATEGORIES:- CNO 2.0 Meeting,Members,Public
ATTACH;FMTTYPE=image/png:https://centervillenoonoptimist.com/wp-content/uploads/2023/10/2.0-November-2023.png
END:VEVENT
BEGIN:VEVENT
DTSTART;TZID=America/New_York:20250518T120000
DTEND;TZID=America/New_York:20250518T140000
DTSTAMP:20260423T233146
CREATED:20250116T023733Z
LAST-MODIFIED:20250402T205851Z
UID:10000351-1747569600-1747576800@centervillenoonoptimist.com
SUMMARY:Safety on Wheels
DESCRIPTION:Join us at Forest Field Park as the Noon Optimist Club of Centerville\, in combination with the Centerville-Washington Park District\, the Centerville Police Department and Bike Centerville\, would like to promote youth bicycle safety in the community by sponsoring their Free Safety on Wheels Bike Rodeo. \n\n\n\nChildren of all ages are encouraged to attend and bring their bicycles. In cooperation with the Centerville Police Department and Bike Centerville\, bikes will be given a pre-safety check before kids ride the fun obstacle course! \n\n\n\nBicycle helmet fittings will be available and free bicycle helmets will be available. \n\n\n\nThere will be raffle prizes\, including new bicycles\, given out throughout the event. \n\n\n\n\nSafety on Wheels Event Page
URL:https://centervillenoonoptimist.com/event/safety-on-wheels-3/
LOCATION:Forest Field Park\, 2100 E Centerville Station Rd\, Washington Township\, Ohio\, 45458\, United States
CATEGORIES:Community Event,Members,Public
ATTACH;FMTTYPE=image/png:https://centervillenoonoptimist.com/wp-content/uploads/2025/04/Safety-on-Wheels-2025-Website.png
END:VEVENT
BEGIN:VEVENT
DTSTART;TZID=America/New_York:20250520T114500
DTEND;TZID=America/New_York:20250520T130000
DTSTAMP:20260423T233146
CREATED:20250221T224042Z
LAST-MODIFIED:20250221T224046Z
UID:10000395-1747741500-1747746000@centervillenoonoptimist.com
SUMMARY:CNO Lunch - Larry Hansgen
DESCRIPTION:Join us for lunch as our speaker is Larry Hansgen. \n\n\n\nGuests are welcome to attend.
URL:https://centervillenoonoptimist.com/event/cno-lunch-larry-hansgen/
LOCATION:Yankee Trace Golf Club\, 10000 Yankee St\,\, Centerville\, 45458
CATEGORIES:- CNO Lunch Meeting,Members,Public
ATTACH;FMTTYPE=image/png:https://centervillenoonoptimist.com/wp-content/uploads/2023/10/Club-Photo-2022-Small.png
END:VEVENT
BEGIN:VEVENT
DTSTART;TZID=America/New_York:20250527T114500
DTEND;TZID=America/New_York:20250527T130000
DTSTAMP:20260423T233146
CREATED:20250221T224139Z
LAST-MODIFIED:20250221T224142Z
UID:10000396-1748346300-1748350800@centervillenoonoptimist.com
SUMMARY:CNO Lunch - No Meeting
DESCRIPTION:There will be no noon meeting.
URL:https://centervillenoonoptimist.com/event/cno-lunch-no-meeting-9/
LOCATION:Yankee Trace Golf Club\, 10000 Yankee St\,\, Centerville\, 45458
CATEGORIES:- CNO Lunch Meeting,Members,Public
ATTACH;FMTTYPE=image/png:https://centervillenoonoptimist.com/wp-content/uploads/2023/10/Club-Photo-2022-Small.png
END:VEVENT
END:VCALENDAR