BEGIN:VCALENDAR
VERSION:2.0
PRODID:-//Centerville Noon Optimist - ECPv6.15.20//NONSGML v1.0//EN
CALSCALE:GREGORIAN
METHOD:PUBLISH
X-ORIGINAL-URL:https://centervillenoonoptimist.com
X-WR-CALDESC:Events for Centerville Noon Optimist
REFRESH-INTERVAL;VALUE=DURATION:PT1H
X-Robots-Tag:noindex
X-PUBLISHED-TTL:PT1H
BEGIN:VTIMEZONE
TZID:America/New_York
BEGIN:DAYLIGHT
TZOFFSETFROM:-0500
TZOFFSETTO:-0400
TZNAME:EDT
DTSTART:20240310T070000
END:DAYLIGHT
BEGIN:STANDARD
TZOFFSETFROM:-0400
TZOFFSETTO:-0500
TZNAME:EST
DTSTART:20241103T060000
END:STANDARD
BEGIN:DAYLIGHT
TZOFFSETFROM:-0500
TZOFFSETTO:-0400
TZNAME:EDT
DTSTART:20250309T070000
END:DAYLIGHT
BEGIN:STANDARD
TZOFFSETFROM:-0400
TZOFFSETTO:-0500
TZNAME:EST
DTSTART:20251102T060000
END:STANDARD
BEGIN:DAYLIGHT
TZOFFSETFROM:-0500
TZOFFSETTO:-0400
TZNAME:EDT
DTSTART:20260308T070000
END:DAYLIGHT
BEGIN:STANDARD
TZOFFSETFROM:-0400
TZOFFSETTO:-0500
TZNAME:EST
DTSTART:20261101T060000
END:STANDARD
END:VTIMEZONE
BEGIN:VEVENT
DTSTART;TZID=America/New_York:20251202T114500
DTEND;TZID=America/New_York:20251202T130000
DTSTAMP:20260422T233817
CREATED:20250915T032125Z
LAST-MODIFIED:20250915T032128Z
UID:10000479-1764675900-1764680400@centervillenoonoptimist.com
SUMMARY:CNO Lunch - Youth Appreciation Awards
DESCRIPTION:Join us for lunch as we present the Youth Appreciation Awards. \n\n\n\nGuests are welcome to attend.
URL:https://centervillenoonoptimist.com/event/cno-lunch-youth-appreciation-awards/
LOCATION:Yankee Trace Golf Club\, 10000 Yankee St\,\, Centerville\, 45458
CATEGORIES:- CNO Lunch Meeting,Members,Public
ATTACH;FMTTYPE=image/png:https://centervillenoonoptimist.com/wp-content/uploads/2023/10/Club-Photo-2022-Small.png
END:VEVENT
BEGIN:VEVENT
DTSTART;TZID=America/New_York:20251209T114500
DTEND;TZID=America/New_York:20251209T130000
DTSTAMP:20260422T233817
CREATED:20250915T032347Z
LAST-MODIFIED:20250915T032350Z
UID:10000481-1765280700-1765285200@centervillenoonoptimist.com
SUMMARY:CNO Lunch - No Meeting (Holiday Dinner)
DESCRIPTION:There will be no noon meeting due to the evening Holiday Dinner.
URL:https://centervillenoonoptimist.com/event/cno-lunch-no-meeting-holiday-dinner-2/
LOCATION:Yankee Trace Golf Club\, 10000 Yankee St\,\, Centerville\, 45458
CATEGORIES:- CNO Lunch Meeting,Members,Public
ATTACH;FMTTYPE=image/png:https://centervillenoonoptimist.com/wp-content/uploads/2023/10/Club-Photo-2022-Small.png
END:VEVENT
BEGIN:VEVENT
DTSTART;TZID=America/New_York:20251216T114500
DTEND;TZID=America/New_York:20251216T130000
DTSTAMP:20260422T233817
CREATED:20250915T032230Z
LAST-MODIFIED:20251208T192301Z
UID:10000480-1765885500-1765890000@centervillenoonoptimist.com
SUMMARY:CNO Lunch - John Condit (Documentary about Eric Show)
DESCRIPTION:Join us for lunch as our speaker is John Condit\, speaking on the documentary about Eric Show.  Eric Show was the San Diego Padres pitcher who gave up the historic 4192nd hit to Pete Rose. \n\n\n\nGuests are welcome to attend.
URL:https://centervillenoonoptimist.com/event/cno-lunch-56/
LOCATION:Yankee Trace Golf Club\, 10000 Yankee St\,\, Centerville\, 45458
CATEGORIES:- CNO Lunch Meeting,Members,Public
ATTACH;FMTTYPE=image/png:https://centervillenoonoptimist.com/wp-content/uploads/2023/10/Club-Photo-2022-Small.png
END:VEVENT
BEGIN:VEVENT
DTSTART;TZID=America/New_York:20251223T114500
DTEND;TZID=America/New_York:20251223T130000
DTSTAMP:20260422T233817
CREATED:20250915T032504Z
LAST-MODIFIED:20250915T032507Z
UID:10000482-1766490300-1766494800@centervillenoonoptimist.com
SUMMARY:CNO Lunch - No Meeting
DESCRIPTION:There will be no noon meeting.
URL:https://centervillenoonoptimist.com/event/cno-lunch-no-meeting-11/
LOCATION:Yankee Trace Golf Club\, 10000 Yankee St\,\, Centerville\, 45458
CATEGORIES:- CNO Lunch Meeting,Members,Public
ATTACH;FMTTYPE=image/png:https://centervillenoonoptimist.com/wp-content/uploads/2023/10/Club-Photo-2022-Small.png
END:VEVENT
BEGIN:VEVENT
DTSTART;TZID=America/New_York:20251230T114500
DTEND;TZID=America/New_York:20251230T130000
DTSTAMP:20260422T233817
CREATED:20250915T032536Z
LAST-MODIFIED:20250915T032537Z
UID:10000483-1767095100-1767099600@centervillenoonoptimist.com
SUMMARY:CNO Lunch - No Meeting
DESCRIPTION:There will be no noon meeting.
URL:https://centervillenoonoptimist.com/event/cno-lunch-no-meeting-12/
LOCATION:Yankee Trace Golf Club\, 10000 Yankee St\,\, Centerville\, 45458
CATEGORIES:- CNO Lunch Meeting,Members,Public
ATTACH;FMTTYPE=image/png:https://centervillenoonoptimist.com/wp-content/uploads/2023/10/Club-Photo-2022-Small.png
END:VEVENT
END:VCALENDAR