BEGIN:VCALENDAR
VERSION:2.0
PRODID:-//Centerville Noon Optimist - ECPv6.15.20//NONSGML v1.0//EN
CALSCALE:GREGORIAN
METHOD:PUBLISH
X-WR-CALNAME:Centerville Noon Optimist
X-ORIGINAL-URL:https://centervillenoonoptimist.com
X-WR-CALDESC:Events for Centerville Noon Optimist
REFRESH-INTERVAL;VALUE=DURATION:PT1H
X-Robots-Tag:noindex
X-PUBLISHED-TTL:PT1H
BEGIN:VTIMEZONE
TZID:America/New_York
BEGIN:DAYLIGHT
TZOFFSETFROM:-0500
TZOFFSETTO:-0400
TZNAME:EDT
DTSTART:20250309T070000
END:DAYLIGHT
BEGIN:STANDARD
TZOFFSETFROM:-0400
TZOFFSETTO:-0500
TZNAME:EST
DTSTART:20251102T060000
END:STANDARD
BEGIN:DAYLIGHT
TZOFFSETFROM:-0500
TZOFFSETTO:-0400
TZNAME:EDT
DTSTART:20260308T070000
END:DAYLIGHT
BEGIN:STANDARD
TZOFFSETFROM:-0400
TZOFFSETTO:-0500
TZNAME:EST
DTSTART:20261101T060000
END:STANDARD
BEGIN:DAYLIGHT
TZOFFSETFROM:-0500
TZOFFSETTO:-0400
TZNAME:EDT
DTSTART:20270314T070000
END:DAYLIGHT
BEGIN:STANDARD
TZOFFSETFROM:-0400
TZOFFSETTO:-0500
TZNAME:EST
DTSTART:20271107T060000
END:STANDARD
END:VTIMEZONE
BEGIN:VEVENT
DTSTART;TZID=America/New_York:20260106T114500
DTEND;TZID=America/New_York:20260106T130000
DTSTAMP:20260422T195048
CREATED:20251112T044632Z
LAST-MODIFIED:20251208T192518Z
UID:10000497-1767699900-1767704400@centervillenoonoptimist.com
SUMMARY:CNO Lunch - Offsite Meeting - Club Day
DESCRIPTION:Join us for lunch as we focus on club activities.  Note that this lunch will take place at St. Leonard’s instead of Yankee Trace. \n\n\n\nGuests are welcome to attend.
URL:https://centervillenoonoptimist.com/event/cno-lunch-57/
LOCATION:St. Leonard Franciscan Center\, 8200 Provincial Way\, Centerville\, Ohio\, 45458\, United States
CATEGORIES:- CNO Lunch Meeting,Members,Public
ATTACH;FMTTYPE=image/png:https://centervillenoonoptimist.com/wp-content/uploads/2023/10/Club-Photo-2022-Small.png
END:VEVENT
BEGIN:VEVENT
DTSTART;TZID=America/New_York:20260109T000000
DTEND;TZID=America/New_York:20260109T235900
DTSTAMP:20260422T195048
CREATED:20250929T031829Z
LAST-MODIFIED:20251030T202032Z
UID:10000484-1767916800-1768003140@centervillenoonoptimist.com
SUMMARY:Oratorical Contest Entry Deadline
DESCRIPTION:This contest provides an excellent opportunity for students to develop important public speaking skills.   \n\n\n\nThe topic for 2026\, determined by Optimist International\, is “The Moment I Realized I Belonged—My Definition of Community.” \n\n\n\nContestants prepare and deliver a speech between four and five minutes in length on the assigned topic at 6pm at Woodbourne Library. The winner on each contest date will receive a cash prize of $500 and will advance to the regional contest. The winner at the District level will receive a scholarship of $3500. \n\n\n\nEntries are due no later than January 9\, 2026. \n\n\n\nVisit our Oratorical Contest Page for more information: \n\n\n\n\nOratorical Contest Page
URL:https://centervillenoonoptimist.com/event/oratorical-contest-entry-deadline/
CATEGORIES:Community Event,Members,Public,Youth Contest
ATTACH;FMTTYPE=image/png:https://centervillenoonoptimist.com/wp-content/uploads/2025/09/Oratorical-2026-1.png
END:VEVENT
BEGIN:VEVENT
DTSTART;TZID=America/New_York:20260113T114500
DTEND;TZID=America/New_York:20260113T130000
DTSTAMP:20260422T195048
CREATED:20251112T044753Z
LAST-MODIFIED:20251227T184134Z
UID:10000498-1768304700-1768309200@centervillenoonoptimist.com
SUMMARY:CNO Lunch - Montgomery County Environmental Learning Center
DESCRIPTION:Join us for lunch as our speaker is Lorelei Hagans with the Montgomery County Environmental Learning Center. \n\n\n\nGuests are welcome to attend.
URL:https://centervillenoonoptimist.com/event/cno-lunch-58/
LOCATION:Yankee Trace Golf Club\, 10000 Yankee St\,\, Centerville\, 45458
CATEGORIES:- CNO Lunch Meeting,Members,Public
ATTACH;FMTTYPE=image/png:https://centervillenoonoptimist.com/wp-content/uploads/2023/10/Club-Photo-2022-Small.png
END:VEVENT
BEGIN:VEVENT
DTSTART;TZID=America/New_York:20260115T173000
DTEND;TZID=America/New_York:20260115T190000
DTSTAMP:20260422T195048
CREATED:20251112T043917Z
LAST-MODIFIED:20251112T043919Z
UID:10000495-1768498200-1768503600@centervillenoonoptimist.com
SUMMARY:Optimist 2.0 - Chappy's Social House - Club Day
DESCRIPTION:Join us and see how the Centerville Noon Optimist Club – a world class volunteer organization – makes a difference in local kids’ lives! This month\, we will be at Chappy’s Social House! We will host a club day\, with information on many of our club activities. \n\n\n\n• Join us every Third Thursday at various local social venues for community building\, fun\, and networking• Listen to a guest speaker or participate in a fun filled social activity• Learn more about how you can help us help kids in the community \n\n\n\nAs always\, snacks will be provided.  \n\n\n\nNetworking 5:30-6:00Meeting 6:00-6:30Social time 6:30-7:00
URL:https://centervillenoonoptimist.com/event/optimist-2-0-chappys-social-house-club-day/
LOCATION:Chappy’s Social House\, 7880 Washington Village Dr\, Dayton\, Ohio\, 45459\, United States
CATEGORIES:- CNO 2.0 Meeting,Members,Public
ATTACH;FMTTYPE=image/png:https://centervillenoonoptimist.com/wp-content/uploads/2023/10/2.0-November-2023.png
END:VEVENT
BEGIN:VEVENT
DTSTART;TZID=America/New_York:20260120T114500
DTEND;TZID=America/New_York:20260120T130000
DTSTAMP:20260422T195048
CREATED:20251112T044848Z
LAST-MODIFIED:20251230T044347Z
UID:10000499-1768909500-1768914000@centervillenoonoptimist.com
SUMMARY:CNO Lunch - CHS Jazz Band
DESCRIPTION:Join us for lunch as our speaker is Brandon Barrometti with the CHS Jazz Band. \n\n\n\nGuests are welcome to attend.
URL:https://centervillenoonoptimist.com/event/cno-lunch-59/
LOCATION:Yankee Trace Golf Club\, 10000 Yankee St\,\, Centerville\, 45458
CATEGORIES:- CNO Lunch Meeting,Members,Public
ATTACH;FMTTYPE=image/png:https://centervillenoonoptimist.com/wp-content/uploads/2023/10/Club-Photo-2022-Small.png
END:VEVENT
BEGIN:VEVENT
DTSTART;TZID=America/New_York:20260127T114500
DTEND;TZID=America/New_York:20260127T130000
DTSTAMP:20260422T195048
CREATED:20251112T044913Z
LAST-MODIFIED:20260123T033647Z
UID:10000500-1769514300-1769518800@centervillenoonoptimist.com
SUMMARY:CNO Lunch - Centerville-Washington Diversity Council
DESCRIPTION:Join us for lunch as our speaker is Terra Williams with the Centerville-Washington Diversity Council. \n\n\n\nGuests are welcome to attend.
URL:https://centervillenoonoptimist.com/event/cno-lunch-60/
LOCATION:Yankee Trace Golf Club\, 10000 Yankee St\,\, Centerville\, 45458
CATEGORIES:- CNO Lunch Meeting,Members,Public
ATTACH;FMTTYPE=image/png:https://centervillenoonoptimist.com/wp-content/uploads/2023/10/Club-Photo-2022-Small.png
END:VEVENT
END:VCALENDAR