BEGIN:VCALENDAR
VERSION:2.0
PRODID:-//Centerville Noon Optimist - ECPv6.15.20//NONSGML v1.0//EN
CALSCALE:GREGORIAN
METHOD:PUBLISH
X-WR-CALNAME:Centerville Noon Optimist
X-ORIGINAL-URL:https://centervillenoonoptimist.com
X-WR-CALDESC:Events for Centerville Noon Optimist
REFRESH-INTERVAL;VALUE=DURATION:PT1H
X-Robots-Tag:noindex
X-PUBLISHED-TTL:PT1H
BEGIN:VTIMEZONE
TZID:America/New_York
BEGIN:DAYLIGHT
TZOFFSETFROM:-0500
TZOFFSETTO:-0400
TZNAME:EDT
DTSTART:20250309T070000
END:DAYLIGHT
BEGIN:STANDARD
TZOFFSETFROM:-0400
TZOFFSETTO:-0500
TZNAME:EST
DTSTART:20251102T060000
END:STANDARD
BEGIN:DAYLIGHT
TZOFFSETFROM:-0500
TZOFFSETTO:-0400
TZNAME:EDT
DTSTART:20260308T070000
END:DAYLIGHT
BEGIN:STANDARD
TZOFFSETFROM:-0400
TZOFFSETTO:-0500
TZNAME:EST
DTSTART:20261101T060000
END:STANDARD
BEGIN:DAYLIGHT
TZOFFSETFROM:-0500
TZOFFSETTO:-0400
TZNAME:EDT
DTSTART:20270314T070000
END:DAYLIGHT
BEGIN:STANDARD
TZOFFSETFROM:-0400
TZOFFSETTO:-0500
TZNAME:EST
DTSTART:20271107T060000
END:STANDARD
END:VTIMEZONE
BEGIN:VEVENT
DTSTART;TZID=America/New_York:20260201T000000
DTEND;TZID=America/New_York:20260201T235959
DTSTAMP:20260422T154845
CREATED:20250820T190625Z
LAST-MODIFIED:20250902T140107Z
UID:10000465-1769904000-1769990399@centervillenoonoptimist.com
SUMMARY:Essay Contest Entry Deadline
DESCRIPTION:Boys and girls under the age of 19 are invited to submit an essay on a pre-assigned topic during the months of October\, November\, December\, and January each year. One winner will advance to finals at the district for a chance to win a $3\,500 scholarship. The Essay Contest is sponsored by the Centerville Noon Optimist Club to give young people the opportunity to write about their own opinions regarding the world in which we live. \n\n\n\nThe Official 2025-2026 Optimist International Essay Contest Topic is: “How My Acts of Service Help Me Understand What My Community Means to Me” \n\n\n\nPrizes will be as follows: 1st place $500\, 2nd place $250\, 3rd place $100. \n\n\n\nEntries are due no later than February 1\, 2026. \n\n\n\nFor more information\, visit our Essay Contest Page: \n\n\n\n\nEssay Contest Page
URL:https://centervillenoonoptimist.com/event/essay-contest-entry-deadline/
CATEGORIES:Community Event,Members,Public,Youth Contest
ATTACH;FMTTYPE=image/png:https://centervillenoonoptimist.com/wp-content/uploads/2023/10/Essay-Contest.png
END:VEVENT
BEGIN:VEVENT
DTSTART;TZID=America/New_York:20260203T114500
DTEND;TZID=America/New_York:20260203T130000
DTSTAMP:20260422T154845
CREATED:20251112T044943Z
LAST-MODIFIED:20251208T192641Z
UID:10000501-1770119100-1770123600@centervillenoonoptimist.com
SUMMARY:CNO Lunch - Dayton History
DESCRIPTION:Join us for lunch as our speaker is Brady Kress\, President & CEO of Dayton History. \n\n\n\nGuests are welcome to attend.
URL:https://centervillenoonoptimist.com/event/cno-lunch-61/
LOCATION:Yankee Trace Golf Club\, 10000 Yankee St\,\, Centerville\, 45458
CATEGORIES:- CNO Lunch Meeting,Members,Public
ATTACH;FMTTYPE=image/png:https://centervillenoonoptimist.com/wp-content/uploads/2023/10/Club-Photo-2022-Small.png
END:VEVENT
BEGIN:VEVENT
DTSTART;TZID=America/New_York:20260209T180000
DTEND;TZID=America/New_York:20260209T190000
DTSTAMP:20260422T154845
CREATED:20260111T190738Z
LAST-MODIFIED:20260111T191431Z
UID:10000537-1770660000-1770663600@centervillenoonoptimist.com
SUMMARY:Oratorical Contest
DESCRIPTION:The Centerville Noon Optimist Club supports Optimist International by conducting the annual Margaret Barclay Memorial Oratorical Contest.  This contest provides an excellent opportunity for students to develop important public speaking skills.  Contestants prepare and deliver a speech between four and five minutes in length on the assigned topic. The winner on each of two contest dates will receive a cash prize of $500. \n\n\n\nThe topic for 2026\, determined by Optimist International\, is “The Moment I Realized I Belonged—My Definition of Community.” \n\n\n\nAll Community Members and Centerville Noon Optimist Club members are invited to watch the Oratorical competition. \n\n\n\nThe winners from the Club contests advance to the Zone competition\, and then may advance to the District Regional competition and the Finals at the District level. At the Great Ohio District level\, 1st place will receive a $3\,500 scholarship. \n\n\n\n\nOratorical Contest Page
URL:https://centervillenoonoptimist.com/event/oratorical-contest-2026-1/
LOCATION:Woodbourne Library\, 6060 Far Hills Ave\, Centerville\, Ohio\, 45459\, United States
CATEGORIES:Community Event,Members,Public,Youth Contest
ATTACH;FMTTYPE=image/png:https://centervillenoonoptimist.com/wp-content/uploads/2025/09/Oratorical-2026-1.png
END:VEVENT
BEGIN:VEVENT
DTSTART;TZID=America/New_York:20260210T114500
DTEND;TZID=America/New_York:20260210T130000
DTSTAMP:20260422T154845
CREATED:20251112T045042Z
LAST-MODIFIED:20260109T050044Z
UID:10000502-1770723900-1770728400@centervillenoonoptimist.com
SUMMARY:CNO Lunch - State of the City
DESCRIPTION:Join us for lunch as our speaker is Brooks Compton\, Mayor of Centerville.  \n\n\n\nGuests are welcome to attend.
URL:https://centervillenoonoptimist.com/event/cno-lunch-62/
LOCATION:Yankee Trace Golf Club\, 10000 Yankee St\,\, Centerville\, 45458
CATEGORIES:- CNO Lunch Meeting,Members,Public
ATTACH;FMTTYPE=image/png:https://centervillenoonoptimist.com/wp-content/uploads/2023/10/Club-Photo-2022-Small.png
END:VEVENT
BEGIN:VEVENT
DTSTART;TZID=America/New_York:20260212T180000
DTEND;TZID=America/New_York:20260212T190000
DTSTAMP:20260422T154845
CREATED:20260111T190836Z
LAST-MODIFIED:20260111T191518Z
UID:10000538-1770919200-1770922800@centervillenoonoptimist.com
SUMMARY:Oratorical Contest
DESCRIPTION:The Centerville Noon Optimist Club supports Optimist International by conducting the annual Margaret Barclay Memorial Oratorical Contest.  This contest provides an excellent opportunity for students to develop important public speaking skills.  Contestants prepare and deliver a speech between four and five minutes in length on the assigned topic. The winner on each of two contest dates will receive a cash prize of $500. \n\n\n\nThe topic for 2026\, determined by Optimist International\, is “The Moment I Realized I Belonged—My Definition of Community.” \n\n\n\nAll Community Members and Centerville Noon Optimist Club members are invited to watch the Oratorical competition. \n\n\n\nThe winners from the Club contests advance to the Zone competition\, and then may advance to the District Regional competition and the Finals at the District level. At the Great Ohio District level\, 1st place will receive a $3\,500 scholarship. \n\n\n\n\nOratorical Contest Page
URL:https://centervillenoonoptimist.com/event/oratorical-contest-2026-2/
LOCATION:Woodbourne Library\, 6060 Far Hills Ave\, Centerville\, Ohio\, 45459\, United States
CATEGORIES:Community Event,Members,Public,Youth Contest
ATTACH;FMTTYPE=image/png:https://centervillenoonoptimist.com/wp-content/uploads/2025/09/Oratorical-2026-1.png
END:VEVENT
BEGIN:VEVENT
DTSTART;TZID=America/New_York:20260217T114500
DTEND;TZID=America/New_York:20260217T130000
DTSTAMP:20260422T154845
CREATED:20251112T045146Z
LAST-MODIFIED:20260216T161207Z
UID:10000504-1771328700-1771333200@centervillenoonoptimist.com
SUMMARY:CNO Lunch - UD Sinclair Academy
DESCRIPTION:Join us for lunch as our speaker is Julia Thompson\, Director of Student Success for Community College Partnerships with the UD Sinclair Academy. \n\n\n\nGuests are welcome to attend.
URL:https://centervillenoonoptimist.com/event/cno-lunch-64/
LOCATION:Yankee Trace Golf Club\, 10000 Yankee St\,\, Centerville\, 45458
CATEGORIES:- CNO Lunch Meeting,Members,Public
ATTACH;FMTTYPE=image/png:https://centervillenoonoptimist.com/wp-content/uploads/2023/10/Club-Photo-2022-Small.png
END:VEVENT
BEGIN:VEVENT
DTSTART;TZID=America/New_York:20260219T173000
DTEND;TZID=America/New_York:20260219T190000
DTSTAMP:20260422T154845
CREATED:20251230T045318Z
LAST-MODIFIED:20260112T024151Z
UID:10000524-1771522200-1771527600@centervillenoonoptimist.com
SUMMARY:Optimist 2.0 - Zink's - Wine Tasting
DESCRIPTION:Join us and see how the Centerville Noon Optimist Club – a world class volunteer organization – makes a difference in local kids’ lives!  This month\, we will be at Zink’s Meats & Fine Wines for a wine tasting! \n\n\n\n• Join us every Third Thursday at various local social venues for community building\, fun\, and networking• Listen to a guest speaker or participate in a fun filled social activity• Learn more about how you can help us help kids in the community \n\n\n\nAs always\, snacks will be provided.  \n\n\n\nNetworking 5:30-6:00Meeting 6:00-6:30Social time 6:30-7:00
URL:https://centervillenoonoptimist.com/event/optimist-2-0-5/
LOCATION:Zinks Meats and Fine Wines\, 409 Miamisburg Centerville Rd\, Dayton\, Ohio\, 45459\, United States
CATEGORIES:- CNO 2.0 Meeting,Members,Public
ATTACH;FMTTYPE=image/png:https://centervillenoonoptimist.com/wp-content/uploads/2025/06/2.0-July-2025-website.png
END:VEVENT
BEGIN:VEVENT
DTSTART;TZID=America/New_York:20260223T230000
DTEND;TZID=America/New_York:20260223T230000
DTSTAMP:20260422T154845
CREATED:20260115T203527Z
LAST-MODIFIED:20260201T045253Z
UID:10000560-1771887600-1771887600@centervillenoonoptimist.com
SUMMARY:Visual Arts Contest
DESCRIPTION:The Optimist Visual Arts Competition gives the youth we serve another outlet for their creativity! This exciting program is designed to encourage and celebrate youth visual art skills in painting and drawing. The contest will be held at the Centerville Noon Optimist local level and at the International level. \n\n\n\nThe Theme for 2026 is: “Be Bold – Be The Change.” Students may submit either a painting or a drawing. There will be two age divisions for judging. \n\n\n\n1st place will receive $125.00 and teacher will receive $125 for the classroom.  \n\n\n\n2nd place will receive $60.00 and teacher will receive $60 for the classroom.  \n\n\n\n3rd place will receive $25.00 and teacher will receive $25 for the classroom. \n\n\n\nEntries are due no later than February 23\, 2026. \n\n\n\n\nVisual Arts Contest Page
URL:https://centervillenoonoptimist.com/event/visual-arts-contest-3/
CATEGORIES:Community Event,Members,Public,Youth Contest
ATTACH;FMTTYPE=image/png:https://centervillenoonoptimist.com/wp-content/uploads/2024/03/Visual-Arts-Competition.png
END:VEVENT
BEGIN:VEVENT
DTSTART;TZID=America/New_York:20260224T114500
DTEND;TZID=America/New_York:20260224T130000
DTSTAMP:20260422T154845
CREATED:20251112T045117Z
LAST-MODIFIED:20260216T161210Z
UID:10000503-1771933500-1771938000@centervillenoonoptimist.com
SUMMARY:CNO Lunch - Centerville Elks Football
DESCRIPTION:Join us for lunch as our speaker is John Puckett\, Head Football Coach of the Centerville Elks. \n\n\n\nGuests are welcome to attend.
URL:https://centervillenoonoptimist.com/event/cno-lunch-63/
LOCATION:Yankee Trace Golf Club\, 10000 Yankee St\,\, Centerville\, 45458
CATEGORIES:- CNO Lunch Meeting,Members,Public
ATTACH;FMTTYPE=image/png:https://centervillenoonoptimist.com/wp-content/uploads/2023/10/Club-Photo-2022-Small.png
END:VEVENT
END:VCALENDAR