BEGIN:VCALENDAR
VERSION:2.0
PRODID:-//Centerville Noon Optimist - ECPv6.15.20//NONSGML v1.0//EN
CALSCALE:GREGORIAN
METHOD:PUBLISH
X-WR-CALNAME:Centerville Noon Optimist
X-ORIGINAL-URL:https://centervillenoonoptimist.com
X-WR-CALDESC:Events for Centerville Noon Optimist
REFRESH-INTERVAL;VALUE=DURATION:PT1H
X-Robots-Tag:noindex
X-PUBLISHED-TTL:PT1H
BEGIN:VTIMEZONE
TZID:America/New_York
BEGIN:DAYLIGHT
TZOFFSETFROM:-0500
TZOFFSETTO:-0400
TZNAME:EDT
DTSTART:20230312T070000
END:DAYLIGHT
BEGIN:STANDARD
TZOFFSETFROM:-0400
TZOFFSETTO:-0500
TZNAME:EST
DTSTART:20231105T060000
END:STANDARD
BEGIN:DAYLIGHT
TZOFFSETFROM:-0500
TZOFFSETTO:-0400
TZNAME:EDT
DTSTART:20240310T070000
END:DAYLIGHT
BEGIN:STANDARD
TZOFFSETFROM:-0400
TZOFFSETTO:-0500
TZNAME:EST
DTSTART:20241103T060000
END:STANDARD
BEGIN:DAYLIGHT
TZOFFSETFROM:-0500
TZOFFSETTO:-0400
TZNAME:EDT
DTSTART:20250309T070000
END:DAYLIGHT
BEGIN:STANDARD
TZOFFSETFROM:-0400
TZOFFSETTO:-0500
TZNAME:EST
DTSTART:20251102T060000
END:STANDARD
END:VTIMEZONE
BEGIN:VEVENT
DTSTART;TZID=America/New_York:20241119T114500
DTEND;TZID=America/New_York:20241119T130000
DTSTAMP:20260424T233405
CREATED:20240722T010338Z
LAST-MODIFIED:20240921T031355Z
UID:10000296-1732016700-1732021200@centervillenoonoptimist.com
SUMMARY:CNO Lunch - Muscular Dystrophy Association
DESCRIPTION:Join us for lunch as our speaker is Patrick Cusick Jr with the Muscular Dystrophy Association. \n\n\n\nGuests are welcome to attend.
URL:https://centervillenoonoptimist.com/event/cno-lunch-30/
LOCATION:Yankee Trace Golf Club\, 10000 Yankee St\,\, Centerville\, 45458
CATEGORIES:- CNO Lunch Meeting,Members,Public
ATTACH;FMTTYPE=image/png:https://centervillenoonoptimist.com/wp-content/uploads/2023/10/Club-Photo-2022-Small.png
END:VEVENT
BEGIN:VEVENT
DTSTART;TZID=America/New_York:20241112T114500
DTEND;TZID=America/New_York:20241112T130000
DTSTAMP:20260424T233405
CREATED:20240722T010253Z
LAST-MODIFIED:20241030T031437Z
UID:10000294-1731411900-1731416400@centervillenoonoptimist.com
SUMMARY:CNO Lunch - Tree Lot Presentation
DESCRIPTION:Join us for lunch as we have a Tree Lot Presentation. \n\n\n\nGuests are welcome to attend.
URL:https://centervillenoonoptimist.com/event/cno-lunch-28/
LOCATION:Yankee Trace Golf Club\, 10000 Yankee St\,\, Centerville\, 45458
CATEGORIES:- CNO Lunch Meeting,Members,Public
ATTACH;FMTTYPE=image/png:https://centervillenoonoptimist.com/wp-content/uploads/2023/10/Club-Photo-2022-Small.png
END:VEVENT
BEGIN:VEVENT
DTSTART;TZID=America/New_York:20241105T114500
DTEND;TZID=America/New_York:20241105T130000
DTSTAMP:20260424T233405
CREATED:20240722T010315Z
LAST-MODIFIED:20241030T031405Z
UID:10000295-1730807100-1730811600@centervillenoonoptimist.com
SUMMARY:CNO Lunch - Antarctica
DESCRIPTION:Join us for lunch as our speaker is Charlie Goodwin speaking about his recent trip to Antarctica. \n\n\n\nGuests are welcome to attend.
URL:https://centervillenoonoptimist.com/event/cno-lunch-29/
LOCATION:Yankee Trace Golf Club\, 10000 Yankee St\,\, Centerville\, 45458
CATEGORIES:- CNO Lunch Meeting,Members,Public
ATTACH;FMTTYPE=image/png:https://centervillenoonoptimist.com/wp-content/uploads/2023/10/Club-Photo-2022-Small.png
END:VEVENT
BEGIN:VEVENT
DTSTART;TZID=America/New_York:20241029T114500
DTEND;TZID=America/New_York:20241029T130000
DTSTAMP:20260424T233405
CREATED:20240722T010156Z
LAST-MODIFIED:20240921T030704Z
UID:10000293-1730202300-1730206800@centervillenoonoptimist.com
SUMMARY:CNO Lunch - WHIO Weatherman
DESCRIPTION:Join us for lunch as our speaker is Austin Chaney\, WHIO Weatherman. \n\n\n\nGuests are welcome to attend.
URL:https://centervillenoonoptimist.com/event/cno-lunch-27/
LOCATION:Yankee Trace Golf Club\, 10000 Yankee St\,\, Centerville\, 45458
CATEGORIES:- CNO Lunch Meeting,Members,Public
ATTACH;FMTTYPE=image/png:https://centervillenoonoptimist.com/wp-content/uploads/2023/10/Club-Photo-2022-Small.png
END:VEVENT
BEGIN:VEVENT
DTSTART;TZID=America/New_York:20241022T114500
DTEND;TZID=America/New_York:20241022T130000
DTSTAMP:20260424T233405
CREATED:20240722T010131Z
LAST-MODIFIED:20240921T030549Z
UID:10000292-1729597500-1729602000@centervillenoonoptimist.com
SUMMARY:CNO Lunch - CE3 Community Empowerment
DESCRIPTION:Join us for lunch as our speaker is Rameka Smith\, Founder\, CE3 Community Empowerment \n\n\n\nGuests are welcome to attend.
URL:https://centervillenoonoptimist.com/event/cno-lunch-26/
LOCATION:Yankee Trace Golf Club\, 10000 Yankee St\,\, Centerville\, 45458
CATEGORIES:- CNO Lunch Meeting,Members,Public
ATTACH;FMTTYPE=image/png:https://centervillenoonoptimist.com/wp-content/uploads/2023/10/Club-Photo-2022-Small.png
END:VEVENT
BEGIN:VEVENT
DTSTART;TZID=America/New_York:20241017T173000
DTEND;TZID=America/New_York:20241017T190000
DTSTAMP:20260424T233405
CREATED:20240901T032339Z
LAST-MODIFIED:20241007T194408Z
UID:10000310-1729186200-1729191600@centervillenoonoptimist.com
SUMMARY:Optimist 2.0 - Bock Family Brewing
DESCRIPTION:Join us October 17th and see how the Centerville Noon Optimist Club – a world class volunteer organization – makes a difference in local kids’ lives! This month\, we will be at Bock Family Brewing for a Halloween Party including local ghost stories! \n\n\n\n• Join us every Third Thursday at various local social venues for community building\, fun\, and networking• Listen to a guest speaker or participate in a fun filled social activity• Learn more about how you can help us help kids in the community \n\n\n\nAs always\, snacks will be provided. \n\n\n\nNetworking 5:30-6:00Meeting 6:00-6:30Social time 6:30-7:00
URL:https://centervillenoonoptimist.com/event/optimist-2-0-bock-family-brewing/
LOCATION:Bock Family Brewing\, 8150 Washington Village Dr\, Dayton\, Ohio\, 45458\, United States
CATEGORIES:- CNO 2.0 Meeting,Members,Public
ATTACH;FMTTYPE=image/png:https://centervillenoonoptimist.com/wp-content/uploads/2023/10/2.0-October-2023.png
END:VEVENT
BEGIN:VEVENT
DTSTART;TZID=America/New_York:20241015T190000
DTEND;TZID=America/New_York:20241016T190000
DTSTAMP:20260424T233405
CREATED:20240120T202213Z
LAST-MODIFIED:20240920T011918Z
UID:10000173-1729018800-1729105200@centervillenoonoptimist.com
SUMMARY:Haunted Trail
DESCRIPTION:Ghosts\, ghouls\, and zombies will haunt the trails of Washington Township RecPlex Countryside Park on October 15 & 16\, 7:00 pm – 8:30 pm! On these FREE fun-filled evenings your trail guide will lead you through the scary trails. The hauntings will begin at 7:00 pm. The last group will begin the trail at 8:30 pm with all groups finished by 9:00pm.  \n\n\n\nAll minors must be accompanied by a responsible adult. \n\n\n\nAttendees are encouraged to bring canned goods/non-perishable food items to be donated to a local Food Bank. \n\n\n\nThe Haunted Trail program is co-sponsored by the Centerville Noon Optimist Club\, the Washington Township RecPlex; the University of Dayton Optimists; the Centerville High School Octagon Club; and the Junior Optimist Clubs at Incarnation School and Magsig\, Tower Heights\, and Watts Middle Schools. \n\n\n\nHaunted Trail is made possible because of amazing help from volunteers! \n\n\n\nRegistration is not required for this FREE event. Recommended for ages 8 and older.
URL:https://centervillenoonoptimist.com/event/haunted-trail-2/
LOCATION:RecPlex\, 895 Miamisburg Centerville Rd\, Dayton\, 45459
CATEGORIES:Community Event,Members,Public
ATTACH;FMTTYPE=image/png:https://centervillenoonoptimist.com/wp-content/uploads/2024/01/Haunted-Trail-2024-Website.png
END:VEVENT
BEGIN:VEVENT
DTSTART;TZID=America/New_York:20241015T114500
DTEND;TZID=America/New_York:20241015T130000
DTSTAMP:20260424T233405
CREATED:20240722T010104Z
LAST-MODIFIED:20240921T030313Z
UID:10000291-1728992700-1728997200@centervillenoonoptimist.com
SUMMARY:CNO Lunch - EMT/Firefighter of the Year
DESCRIPTION:Join us for lunch as we host the EMT/Firefighter of the Year Award Ceremony. \n\n\n\nGuests are welcome to attend.
URL:https://centervillenoonoptimist.com/event/cno-lunch-25/
LOCATION:Yankee Trace Golf Club\, 10000 Yankee St\,\, Centerville\, 45458
CATEGORIES:- CNO Lunch Meeting,Members,Public
ATTACH;FMTTYPE=image/png:https://centervillenoonoptimist.com/wp-content/uploads/2023/10/Club-Photo-2022-Small.png
END:VEVENT
BEGIN:VEVENT
DTSTART;TZID=America/New_York:20241008T114500
DTEND;TZID=America/New_York:20241008T130000
DTSTAMP:20260424T233405
CREATED:20240722T010042Z
LAST-MODIFIED:20240921T025547Z
UID:10000290-1728387900-1728392400@centervillenoonoptimist.com
SUMMARY:CNO Lunch - Carrier Navy Pilot Experiences
DESCRIPTION:Join us for lunch as our speaker is Sean Hays speaking about Carrier Navy Pilot Experiences. \n\n\n\nGuests are welcome to attend.
URL:https://centervillenoonoptimist.com/event/cno-lunch-24/
LOCATION:Yankee Trace Golf Club\, 10000 Yankee St\,\, Centerville\, 45458
CATEGORIES:- CNO Lunch Meeting,Members,Public
ATTACH;FMTTYPE=image/png:https://centervillenoonoptimist.com/wp-content/uploads/2023/10/Club-Photo-2022-Small.png
END:VEVENT
BEGIN:VEVENT
DTSTART;TZID=America/New_York:20241001T114500
DTEND;TZID=America/New_York:20241001T130000
DTSTAMP:20260424T233405
CREATED:20240722T005935Z
LAST-MODIFIED:20240921T025246Z
UID:10000289-1727783100-1727787600@centervillenoonoptimist.com
SUMMARY:CNO Lunch - Club Day
DESCRIPTION:Join us for lunch as we focus on club activities\, including a recap of the Installation Dinner.. \n\n\n\nGuests are welcome to attend.
URL:https://centervillenoonoptimist.com/event/cno-lunch-23/
LOCATION:Yankee Trace Golf Club\, 10000 Yankee St\,\, Centerville\, 45458
CATEGORIES:- CNO Lunch Meeting,Members,Public
ATTACH;FMTTYPE=image/png:https://centervillenoonoptimist.com/wp-content/uploads/2023/10/Club-Photo-2022-Small.png
END:VEVENT
BEGIN:VEVENT
DTSTART;TZID=America/New_York:20240927T180000
DTEND;TZID=America/New_York:20240927T193000
DTSTAMP:20260424T233405
CREATED:20240829T210043Z
LAST-MODIFIED:20240916T005113Z
UID:10000306-1727460000-1727465400@centervillenoonoptimist.com
SUMMARY:Tri-Star Soccer
DESCRIPTION:Each year we hold our free Tri-Star Soccer competition. The competition will run continuously so arrive anytime. \n\n\n\nTest your dribbling\, shooting\, passing\, throw-ins and juggling skills. \n\n\n\n\nFun for both beginners and experienced players\n\n\n\nOpen to all boys and girls ages 5-13\n\n\n\nMedals awarded to top 3 in each age group\n\n\n\nGet your face painted after you play\n\n\n\nCome and meet members of the Centerville High School Soccer Team\n\n\n\nPlay on the turf at CHS Soccer stadium behind Magsig Middle School\n\n\n\n\nSave time and pre-register for the event:\n\n\nPreregistration for this event has closed.  Registration is available upon arrival at the event.
URL:https://centervillenoonoptimist.com/event/tri-star-soccer-2/
LOCATION:Centerville Soccer Stadium\, 99 Virginia Ave\, Washington Township\, Ohio\, 45458\, United States
CATEGORIES:Community Event,Members,Public
ATTACH;FMTTYPE=image/png:https://centervillenoonoptimist.com/wp-content/uploads/2023/03/Tri-Star-Soccer.png
END:VEVENT
BEGIN:VEVENT
DTSTART;TZID=America/New_York:20240924T114500
DTEND;TZID=America/New_York:20240924T130000
DTSTAMP:20260424T233405
CREATED:20240722T004335Z
LAST-MODIFIED:20240722T004338Z
UID:10000287-1727178300-1727182800@centervillenoonoptimist.com
SUMMARY:CNO Lunch - No Meeting
DESCRIPTION:There will be no noon meeting due to the evening Installation Dinner.
URL:https://centervillenoonoptimist.com/event/cno-lunch-no-meeting-5/
LOCATION:Yankee Trace Golf Club\, 10000 Yankee St\,\, Centerville\, 45458
CATEGORIES:- CNO Lunch Meeting,Members,Public
ATTACH;FMTTYPE=image/png:https://centervillenoonoptimist.com/wp-content/uploads/2023/10/Club-Photo-2022-Small.png
END:VEVENT
BEGIN:VEVENT
DTSTART;TZID=America/New_York:20240919T173000
DTEND;TZID=America/New_York:20240919T190000
DTSTAMP:20260424T233405
CREATED:20240901T031636Z
LAST-MODIFIED:20240907T165823Z
UID:10000308-1726767000-1726772400@centervillenoonoptimist.com
SUMMARY:Optimist 2.0
DESCRIPTION:Join us September 19th and see how the Centerville Noon Optimist Club – a world class volunteer organization – makes a difference in local kids’ lives!  Join us this month when we will be at Heavier than Air for a Craft Beer Swap!  How does it work?  Bring your favorite 6 pack of beer and exchange with other attendees to form a custom 6 pack to take home! \n\n\n\n• Join us every Third Thursday at various local social venues for community building\, fun\, and networking• Listen to a guest speaker or participate in a fun filled social activity• Learn more about how you can help us help kids in the community \n\n\n\nAs always\, snacks will be provided. \n\n\n\nNetworking 5:30-6:00Meeting 6:00-6:30Social time 6:30-7:00
URL:https://centervillenoonoptimist.com/event/optimist-2-0-4/
CATEGORIES:- CNO 2.0 Meeting,Members,Public
ATTACH;FMTTYPE=image/png:https://centervillenoonoptimist.com/wp-content/uploads/2024/08/2.0-September-2024-website.png
END:VEVENT
BEGIN:VEVENT
DTSTART;TZID=America/New_York:20240917T114500
DTEND;TZID=America/New_York:20240917T130000
DTSTAMP:20260424T233405
CREATED:20240722T004143Z
LAST-MODIFIED:20240722T004145Z
UID:10000286-1726573500-1726578000@centervillenoonoptimist.com
SUMMARY:CNO Lunch - Montgomery County Clerk of Courts
DESCRIPTION:Join us for lunch as our speaker is Carolyn Stefanik\, Community Outreach Manager of the Montgomery County Clerk of Courts. Carolyn will discuss the free services offered to citizens of Montgomery County. \n\n\n\nMike Bevis will also present the golf outing check to Dayton Children’s Hospital. \n\n\n\nGuests are welcome to attend.
URL:https://centervillenoonoptimist.com/event/cno-lunch-montgomery-county-clerk-of-courts/
LOCATION:Yankee Trace Golf Club\, 10000 Yankee St\,\, Centerville\, 45458
CATEGORIES:- CNO Lunch Meeting,Members,Public
ATTACH;FMTTYPE=image/png:https://centervillenoonoptimist.com/wp-content/uploads/2023/10/Club-Photo-2022-Small.png
END:VEVENT
BEGIN:VEVENT
DTSTART;TZID=America/New_York:20240910T114500
DTEND;TZID=America/New_York:20240910T130000
DTSTAMP:20260424T233405
CREATED:20240722T003800Z
LAST-MODIFIED:20240914T003121Z
UID:10000285-1725968700-1725973200@centervillenoonoptimist.com
SUMMARY:CNO Lunch - iWise
DESCRIPTION:Join us for lunch as our speaker is Cheryl Mahoney with iWise to discuss Internet Safety for Children. \n\n\n\nGuests are welcome to attend.
URL:https://centervillenoonoptimist.com/event/cno-lunch-22/
LOCATION:Yankee Trace Golf Club\, 10000 Yankee St\,\, Centerville\, 45458
CATEGORIES:- CNO Lunch Meeting,Members,Public
ATTACH;FMTTYPE=image/png:https://centervillenoonoptimist.com/wp-content/uploads/2023/10/Club-Photo-2022-Small.png
END:VEVENT
BEGIN:VEVENT
DTSTART;TZID=America/New_York:20240903T114500
DTEND;TZID=America/New_York:20240903T130000
DTSTAMP:20260424T233405
CREATED:20240722T003720Z
LAST-MODIFIED:20240823T010834Z
UID:10000284-1725363900-1725368400@centervillenoonoptimist.com
SUMMARY:CNO Lunch - Skilled Trade Scholarships and Centerville Library Renovation News
DESCRIPTION:Join us for lunch as our speakers are Fred Polizzi with a Skilled Trades Scholarship Presentation and Liz Fultz with Centerville Library Renovation News. \n\n\n\nGuests are welcome to attend.
URL:https://centervillenoonoptimist.com/event/cno-lunch-21/
LOCATION:Yankee Trace Golf Club\, 10000 Yankee St\,\, Centerville\, 45458
CATEGORIES:- CNO Lunch Meeting,Members,Public
ATTACH;FMTTYPE=image/png:https://centervillenoonoptimist.com/wp-content/uploads/2023/10/Club-Photo-2022-Small.png
END:VEVENT
BEGIN:VEVENT
DTSTART;TZID=America/New_York:20240827T114500
DTEND;TZID=America/New_York:20240827T130000
DTSTAMP:20260424T233405
CREATED:20240722T003616Z
LAST-MODIFIED:20240722T003618Z
UID:10000283-1724759100-1724763600@centervillenoonoptimist.com
SUMMARY:CNO Lunch - Megan Sparks
DESCRIPTION:Join us for lunch as our speaker is Megan Sparks\, parent of a child with special needs and a Centerville City School Board Member. \n\n\n\nGuests are welcome to attend.
URL:https://centervillenoonoptimist.com/event/cno-lunch-megan-sparks/
LOCATION:Yankee Trace Golf Club\, 10000 Yankee St\,\, Centerville\, 45458
CATEGORIES:- CNO Lunch Meeting,Members,Public
ATTACH;FMTTYPE=image/png:https://centervillenoonoptimist.com/wp-content/uploads/2023/10/Club-Photo-2022-Small.png
END:VEVENT
BEGIN:VEVENT
DTSTART;TZID=America/New_York:20240820T114500
DTEND;TZID=America/New_York:20240820T130000
DTSTAMP:20260424T233405
CREATED:20240722T003421Z
LAST-MODIFIED:20240722T003423Z
UID:10000282-1724154300-1724158800@centervillenoonoptimist.com
SUMMARY:CNO Lunch - Boy Scouts of the Miami Valley
DESCRIPTION:Join us for lunch as our speaker is Jeff Schiavone\, Executive Director of the Boy Scouts of the Miami Valley. \n\n\n\nGuests are welcome to attend.
URL:https://centervillenoonoptimist.com/event/cno-lunch-boy-scouts-of-the-miami-valley/
LOCATION:Yankee Trace Golf Club\, 10000 Yankee St\,\, Centerville\, 45458
CATEGORIES:- CNO Lunch Meeting,Members,Public
ATTACH;FMTTYPE=image/png:https://centervillenoonoptimist.com/wp-content/uploads/2023/10/Club-Photo-2022-Small.png
END:VEVENT
BEGIN:VEVENT
DTSTART;TZID=America/New_York:20240815T173000
DTEND;TZID=America/New_York:20240815T190000
DTSTAMP:20260424T233405
CREATED:20240524T022500Z
LAST-MODIFIED:20240524T022503Z
UID:10000267-1723743000-1723748400@centervillenoonoptimist.com
SUMMARY:Optimist 2.0 - Nelly's Taste of Bolivia
DESCRIPTION:Join us August 15th and see how the Centerville Noon Optimist Club – a world class volunteer organization – makes a difference in local kids’ lives! This month\, we will be at Nelly’s Taste of Bolivia for trivia! \n\n\n\n• Join us every Third Thursday at various local social venues for community building\, fun\, and networking• Listen to a guest speaker or participate in a fun filled social activity• Learn more about how you can help us help kids in the community \n\n\n\nAs always\, snacks will be provided. \n\n\n\nNetworking 5:30-6:00Meeting 6:00-6:30Social time 6:30-7:00
URL:https://centervillenoonoptimist.com/event/optimist-2-0-nellys-taste-of-bolivia/
LOCATION:Nelly’s Taste of Bolivia\, 79 S Main St\,\, Centerville\, Ohio\, 45458\, United States
CATEGORIES:- CNO 2.0 Meeting,Members,Public
ATTACH;FMTTYPE=image/png:https://centervillenoonoptimist.com/wp-content/uploads/2024/05/2.0-August-2023-e1716517255553.png
END:VEVENT
BEGIN:VEVENT
DTSTART;TZID=America/New_York:20240813T114500
DTEND;TZID=America/New_York:20240813T130000
DTSTAMP:20260424T233405
CREATED:20240720T040426Z
LAST-MODIFIED:20240720T040428Z
UID:10000281-1723549500-1723554000@centervillenoonoptimist.com
SUMMARY:CNO Lunch - Club Day
DESCRIPTION:Join us for lunch as we focus on club activities\, including a recap of the Ohio District Convention\, at our annual summer picnic. \n\n\n\nGuests are welcome to attend.
URL:https://centervillenoonoptimist.com/event/cno-lunch-club-day-11/
LOCATION:Yankee Park\, 7500 Yankee Street\, Dayton\, Ohio\, 45458\, United States
CATEGORIES:- CNO Lunch Meeting,Members,Public
ATTACH;FMTTYPE=image/png:https://centervillenoonoptimist.com/wp-content/uploads/2023/10/Club-Photo-2022-Small.png
END:VEVENT
BEGIN:VEVENT
DTSTART;TZID=America/New_York:20240807T173000
DTEND;TZID=America/New_York:20240807T183000
DTSTAMP:20260424T233405
CREATED:20240120T185040Z
LAST-MODIFIED:20240120T185042Z
UID:10000162-1723051800-1723055400@centervillenoonoptimist.com
SUMMARY:Youth Mental Health Initiative Committee Meeting
DESCRIPTION:Join us for a committee meeting of the Youth Mental Health Initiative Committee
URL:https://centervillenoonoptimist.com/event/youth-mental-health-initiative-committee-meeting-7/
LOCATION:Lizard Apparel and Promotions\, 7333 Paragon Road Suite 230\, Dayton\, OH\, 45459\, United States
CATEGORIES:- Committee Meeting,Members,Public
ATTACH;FMTTYPE=image/jpeg:https://centervillenoonoptimist.com/wp-content/uploads/2024/01/Youth-Mental-Health-Initiative.jpg
END:VEVENT
BEGIN:VEVENT
DTSTART;TZID=America/New_York:20240806T114500
DTEND;TZID=America/New_York:20240806T130000
DTSTAMP:20260424T233405
CREATED:20240720T040134Z
LAST-MODIFIED:20240806T005721Z
UID:10000280-1722944700-1722949200@centervillenoonoptimist.com
SUMMARY:CNO Lunch - Foundation for CWPD
DESCRIPTION:Join us for lunch as our speaker is from the Foundation for the Centerville-Washington Park District. \n\n\n\nGuests are welcome to attend.
URL:https://centervillenoonoptimist.com/event/cno-lunch-western-ohio-girl-scouts/
LOCATION:Yankee Trace Golf Club\, 10000 Yankee St\,\, Centerville\, 45458
CATEGORIES:- CNO Lunch Meeting,Members,Public
ATTACH;FMTTYPE=image/png:https://centervillenoonoptimist.com/wp-content/uploads/2023/10/Club-Photo-2022-Small.png
END:VEVENT
BEGIN:VEVENT
DTSTART;TZID=America/New_York:20240803T090000
DTEND;TZID=America/New_York:20240803T130000
DTSTAMP:20260424T233405
CREATED:20240120T193730Z
LAST-MODIFIED:20240709T015129Z
UID:10000172-1722675600-1722690000@centervillenoonoptimist.com
SUMMARY:Optimist Kids Day in the Park
DESCRIPTION:In collaboration with several other local Optimist Clubs – we host an annual “Optimist Kids Day in the Park” – this year’s event is on Saturday August 3rd\, 2024 from 9AM until 1PM at Delco Park in Kettering. \n\n\n\nThe event is a completely free\, fun-filled event for the entire family  – with free lunch served at noon.  Bring the kids out and create a great family memory!
URL:https://centervillenoonoptimist.com/event/optimist-kids-day-in-the-park-2/
LOCATION:Delco Park\, 1700 Delco Park Dr\, Kettering\, Ohio\, 45420\, United States
CATEGORIES:Community Event,Members,Public
ATTACH;FMTTYPE=image/png:https://centervillenoonoptimist.com/wp-content/uploads/2023/02/Kids-Day-in-the-Park-Heading.png
END:VEVENT
BEGIN:VEVENT
DTSTART;TZID=America/New_York:20240730T114500
DTEND;TZID=America/New_York:20240730T130000
DTSTAMP:20260424T233405
CREATED:20240524T040214Z
LAST-MODIFIED:20240729T185747Z
UID:10000273-1722339900-1722344400@centervillenoonoptimist.com
SUMMARY:CNO Lunch - Hope Squad Update
DESCRIPTION:Join us for lunch as we receive an update on the CHS Hope Squad. \n\n\n\nGuests are welcome to attend.
URL:https://centervillenoonoptimist.com/event/cno-lunch-skilled-trade-scholarships-2/
LOCATION:Yankee Trace Golf Club\, 10000 Yankee St\,\, Centerville\, 45458
CATEGORIES:- CNO Lunch Meeting,Members,Public
ATTACH;FMTTYPE=image/png:https://centervillenoonoptimist.com/wp-content/uploads/2023/10/Club-Photo-2022-Small.png
END:VEVENT
BEGIN:VEVENT
DTSTART;TZID=America/New_York:20240727T110000
DTEND;TZID=America/New_York:20240727T140000
DTSTAMP:20260424T233405
CREATED:20240709T014832Z
LAST-MODIFIED:20240709T014833Z
UID:10000254-1722078000-1722088800@centervillenoonoptimist.com
SUMMARY:Big Backyard Party
DESCRIPTION:The 8th annual BIG Backyard Party is here! Join us for an afternoon full of hands-on activities all ages and abilities can enjoy. Activities will include numerous inflatables\, fishing\, archery\, field games\, face painting and so much more!  \n\n\n\nThis event is sponsored by the Centerville-Washington Park District and the Centerville Noon Optimist Club will be providing a fun fishing game at this event.
URL:https://centervillenoonoptimist.com/event/big-backyard-party-2/
LOCATION:Oak Grove Park\, 1790 E Social Row Rd\, Dayton\, 45458
CATEGORIES:Community Event,Members,Public
ATTACH;FMTTYPE=image/png:https://centervillenoonoptimist.com/wp-content/uploads/2023/04/Big-Backyard-Party.png
END:VEVENT
BEGIN:VEVENT
DTSTART;TZID=America/New_York:20240723T114500
DTEND;TZID=America/New_York:20240723T130000
DTSTAMP:20260424T233405
CREATED:20240524T035936Z
LAST-MODIFIED:20240720T035628Z
UID:10000272-1721735100-1721739600@centervillenoonoptimist.com
SUMMARY:CNO Lunch - Goodwill Easter Seals
DESCRIPTION:Join us for lunch as our speakers are Caryl Segalewitz and Mandy Williams from Goodwill Easter Seals of the Miami Valley. \n\n\n\nGuests are welcome to attend.
URL:https://centervillenoonoptimist.com/event/cno-lunch-20/
LOCATION:Yankee Trace Golf Club\, 10000 Yankee St\,\, Centerville\, 45458
CATEGORIES:- CNO Lunch Meeting,Members,Public
ATTACH;FMTTYPE=image/png:https://centervillenoonoptimist.com/wp-content/uploads/2023/10/Club-Photo-2022-Small.png
END:VEVENT
BEGIN:VEVENT
DTSTART;TZID=America/New_York:20240718T173000
DTEND;TZID=America/New_York:20240718T190000
DTSTAMP:20260424T233405
CREATED:20240223T015129Z
LAST-MODIFIED:20240522T211614Z
UID:10000240-1721323800-1721329200@centervillenoonoptimist.com
SUMMARY:Optimist 2.0 - Crooked Handle
DESCRIPTION:Join us July 18th and see how the Centerville Noon Optimist Club – a world class volunteer organization – makes a difference in local kids’ lives! This month\, we will be at Crooked Handle and will be joined by members of the Springboro Optimist Club and the Springboro Chamber of Commerce for networking! \n\n\n\n• Join us every Third Thursday at various local social venues for community building\, fun\, and networking• Listen to a guest speaker or participate in a fun filled social activity• Learn more about how you can help us help kids in the community \n\n\n\nAs always\, snacks will be provided. \n\n\n\nNetworking 5:30-6:00Meeting 6:00-6:30Social time 6:30-7:00
URL:https://centervillenoonoptimist.com/event/optimist-2-0-crooked-handle/
LOCATION:Crooked Handle\, 760 N Main St\,\, Springboro\, Ohio\, 45066\, United States
CATEGORIES:- CNO 2.0 Meeting,Members,Public
ATTACH;FMTTYPE=image/png:https://centervillenoonoptimist.com/wp-content/uploads/2024/02/2.0-July-2024-Website.png
END:VEVENT
BEGIN:VEVENT
DTSTART;TZID=America/New_York:20240716T114500
DTEND;TZID=America/New_York:20240716T130000
DTSTAMP:20260424T233405
CREATED:20240524T033546Z
LAST-MODIFIED:20240711T211654Z
UID:10000271-1721130300-1721134800@centervillenoonoptimist.com
SUMMARY:CNO Lunch - Memorial Scholarships
DESCRIPTION:Join us for lunch as we award our Memorial Scholarships. \n\n\n\nGuests are welcome to attend.
URL:https://centervillenoonoptimist.com/event/cno-lunch-memorial-scholarships-2/
LOCATION:Yankee Trace Golf Club\, 10000 Yankee St\,\, Centerville\, 45458
CATEGORIES:- CNO Lunch Meeting,Members,Public
ATTACH;FMTTYPE=image/png:https://centervillenoonoptimist.com/wp-content/uploads/2023/10/Club-Photo-2022-Small.png
END:VEVENT
BEGIN:VEVENT
DTSTART;TZID=America/New_York:20240715T104500
DTEND;TZID=America/New_York:20240715T200000
DTSTAMP:20260424T233405
CREATED:20240129T161646Z
LAST-MODIFIED:20240711T210110Z
UID:10000206-1721040300-1721073600@centervillenoonoptimist.com
SUMMARY:Tom Frazier Tee Off for Youth Golf Classic
DESCRIPTION:The annual Tom Frazier Memorial Tee Off for Youth Classic will be: Monday July 15th\, 2024 at Sycamore Creek Country Club in Springboro.  Golfers arrive at 10:45am and Tee Time is 12:00pm. \n\n\n\nThe 2024 event will be even bigger and better! We look forward to bringing you this golf outing with the proceeds going to Dayton Children’s Hospital’s Hematology/Oncology Department and other youth programs throughout the year. \n\n\n\nOur many sponsors help make this a highly successful event year after year. More than $200\,000 has been donated to Dayton Children’s in the last fifteen years. Thanks to all who sponsor\, golf\, and volunteer each year for this important fundraiser. Your help continues our efforts to benefit area children. Your involvement makes a major difference in making this happen. For more information\, please call 937-221-6720. \n\n\n\n\nTom Frazier Tee Off for Youth Golf Classic Event Page
URL:https://centervillenoonoptimist.com/event/tom-frazier-tee-off-for-youth-golf-classic-2/
LOCATION:Sycamore Creek Country Club\, 8300 Country Club Ln\, Springboro\, 45066
CATEGORIES:Community Event,Members,Public
ATTACH;FMTTYPE=image/png:https://centervillenoonoptimist.com/wp-content/uploads/2023/03/Tee-Off-for-Youth-Golf-Classic.png
END:VEVENT
BEGIN:VEVENT
DTSTART;TZID=America/New_York:20240709T114500
DTEND;TZID=America/New_York:20240709T130000
DTSTAMP:20260424T233405
CREATED:20240524T030042Z
LAST-MODIFIED:20240524T030046Z
UID:10000270-1720525500-1720530000@centervillenoonoptimist.com
SUMMARY:CNO Lunch - Club Day
DESCRIPTION:Join us for lunch as we focus on club activities\, including a recap of the Optimist International Convention. \n\n\n\nGuests are welcome to attend.
URL:https://centervillenoonoptimist.com/event/cno-lunch-club-day-10/
LOCATION:Yankee Trace Golf Club\, 10000 Yankee St\,\, Centerville\, 45458
CATEGORIES:- CNO Lunch Meeting,Members,Public
ATTACH;FMTTYPE=image/png:https://centervillenoonoptimist.com/wp-content/uploads/2023/10/Club-Photo-2022-Small.png
END:VEVENT
END:VCALENDAR