BEGIN:VCALENDAR
VERSION:2.0
PRODID:-//Centerville Noon Optimist - ECPv6.15.20//NONSGML v1.0//EN
CALSCALE:GREGORIAN
METHOD:PUBLISH
X-ORIGINAL-URL:https://centervillenoonoptimist.com
X-WR-CALDESC:Events for Centerville Noon Optimist
REFRESH-INTERVAL;VALUE=DURATION:PT1H
X-Robots-Tag:noindex
X-PUBLISHED-TTL:PT1H
BEGIN:VTIMEZONE
TZID:America/New_York
BEGIN:DAYLIGHT
TZOFFSETFROM:-0500
TZOFFSETTO:-0400
TZNAME:EDT
DTSTART:20220313T070000
END:DAYLIGHT
BEGIN:STANDARD
TZOFFSETFROM:-0400
TZOFFSETTO:-0500
TZNAME:EST
DTSTART:20221106T060000
END:STANDARD
BEGIN:DAYLIGHT
TZOFFSETFROM:-0500
TZOFFSETTO:-0400
TZNAME:EDT
DTSTART:20230312T070000
END:DAYLIGHT
BEGIN:STANDARD
TZOFFSETFROM:-0400
TZOFFSETTO:-0500
TZNAME:EST
DTSTART:20231105T060000
END:STANDARD
BEGIN:DAYLIGHT
TZOFFSETFROM:-0500
TZOFFSETTO:-0400
TZNAME:EDT
DTSTART:20240310T070000
END:DAYLIGHT
BEGIN:STANDARD
TZOFFSETFROM:-0400
TZOFFSETTO:-0500
TZNAME:EST
DTSTART:20241103T060000
END:STANDARD
BEGIN:DAYLIGHT
TZOFFSETFROM:-0500
TZOFFSETTO:-0400
TZNAME:EDT
DTSTART:20250309T070000
END:DAYLIGHT
BEGIN:STANDARD
TZOFFSETFROM:-0400
TZOFFSETTO:-0500
TZNAME:EST
DTSTART:20251102T060000
END:STANDARD
BEGIN:DAYLIGHT
TZOFFSETFROM:-0500
TZOFFSETTO:-0400
TZNAME:EDT
DTSTART:20260308T070000
END:DAYLIGHT
BEGIN:STANDARD
TZOFFSETFROM:-0400
TZOFFSETTO:-0500
TZNAME:EST
DTSTART:20261101T060000
END:STANDARD
END:VTIMEZONE
BEGIN:VEVENT
DTSTART;TZID=America/New_York:20250704T080000
DTEND;TZID=America/New_York:20250704T160000
DTSTAMP:20260423T035444
CREATED:20250506T141712Z
LAST-MODIFIED:20250506T141713Z
UID:10000449-1751616000-1751644800@centervillenoonoptimist.com
SUMMARY:Volunteer - Americana Festival Booth
DESCRIPTION:Join us at the Centerville Americana Festival in our booth as we have fun handouts for the kids and talk to the adults about what our club does. \n\n\n\nPlease wear an Optimist shirt if you have one! \n\n\nThis form is currently closed for submissions.
URL:https://centervillenoonoptimist.com/event/volunteer-americana-festival-booth-3/
LOCATION:Americana Booth in Centerville\, N Main St\, Centerville\, Ohio\, 45459\, United States
CATEGORIES:Members,Volunteer
ATTACH;FMTTYPE=image/jpeg:https://centervillenoonoptimist.com/wp-content/uploads/2025/05/Americana-Booth-2023.jpg
END:VEVENT
BEGIN:VEVENT
DTSTART;TZID=America/New_York:20240704T080000
DTEND;TZID=America/New_York:20240704T160000
DTSTAMP:20260423T035444
CREATED:20240524T011054Z
LAST-MODIFIED:20240524T011057Z
UID:10000266-1720080000-1720108800@centervillenoonoptimist.com
SUMMARY:Volunteer - Americana Festival Booth
DESCRIPTION:Join us at the Centerville Americana Festival in our booth as we have fun handouts for the kids and talk to the adults about what our club does. \n\n\n\nPlease wear an Optimist shirt if you have one! \n\n\nThis form is currently closed for submissions.
URL:https://centervillenoonoptimist.com/event/volunteer-americana-festival-booth-2/
LOCATION:Americana Booth in Centerville\, N Main St\, Centerville\, Ohio\, 45459\, United States
CATEGORIES:Members,Volunteer
ATTACH;FMTTYPE=image/jpeg:https://centervillenoonoptimist.com/wp-content/uploads/2023/02/Amnericana-51-e1716513013565.jpg
END:VEVENT
BEGIN:VEVENT
DTSTART;TZID=America/New_York:20230823T080000
DTEND;TZID=America/New_York:20230823T170000
DTSTAMP:20260423T035444
CREATED:20230727T110013Z
LAST-MODIFIED:20230729T140914Z
UID:10000087-1692777600-1692810000@centervillenoonoptimist.com
SUMMARY:Training Simulation - Volunteer Americana Festival Booth
DESCRIPTION:This is a test event. You can sign up as many times as you like to see how it works. \n\n\n\n\n\n\nzSandbox Americana Form for Training to Use Online Signups\n\n\n\n\n\n\n\n\n    Name\n        *\n    \n    \n    First\n    \n\n\n    Last\n        *\n    \n    \n    Last\n    \n\n\n    Email\n        *\n    \n    \n    \n    \n\n\n    Volunteers\n        \n    \n    \n    How many people will be volunteering including yourself?\n    \n\n\n    Select Volunteer Job\n        \n    \n    					\n			 8:00am – 10:00am (setup)\n					\n			 10:00am – 12:00pm\n					\n			 12:00pm – 2:00pm\n					\n			 2:00pm – 4:00pm\n					\n			 4:00pm (tear down)\n\n    \n    \n\n\n    Message\n        \n    \n    \n    Add anything you want the organizer to know.\n    \n\n\nVolunteer 2\n\n\n\n    Name 2\n        *\n    \n    \n	\n		Name 2	\n\n	\n					\n				\n					First				\n\n				First			\n						\n				\n					Last				\n\n				Last			\n				\n\n\n    \n    \n\n\n    Email 2\n        \n    \n    \n    Optionally add an additional email.\n    \n\n\n    Select Volunteer Job\n        \n    \n    					\n			 8:00am – 10:00am (setup)\n					\n			 10:00am – 12:00pm\n					\n			 12:00pm – 2:00pm\n					\n			 2:00pm – 4:00pm\n					\n			 4:00pm (tear down)\n\n    \n    \n\n\n\nVolunteer 3\n\n\n\n    Name 3\n        *\n    \n    \n	\n		Name 3	\n\n	\n					\n				\n					First				\n\n				First			\n						\n				\n					Last				\n\n				Last			\n				\n\n\n    \n    \n\n\n    Email 3\n        \n    \n    \n    Optionally add an additional email.\n    \n\n\n    Select Volunteer Job\n        \n    \n    					\n			 8:00am – 10:00am (setup)\n					\n			 10:00am – 12:00pm\n					\n			 12:00pm – 2:00pm\n					\n			 2:00pm – 4:00pm\n					\n			 4:00pm (tear down)\n\n    \n    \n\n\n\nVolunteer 4\n\n\n\n    Name 4\n        *\n    \n    \n	\n		Name 4	\n\n	\n					\n				\n					First				\n\n				First			\n						\n				\n					Last				\n\n				Last			\n				\n\n\n    \n    \n\n\n    Email 4\n        \n    \n    \n    Optionally add an additional email.\n    \n\n\n    Select Volunteer Job\n        \n    \n    					\n			 8:00am – 10:00am (setup)\n					\n			 10:00am – 12:00pm\n					\n			 12:00pm – 2:00pm\n					\n			 2:00pm – 4:00pm\n					\n			 4:00pm (tear down)\n\n    \n    \n\n\n\nHidden\n\n\n\n    Event\n        \n    \n    \n    \n    \n\n\n    Date\n        \n    \n    \n    \n    \n\n\n    Location\n        \n    \n    \n    \n    \n\n\n	\n			\n			\n				If you are human\, leave this field blank.			\n			\n		\n		\n\nRegister\n\n\n\n\n\nΔ \n\n\n\n\nNote that clicking “Add to Calendar” does not register you it just adds to your calendar. Use “Register” button above.
URL:https://centervillenoonoptimist.com/event/sandbox-volunteer-americana-festival-booth/
LOCATION:Americana Booth in Centerville\, N Main St\, Centerville\, Ohio\, 45459\, United States
CATEGORIES:Simulation,Volunteer
ATTACH;FMTTYPE=image/png:https://centervillenoonoptimist.com/wp-content/uploads/2023/07/eventtrainingpic.png
END:VEVENT
BEGIN:VEVENT
DTSTART;TZID=America/New_York:20230704T080000
DTEND;TZID=America/New_York:20230704T170000
DTSTAMP:20260423T035444
CREATED:20230613T150203Z
LAST-MODIFIED:20230613T150205Z
UID:10000086-1688457600-1688490000@centervillenoonoptimist.com
SUMMARY:Volunteer - Americana Festival Booth
DESCRIPTION:Join us at the Centerville Americana Festival in our booth as we have fun handouts for the kids and talk to the adults about what our club does. \n\n\n\nPlease wear an Optimist shirt if you have one! \n\n\nThis form is currently closed for submissions. \n All shifts are covered. Please come out to Americana and stop by our booth. \nThanks to everyone volunteering
URL:https://centervillenoonoptimist.com/event/volunteer-americana-festival-booth/
LOCATION:Americana Booth in Centerville\, N Main St\, Centerville\, Ohio\, 45459\, United States
CATEGORIES:Volunteer
ATTACH;FMTTYPE=image/jpeg:https://centervillenoonoptimist.com/wp-content/uploads/2023/02/Amnericana-51-e1716513013565.jpg
END:VEVENT
END:VCALENDAR