BEGIN:VCALENDAR
VERSION:2.0
PRODID:-//Centerville Noon Optimist - ECPv6.15.20//NONSGML v1.0//EN
CALSCALE:GREGORIAN
METHOD:PUBLISH
X-ORIGINAL-URL:https://centervillenoonoptimist.com
X-WR-CALDESC:Events for Centerville Noon Optimist
REFRESH-INTERVAL;VALUE=DURATION:PT1H
X-Robots-Tag:noindex
X-PUBLISHED-TTL:PT1H
BEGIN:VTIMEZONE
TZID:America/New_York
BEGIN:DAYLIGHT
TZOFFSETFROM:-0500
TZOFFSETTO:-0400
TZNAME:EDT
DTSTART:20220313T070000
END:DAYLIGHT
BEGIN:STANDARD
TZOFFSETFROM:-0400
TZOFFSETTO:-0500
TZNAME:EST
DTSTART:20221106T060000
END:STANDARD
BEGIN:DAYLIGHT
TZOFFSETFROM:-0500
TZOFFSETTO:-0400
TZNAME:EDT
DTSTART:20230312T070000
END:DAYLIGHT
BEGIN:STANDARD
TZOFFSETFROM:-0400
TZOFFSETTO:-0500
TZNAME:EST
DTSTART:20231105T060000
END:STANDARD
BEGIN:DAYLIGHT
TZOFFSETFROM:-0500
TZOFFSETTO:-0400
TZNAME:EDT
DTSTART:20240310T070000
END:DAYLIGHT
BEGIN:STANDARD
TZOFFSETFROM:-0400
TZOFFSETTO:-0500
TZNAME:EST
DTSTART:20241103T060000
END:STANDARD
BEGIN:DAYLIGHT
TZOFFSETFROM:-0500
TZOFFSETTO:-0400
TZNAME:EDT
DTSTART:20250309T070000
END:DAYLIGHT
BEGIN:STANDARD
TZOFFSETFROM:-0400
TZOFFSETTO:-0500
TZNAME:EST
DTSTART:20251102T060000
END:STANDARD
BEGIN:DAYLIGHT
TZOFFSETFROM:-0500
TZOFFSETTO:-0400
TZNAME:EDT
DTSTART:20260308T070000
END:DAYLIGHT
BEGIN:STANDARD
TZOFFSETFROM:-0400
TZOFFSETTO:-0500
TZNAME:EST
DTSTART:20261101T060000
END:STANDARD
END:VTIMEZONE
BEGIN:VEVENT
DTSTART;TZID=America/New_York:20250610T080000
DTEND;TZID=America/New_York:20250611T080000
DTSTAMP:20260424T062328
CREATED:20250221T233041Z
LAST-MODIFIED:20250403T155920Z
UID:10000416-1749542400-1749628800@centervillenoonoptimist.com
SUMMARY:Optimist Junior Golf Ohio South Qualifier
DESCRIPTION:The Optimist Junior Golf Ohio South Qualifier will be: Tuesday and Wednesday\, June 10th – 11th\, 2025 at Heatherwoode Golf Club in Springboro. \n\n\n\nAge Divisions\n\n\n\nBoys 10-11\, 12-13\, 14-15\, 16-18\n\n\n\nGirls 10-12\, 13-14\, 15-18\n\n\n\nThe 2025 Junior Golf Qualifying Tournament will be a 2 day\, no cut qualifying event. All winners/qualifiers will go to “The Optimist” at Doral Resort in Miami\, FL. \n\n\n\nOur local business sponsors and Optimist Clubs will pay the International Championship entry fee for the top qualifying winners in each of the 7 age brackets\, a $730 value! \n\n\n\n\nOptimist Junior Golf Championship Qualifier Event Page
URL:https://centervillenoonoptimist.com/event/optimist-junior-golf-ohio-south-qualifier-3/
LOCATION:Heatherwoode Golf Club\, 88 Heatherwoode Blvd\, Springboro\, Ohio\, 45066\, United States
CATEGORIES:Community Event,Members,Public
ATTACH;FMTTYPE=image/jpeg:https://centervillenoonoptimist.com/wp-content/uploads/2023/04/Optimist-Junior-Golf-e1708656018871.jpg
END:VEVENT
BEGIN:VEVENT
DTSTART;TZID=America/New_York:20240611T080000
DTEND;TZID=America/New_York:20240612T080000
DTSTAMP:20260424T062328
CREATED:20240223T023537Z
LAST-MODIFIED:20240223T024532Z
UID:10000241-1718092800-1718179200@centervillenoonoptimist.com
SUMMARY:Optimist Junior Golf Ohio South Qualifier
DESCRIPTION:The Optimist Junior Golf Ohio South Qualifier will be: Tuesday and Wednesday\, June 11th – 12th\, 2024 at Heatherwoode Golf Club in Springboro. \n\n\n\nAge Divisions\n\n\n\nBoys 10-11\, 12-13\, 14-15\, 16-18\n\n\n\nGirls 10-12\, 13-14\, 15-18\n\n\n\nThe 2024 Junior Golf Qualifying Tournament will be a 2 day\, no cut qualifying event.  All winners/qualifiers will go to “The Optimist” at Doral Resort in Miami\, FL.  \n\n\n\nWe have 23 spots open for participants in our tournament to advance to the International Championship! Our local business sponsors and Optimist Clubs will pay the International Championship entry fee for the top qualifying winners in each of the 7 age brackets\, a $670 value! \n\n\n\n\nOptimist Junior Golf Championship Qualifier Event Page
URL:https://centervillenoonoptimist.com/event/optimist-junior-golf-ohio-south-qualifier-2/
LOCATION:Heatherwoode Golf Club\, 88 Heatherwoode Blvd\, Springboro\, Ohio\, 45066\, United States
CATEGORIES:Community Event,Members,Public
ATTACH;FMTTYPE=image/jpeg:https://centervillenoonoptimist.com/wp-content/uploads/2023/04/Optimist-Junior-Golf-e1708656018871.jpg
END:VEVENT
BEGIN:VEVENT
DTSTART;TZID=America/New_York:20230613T080000
DTEND;TZID=America/New_York:20230614T080000
DTSTAMP:20260424T062328
CREATED:20230419T151224Z
LAST-MODIFIED:20230427T201036Z
UID:10000075-1686643200-1686729600@centervillenoonoptimist.com
SUMMARY:Optimist Junior Golf Ohio South Qualifier
DESCRIPTION:The Optimist Junior Golf Ohio South Qualifier will be: Tuesday and Wednesday\, June 13th – 14th\, 2023 at Heatherwoode Golf Club in Springboro. \n\n\n\nAge Divisions\n\n\n\nBoys 10-11\, 12-13\, 14-15\, 16-18\n\n\n\nGirls 10-12\, 13-14\, 15-18\n\n\n\nThe 2023 Junior Golf Qualifying Tournament will be a 2 day\, no cut qualifying event.  All winners/qualifiers will go to “The Optimist” at Doral Resort in Miami\, FL. \n\n\n\n\nOptimist Junior Golf Championship Qualifier Event Page
URL:https://centervillenoonoptimist.com/event/optimist-junior-golf-ohio-south-qualifier/
LOCATION:Heatherwoode Golf Club\, 88 Heatherwoode Blvd\, Springboro\, Ohio\, 45066\, United States
CATEGORIES:Community Event,Members,Public
ATTACH;FMTTYPE=image/jpeg:https://centervillenoonoptimist.com/wp-content/uploads/2023/04/Optimist-Junior-Golf-e1708656018871.jpg
END:VEVENT
END:VCALENDAR