BEGIN:VCALENDAR
VERSION:2.0
PRODID:-//Centerville Noon Optimist - ECPv6.15.20//NONSGML v1.0//EN
CALSCALE:GREGORIAN
METHOD:PUBLISH
X-WR-CALNAME:Centerville Noon Optimist
X-ORIGINAL-URL:https://centervillenoonoptimist.com
X-WR-CALDESC:Events for Centerville Noon Optimist
REFRESH-INTERVAL;VALUE=DURATION:PT1H
X-Robots-Tag:noindex
X-PUBLISHED-TTL:PT1H
BEGIN:VTIMEZONE
TZID:America/New_York
BEGIN:DAYLIGHT
TZOFFSETFROM:-0500
TZOFFSETTO:-0400
TZNAME:EDT
DTSTART:20230312T070000
END:DAYLIGHT
BEGIN:STANDARD
TZOFFSETFROM:-0400
TZOFFSETTO:-0500
TZNAME:EST
DTSTART:20231105T060000
END:STANDARD
BEGIN:DAYLIGHT
TZOFFSETFROM:-0500
TZOFFSETTO:-0400
TZNAME:EDT
DTSTART:20240310T070000
END:DAYLIGHT
BEGIN:STANDARD
TZOFFSETFROM:-0400
TZOFFSETTO:-0500
TZNAME:EST
DTSTART:20241103T060000
END:STANDARD
BEGIN:DAYLIGHT
TZOFFSETFROM:-0500
TZOFFSETTO:-0400
TZNAME:EDT
DTSTART:20250309T070000
END:DAYLIGHT
BEGIN:STANDARD
TZOFFSETFROM:-0400
TZOFFSETTO:-0500
TZNAME:EST
DTSTART:20251102T060000
END:STANDARD
BEGIN:DAYLIGHT
TZOFFSETFROM:-0500
TZOFFSETTO:-0400
TZNAME:EDT
DTSTART:20260308T070000
END:DAYLIGHT
BEGIN:STANDARD
TZOFFSETFROM:-0400
TZOFFSETTO:-0500
TZNAME:EST
DTSTART:20261101T060000
END:STANDARD
END:VTIMEZONE
BEGIN:VEVENT
DTSTART;TZID=America/New_York:20251120T173000
DTEND;TZID=America/New_York:20251120T190000
DTSTAMP:20260423T084127
CREATED:20251112T043032Z
LAST-MODIFIED:20251112T043034Z
UID:10000493-1763659800-1763665200@centervillenoonoptimist.com
SUMMARY:Optimist 2.0 - Heavier than Air Brewing Co - Practical AI
DESCRIPTION:Join us and see how the Centerville Noon Optimist Club – a world class volunteer organization – makes a difference in local kids’ lives! This month\, we will be at Heavier than Air Brewing Co! Our speaker will be CNO member Patrick Arehart\, speaking about Practical AI: Uses and Insights. \n\n\n\n• Join us every Third Thursday at various local social venues for community building\, fun\, and networking• Listen to a guest speaker or participate in a fun filled social activity• Learn more about how you can help us help kids in the community \n\n\n\nAs always\, snacks will be provided.  \n\n\n\nNetworking 5:30-6:00Meeting 6:00-6:30Social time 6:30-7:00
URL:https://centervillenoonoptimist.com/event/optimist-2-0-heavier-than-air-brewing-co-practical-ai/
LOCATION:Heavier Than Air Brewing Co.\, 497 Miamisburg Centerville Rd\, Dayton\, 45459
CATEGORIES:- CNO 2.0 Meeting,Members,Public
ATTACH;FMTTYPE=image/png:https://centervillenoonoptimist.com/wp-content/uploads/2025/11/Heavier-than-Air-2.0.png
END:VEVENT
BEGIN:VEVENT
DTSTART;TZID=America/New_York:20251106T173000
DTEND;TZID=America/New_York:20251106T183000
DTSTAMP:20260423T084127
CREATED:20251112T043221Z
LAST-MODIFIED:20251112T043224Z
UID:10000494-1762450200-1762453800@centervillenoonoptimist.com
SUMMARY:Optimist 2.0 Committee Meeting
DESCRIPTION:Join us for an event planning meeting of the Optimist 2.0 Committee.
URL:https://centervillenoonoptimist.com/event/optimist-2-0-committee-meeting-19/
LOCATION:Heavier Than Air Brewing Co.\, 497 Miamisburg Centerville Rd\, Dayton\, 45459
CATEGORIES:- Committee Meeting,Members
ATTACH;FMTTYPE=image/png:https://centervillenoonoptimist.com/wp-content/uploads/2025/11/Heavier-than-Air-2.0.png
END:VEVENT
BEGIN:VEVENT
DTSTART;TZID=America/New_York:20250320T173000
DTEND;TZID=America/New_York:20250320T190000
DTSTAMP:20260423T084127
CREATED:20250225T202907Z
LAST-MODIFIED:20250225T202914Z
UID:10000417-1742491800-1742497200@centervillenoonoptimist.com
SUMMARY:Optimist 2.0 - Heavier Than Air Brewing - March Madness
DESCRIPTION:Join us March 20th and see how the Centerville Noon Optimist Club – a world class volunteer organization – makes a difference in local kids’ lives! This month\, we will be at Heavier Than Air Brewing Co for March Madness! \n\n\n\n• Join us every Third Thursday at various local social venues for community building\, fun\, and networking• Listen to a guest speaker or participate in a fun filled social activity• Learn more about how you can help us help kids in the community \n\n\n\nAs always\, snacks will be provided. \n\n\n\nNetworking 5:30-6:00Meeting 6:00-6:30Social time 6:30-7:00
URL:https://centervillenoonoptimist.com/event/optimist-2-0-heavier-than-air-brewing-march-madness/
LOCATION:Heavier Than Air Brewing Co.\, 497 Miamisburg Centerville Rd\, Dayton\, 45459
CATEGORIES:- CNO 2.0 Meeting,Members,Public
ATTACH;FMTTYPE=image/png:https://centervillenoonoptimist.com/wp-content/uploads/2023/10/2.0-March-2024-1.png
END:VEVENT
BEGIN:VEVENT
DTSTART;TZID=America/New_York:20250306T173000
DTEND;TZID=America/New_York:20250306T183000
DTSTAMP:20260423T084127
CREATED:20250225T203031Z
LAST-MODIFIED:20250225T203037Z
UID:10000418-1741282200-1741285800@centervillenoonoptimist.com
SUMMARY:Optimist 2.0 Committee Meeting
DESCRIPTION:Join us for an event planning meeting of the Optimist 2.0 Committee.
URL:https://centervillenoonoptimist.com/event/optimist-2-0-committee-meeting-12/
LOCATION:Heavier Than Air Brewing Co.\, 497 Miamisburg Centerville Rd\, Dayton\, 45459
CATEGORIES:- Committee Meeting,Members
ATTACH;FMTTYPE=image/png:https://centervillenoonoptimist.com/wp-content/uploads/2023/10/2.0-March-2024-1.png
END:VEVENT
BEGIN:VEVENT
DTSTART;TZID=America/New_York:20240905T173000
DTEND;TZID=America/New_York:20240905T183000
DTSTAMP:20260423T084127
CREATED:20240901T031358Z
LAST-MODIFIED:20240907T165516Z
UID:10000307-1725557400-1725561000@centervillenoonoptimist.com
SUMMARY:Optimist 2.0 Committee Meeting
DESCRIPTION:Join us for an event planning meeting of the Optimist 2.0 Committee.
URL:https://centervillenoonoptimist.com/event/optimist-2-0-committee-meeting-7/
LOCATION:Heavier Than Air Brewing Co.\, 497 Miamisburg Centerville Rd\, Dayton\, 45459
CATEGORIES:- Committee Meeting,Members
ATTACH;FMTTYPE=image/png:https://centervillenoonoptimist.com/wp-content/uploads/2024/08/2.0-September-2024-website.png
END:VEVENT
BEGIN:VEVENT
DTSTART;TZID=America/New_York:20240321T173000
DTEND;TZID=America/New_York:20240321T190000
DTSTAMP:20260423T084127
CREATED:20231013T183816Z
LAST-MODIFIED:20240121T021048Z
UID:10000133-1711042200-1711047600@centervillenoonoptimist.com
SUMMARY:Optimist 2.0 - Heavier Than Air Brewing - March Madness
DESCRIPTION:Join us March 21st and see how the Centerville Noon Optimist Club – a world class volunteer organization – makes a difference in local kids’ lives!  This month\, we will be at Heavier Than Air Brewing Co for March Madness! \n\n\n\n• Join us every Third Thursday at various local social venues for community building\, fun\, and networking• Listen to a guest speaker or participate in a fun filled social activity• Learn more about how you can help us help kids in the community \n\n\n\nAs always\, snacks will be provided. \n\n\n\nNetworking 5:30-6:00Meeting 6:00-6:30Social time 6:30-7:00
URL:https://centervillenoonoptimist.com/event/optimist-2-0-2/
LOCATION:Heavier Than Air Brewing Co.\, 497 Miamisburg Centerville Rd\, Dayton\, 45459
CATEGORIES:- CNO 2.0 Meeting,Members,Public
ATTACH;FMTTYPE=image/png:https://centervillenoonoptimist.com/wp-content/uploads/2023/10/2.0-March-2024-1.png
END:VEVENT
BEGIN:VEVENT
DTSTART;TZID=America/New_York:20240307T173000
DTEND;TZID=America/New_York:20240307T183000
DTSTAMP:20260423T084127
CREATED:20240129T162107Z
LAST-MODIFIED:20240129T162110Z
UID:10000208-1709832600-1709836200@centervillenoonoptimist.com
SUMMARY:Optimist 2.0 Committee Meeting
DESCRIPTION:Join us for an event planning meeting of the Optimist 2.0 Committee.
URL:https://centervillenoonoptimist.com/event/optimist-2-0-committee-meeting-2/
LOCATION:Heavier Than Air Brewing Co.\, 497 Miamisburg Centerville Rd\, Dayton\, 45459
CATEGORIES:- Committee Meeting,Members
ATTACH;FMTTYPE=image/png:https://centervillenoonoptimist.com/wp-content/uploads/2023/10/2.0-March-2024-1.png
END:VEVENT
END:VCALENDAR