BEGIN:VCALENDAR
VERSION:2.0
PRODID:-//Centerville Noon Optimist - ECPv6.15.20//NONSGML v1.0//EN
CALSCALE:GREGORIAN
METHOD:PUBLISH
X-ORIGINAL-URL:https://centervillenoonoptimist.com
X-WR-CALDESC:Events for Centerville Noon Optimist
REFRESH-INTERVAL;VALUE=DURATION:PT1H
X-Robots-Tag:noindex
X-PUBLISHED-TTL:PT1H
BEGIN:VTIMEZONE
TZID:America/New_York
BEGIN:DAYLIGHT
TZOFFSETFROM:-0500
TZOFFSETTO:-0400
TZNAME:EDT
DTSTART:20230312T070000
END:DAYLIGHT
BEGIN:STANDARD
TZOFFSETFROM:-0400
TZOFFSETTO:-0500
TZNAME:EST
DTSTART:20231105T060000
END:STANDARD
BEGIN:DAYLIGHT
TZOFFSETFROM:-0500
TZOFFSETTO:-0400
TZNAME:EDT
DTSTART:20240310T070000
END:DAYLIGHT
BEGIN:STANDARD
TZOFFSETFROM:-0400
TZOFFSETTO:-0500
TZNAME:EST
DTSTART:20241103T060000
END:STANDARD
BEGIN:DAYLIGHT
TZOFFSETFROM:-0500
TZOFFSETTO:-0400
TZNAME:EDT
DTSTART:20250309T070000
END:DAYLIGHT
BEGIN:STANDARD
TZOFFSETFROM:-0400
TZOFFSETTO:-0500
TZNAME:EST
DTSTART:20251102T060000
END:STANDARD
END:VTIMEZONE
BEGIN:VEVENT
DTSTART;TZID=America/New_York:20241202T173000
DTEND;TZID=America/New_York:20241202T183000
DTSTAMP:20260421T034721
CREATED:20241105T025233Z
LAST-MODIFIED:20241105T025236Z
UID:10000336-1733160600-1733164200@centervillenoonoptimist.com
SUMMARY:Marketing Committee Meeting
DESCRIPTION:Join us for a committee meeting for the Marketing Committee.  The mission of the Marketing Committee is to create and coordinate all inbound and outbound marketing efforts for the club in order to unify one brand.
URL:https://centervillenoonoptimist.com/event/marketing-committee-meeting-10/
LOCATION:Lizard Apparel and Promotions\, 7333 Paragon Road Suite 230\, Dayton\, OH\, 45459\, United States
CATEGORIES:- Committee Meeting,Members
ATTACH;FMTTYPE=image/png:https://centervillenoonoptimist.com/wp-content/uploads/2024/01/Marketing-Committee.png
END:VEVENT
BEGIN:VEVENT
DTSTART;TZID=America/New_York:20241106T173000
DTEND;TZID=America/New_York:20241106T183000
DTSTAMP:20260421T034721
CREATED:20240120T185200Z
LAST-MODIFIED:20241105T212325Z
UID:10000165-1730914200-1730917800@centervillenoonoptimist.com
SUMMARY:Youth Mental Health Initiative Committee Meeting
DESCRIPTION:Join us for a committee meeting of the Youth Mental Health Initiative Committee
URL:https://centervillenoonoptimist.com/event/youth-mental-health-initiative-committee-meeting-10/
LOCATION:Lizard Apparel and Promotions\, 7333 Paragon Road Suite 230\, Dayton\, OH\, 45459\, United States
CATEGORIES:- Committee Meeting,Members
ATTACH;FMTTYPE=image/jpeg:https://centervillenoonoptimist.com/wp-content/uploads/2024/01/Youth-Mental-Health-Initiative.jpg
END:VEVENT
BEGIN:VEVENT
DTSTART;TZID=America/New_York:20241104T173000
DTEND;TZID=America/New_York:20241104T183000
DTSTAMP:20260421T034721
CREATED:20241008T022410Z
LAST-MODIFIED:20241008T022412Z
UID:10000332-1730741400-1730745000@centervillenoonoptimist.com
SUMMARY:Marketing Committee Meeting
DESCRIPTION:Join us for a committee meeting for the Marketing Committee.  The mission of the Marketing Committee is to create and coordinate all inbound and outbound marketing efforts for the club in order to unify one brand.
URL:https://centervillenoonoptimist.com/event/marketing-committee-meeting-9/
LOCATION:Lizard Apparel and Promotions\, 7333 Paragon Road Suite 230\, Dayton\, OH\, 45459\, United States
CATEGORIES:- Committee Meeting,Members
ATTACH;FMTTYPE=image/png:https://centervillenoonoptimist.com/wp-content/uploads/2024/01/Marketing-Committee.png
END:VEVENT
BEGIN:VEVENT
DTSTART;TZID=America/New_York:20240829T173000
DTEND;TZID=America/New_York:20240829T183000
DTSTAMP:20260421T034721
CREATED:20240612T231525Z
LAST-MODIFIED:20240823T011004Z
UID:10000276-1724952600-1724956200@centervillenoonoptimist.com
SUMMARY:Marketing Committee Meeting
DESCRIPTION:Join us for a committee meeting for the Marketing Committee.  The mission of the Marketing Committee is to create and coordinate all inbound and outbound marketing efforts for the club in order to unify one brand.
URL:https://centervillenoonoptimist.com/event/marketing-committee-meeting-7/
LOCATION:Lizard Apparel and Promotions\, 7333 Paragon Road Suite 230\, Dayton\, OH\, 45459\, United States
CATEGORIES:- Committee Meeting,Members
ATTACH;FMTTYPE=image/png:https://centervillenoonoptimist.com/wp-content/uploads/2024/01/Marketing-Committee.png
END:VEVENT
BEGIN:VEVENT
DTSTART;TZID=America/New_York:20240820T180000
DTEND;TZID=America/New_York:20240820T193000
DTSTAMP:20260421T034721
CREATED:20240207T192800Z
LAST-MODIFIED:20240207T192801Z
UID:10000231-1724176800-1724182200@centervillenoonoptimist.com
SUMMARY:CNO Board Meeting
DESCRIPTION:Join us for the monthly Board Meeting as we conduct club business.  All members are welcome to attend.
URL:https://centervillenoonoptimist.com/event/cno-board-meeting-7/
LOCATION:Lizard Apparel and Promotions\, 7333 Paragon Road Suite 230\, Dayton\, OH\, 45459\, United States
CATEGORIES:- Committee Meeting,Members
ATTACH;FMTTYPE=image/png:https://centervillenoonoptimist.com/wp-content/uploads/2024/02/Board-Meeting.png
END:VEVENT
BEGIN:VEVENT
DTSTART;TZID=America/New_York:20240807T173000
DTEND;TZID=America/New_York:20240807T183000
DTSTAMP:20260421T034721
CREATED:20240120T185040Z
LAST-MODIFIED:20240120T185042Z
UID:10000162-1723051800-1723055400@centervillenoonoptimist.com
SUMMARY:Youth Mental Health Initiative Committee Meeting
DESCRIPTION:Join us for a committee meeting of the Youth Mental Health Initiative Committee
URL:https://centervillenoonoptimist.com/event/youth-mental-health-initiative-committee-meeting-7/
LOCATION:Lizard Apparel and Promotions\, 7333 Paragon Road Suite 230\, Dayton\, OH\, 45459\, United States
CATEGORIES:- Committee Meeting,Members,Public
ATTACH;FMTTYPE=image/jpeg:https://centervillenoonoptimist.com/wp-content/uploads/2024/01/Youth-Mental-Health-Initiative.jpg
END:VEVENT
BEGIN:VEVENT
DTSTART;TZID=America/New_York:20240805T173000
DTEND;TZID=America/New_York:20240805T183000
DTSTAMP:20260421T034721
CREATED:20240612T231454Z
LAST-MODIFIED:20240720T035802Z
UID:10000275-1722879000-1722882600@centervillenoonoptimist.com
SUMMARY:Marketing Committee Meeting
DESCRIPTION:Join us for a committee meeting for the Marketing Committee.  The mission of the Marketing Committee is to create and coordinate all inbound and outbound marketing efforts for the club in order to unify one brand.
URL:https://centervillenoonoptimist.com/event/marketing-committee-meeting-6/
LOCATION:Lizard Apparel and Promotions\, 7333 Paragon Road Suite 230\, Dayton\, OH\, 45459\, United States
CATEGORIES:- Committee Meeting,Members
ATTACH;FMTTYPE=image/png:https://centervillenoonoptimist.com/wp-content/uploads/2024/01/Marketing-Committee.png
END:VEVENT
BEGIN:VEVENT
DTSTART;TZID=America/New_York:20240716T180000
DTEND;TZID=America/New_York:20240716T193000
DTSTAMP:20260421T034721
CREATED:20240207T192729Z
LAST-MODIFIED:20240207T192731Z
UID:10000230-1721152800-1721158200@centervillenoonoptimist.com
SUMMARY:CNO Board Meeting
DESCRIPTION:Join us for the monthly Board Meeting as we conduct club business.  All members are welcome to attend.
URL:https://centervillenoonoptimist.com/event/cno-board-meeting-6/
LOCATION:Lizard Apparel and Promotions\, 7333 Paragon Road Suite 230\, Dayton\, OH\, 45459\, United States
CATEGORIES:- Committee Meeting,Members
ATTACH;FMTTYPE=image/png:https://centervillenoonoptimist.com/wp-content/uploads/2024/02/Board-Meeting.png
END:VEVENT
BEGIN:VEVENT
DTSTART;TZID=America/New_York:20240708T173000
DTEND;TZID=America/New_York:20240708T183000
DTSTAMP:20260421T034721
CREATED:20240612T231418Z
LAST-MODIFIED:20240612T231421Z
UID:10000274-1720459800-1720463400@centervillenoonoptimist.com
SUMMARY:Marketing Committee Meeting
DESCRIPTION:Join us for a committee meeting for the Marketing Committee.  The mission of the Marketing Committee is to create and coordinate all inbound and outbound marketing efforts for the club in order to unify one brand.
URL:https://centervillenoonoptimist.com/event/marketing-committee-meeting-5/
LOCATION:Lizard Apparel and Promotions\, 7333 Paragon Road Suite 230\, Dayton\, OH\, 45459\, United States
CATEGORIES:- Committee Meeting,Members
ATTACH;FMTTYPE=image/png:https://centervillenoonoptimist.com/wp-content/uploads/2024/01/Marketing-Committee.png
END:VEVENT
BEGIN:VEVENT
DTSTART;TZID=America/New_York:20240703T173000
DTEND;TZID=America/New_York:20240703T183000
DTSTAMP:20260421T034721
CREATED:20240120T185004Z
LAST-MODIFIED:20240121T220820Z
UID:10000161-1720027800-1720031400@centervillenoonoptimist.com
SUMMARY:Youth Mental Health Initiative Committee Meeting
DESCRIPTION:Join us for a committee meeting of the Youth Mental Health Initiative Committee
URL:https://centervillenoonoptimist.com/event/youth-mental-health-initiative-committee-meeting-6/
LOCATION:Lizard Apparel and Promotions\, 7333 Paragon Road Suite 230\, Dayton\, OH\, 45459\, United States
CATEGORIES:- Committee Meeting,Members
ATTACH;FMTTYPE=image/jpeg:https://centervillenoonoptimist.com/wp-content/uploads/2024/01/Youth-Mental-Health-Initiative.jpg
END:VEVENT
BEGIN:VEVENT
DTSTART;TZID=America/New_York:20240618T180000
DTEND;TZID=America/New_York:20240618T193000
DTSTAMP:20260421T034721
CREATED:20240207T192653Z
LAST-MODIFIED:20240207T192654Z
UID:10000229-1718733600-1718739000@centervillenoonoptimist.com
SUMMARY:CNO Board Meeting
DESCRIPTION:Join us for the monthly Board Meeting as we conduct club business.  All members are welcome to attend.
URL:https://centervillenoonoptimist.com/event/cno-board-meeting-5/
LOCATION:Lizard Apparel and Promotions\, 7333 Paragon Road Suite 230\, Dayton\, OH\, 45459\, United States
CATEGORIES:- Committee Meeting,Members
ATTACH;FMTTYPE=image/png:https://centervillenoonoptimist.com/wp-content/uploads/2024/02/Board-Meeting.png
END:VEVENT
BEGIN:VEVENT
DTSTART;TZID=America/New_York:20240610T173000
DTEND;TZID=America/New_York:20240610T183000
DTSTAMP:20260421T034721
CREATED:20240509T184039Z
LAST-MODIFIED:20240509T184041Z
UID:10000258-1718040600-1718044200@centervillenoonoptimist.com
SUMMARY:Marketing Committee Meeting
DESCRIPTION:Join us for a committee meeting for the Marketing Committee.  The mission of the Marketing Committee is to create and coordinate all inbound and outbound marketing efforts for the club in order to unify one brand.
URL:https://centervillenoonoptimist.com/event/marketing-committee-meeting-4/
LOCATION:Lizard Apparel and Promotions\, 7333 Paragon Road Suite 230\, Dayton\, OH\, 45459\, United States
CATEGORIES:- Committee Meeting,Members
ATTACH;FMTTYPE=image/png:https://centervillenoonoptimist.com/wp-content/uploads/2024/01/Marketing-Committee.png
END:VEVENT
BEGIN:VEVENT
DTSTART;TZID=America/New_York:20240605T173000
DTEND;TZID=America/New_York:20240605T183000
DTSTAMP:20260421T034721
CREATED:20240120T184935Z
LAST-MODIFIED:20240121T220838Z
UID:10000160-1717608600-1717612200@centervillenoonoptimist.com
SUMMARY:Youth Mental Health Initiative Committee Meeting
DESCRIPTION:Join us for a committee meeting of the Youth Mental Health Initiative Committee
URL:https://centervillenoonoptimist.com/event/youth-mental-health-initiative-committee-meeting-5/
LOCATION:Lizard Apparel and Promotions\, 7333 Paragon Road Suite 230\, Dayton\, OH\, 45459\, United States
CATEGORIES:- Committee Meeting,Members
ATTACH;FMTTYPE=image/jpeg:https://centervillenoonoptimist.com/wp-content/uploads/2024/01/Youth-Mental-Health-Initiative.jpg
END:VEVENT
BEGIN:VEVENT
DTSTART;TZID=America/New_York:20240521T180000
DTEND;TZID=America/New_York:20240521T193000
DTSTAMP:20260421T034721
CREATED:20240207T192625Z
LAST-MODIFIED:20240207T192626Z
UID:10000228-1716314400-1716319800@centervillenoonoptimist.com
SUMMARY:CNO Board Meeting
DESCRIPTION:Join us for the monthly Board Meeting as we conduct club business.  All members are welcome to attend.
URL:https://centervillenoonoptimist.com/event/cno-board-meeting-4/
LOCATION:Lizard Apparel and Promotions\, 7333 Paragon Road Suite 230\, Dayton\, OH\, 45459\, United States
CATEGORIES:- Committee Meeting,Members
ATTACH;FMTTYPE=image/png:https://centervillenoonoptimist.com/wp-content/uploads/2024/02/Board-Meeting.png
END:VEVENT
BEGIN:VEVENT
DTSTART;TZID=America/New_York:20240515T180000
DTEND;TZID=America/New_York:20240515T190000
DTSTAMP:20260421T034721
CREATED:20240129T161116Z
LAST-MODIFIED:20240513T200553Z
UID:10000203-1715796000-1715799600@centervillenoonoptimist.com
SUMMARY:Golf Committee Meeting
DESCRIPTION:Join us for a committee meeting of the Golf Committee.
URL:https://centervillenoonoptimist.com/event/golf-committee-meeting-4/
LOCATION:Lizard Apparel and Promotions\, 7333 Paragon Road Suite 230\, Dayton\, OH\, 45459\, United States
CATEGORIES:- Committee Meeting,Members
ATTACH;FMTTYPE=image/png:https://centervillenoonoptimist.com/wp-content/uploads/2024/01/Golf-Meeting-Graphic.png
END:VEVENT
BEGIN:VEVENT
DTSTART;TZID=America/New_York:20240508T173000
DTEND;TZID=America/New_York:20240508T183000
DTSTAMP:20260421T034721
CREATED:20240506T174857Z
LAST-MODIFIED:20240506T174859Z
UID:10000255-1715189400-1715193000@centervillenoonoptimist.com
SUMMARY:Marketing Committee Meeting
DESCRIPTION:Join us for a committee meeting of the Marketing Committee.
URL:https://centervillenoonoptimist.com/event/marketing-committee-meeting-3/
LOCATION:Lizard Apparel and Promotions\, 7333 Paragon Road Suite 230\, Dayton\, OH\, 45459\, United States
CATEGORIES:- Committee Meeting,Members
ATTACH;FMTTYPE=image/png:https://centervillenoonoptimist.com/wp-content/uploads/2024/01/Marketing-Committee.png
END:VEVENT
BEGIN:VEVENT
DTSTART;TZID=America/New_York:20240501T173000
DTEND;TZID=America/New_York:20240501T183000
DTSTAMP:20260421T034721
CREATED:20240120T184900Z
LAST-MODIFIED:20240121T220905Z
UID:10000159-1714584600-1714588200@centervillenoonoptimist.com
SUMMARY:Youth Mental Health Initiative Committee Meeting
DESCRIPTION:Join us for a committee meeting of the Youth Mental Health Initiative Committee
URL:https://centervillenoonoptimist.com/event/youth-mental-health-initiative-committee-meeting-4/
LOCATION:Lizard Apparel and Promotions\, 7333 Paragon Road Suite 230\, Dayton\, OH\, 45459\, United States
CATEGORIES:- Committee Meeting,Members
ATTACH;FMTTYPE=image/jpeg:https://centervillenoonoptimist.com/wp-content/uploads/2024/01/Youth-Mental-Health-Initiative.jpg
END:VEVENT
BEGIN:VEVENT
DTSTART;TZID=America/New_York:20240416T180000
DTEND;TZID=America/New_York:20240416T193000
DTSTAMP:20260421T034721
CREATED:20240207T192549Z
LAST-MODIFIED:20240207T192550Z
UID:10000227-1713290400-1713295800@centervillenoonoptimist.com
SUMMARY:CNO Board Meeting
DESCRIPTION:Join us for the monthly Board Meeting as we conduct club business.  All members are welcome to attend.
URL:https://centervillenoonoptimist.com/event/cno-board-meeting-3/
LOCATION:Lizard Apparel and Promotions\, 7333 Paragon Road Suite 230\, Dayton\, OH\, 45459\, United States
CATEGORIES:- Committee Meeting,Members
ATTACH;FMTTYPE=image/png:https://centervillenoonoptimist.com/wp-content/uploads/2024/02/Board-Meeting.png
END:VEVENT
BEGIN:VEVENT
DTSTART;TZID=America/New_York:20240410T173000
DTEND;TZID=America/New_York:20240410T183000
DTSTAMP:20260421T034721
CREATED:20240214T032735Z
LAST-MODIFIED:20240304T152854Z
UID:10000238-1712770200-1712773800@centervillenoonoptimist.com
SUMMARY:Marketing Committee Meeting
DESCRIPTION:Join us for a committee meeting of the Marketing Committee.
URL:https://centervillenoonoptimist.com/event/marketing-committee-meeting-2/
LOCATION:Lizard Apparel and Promotions\, 7333 Paragon Road Suite 230\, Dayton\, OH\, 45459\, United States
CATEGORIES:- Committee Meeting,Members
ATTACH;FMTTYPE=image/png:https://centervillenoonoptimist.com/wp-content/uploads/2024/01/Marketing-Committee.png
END:VEVENT
BEGIN:VEVENT
DTSTART;TZID=America/New_York:20240403T173000
DTEND;TZID=America/New_York:20240403T183000
DTSTAMP:20260421T034721
CREATED:20240120T184833Z
LAST-MODIFIED:20240121T220921Z
UID:10000158-1712165400-1712169000@centervillenoonoptimist.com
SUMMARY:Youth Mental Health Initiative Committee Meeting
DESCRIPTION:Join us for a committee meeting of the Youth Mental Health Initiative Committee
URL:https://centervillenoonoptimist.com/event/youth-mental-health-initiative-committee-meeting-3/
LOCATION:Lizard Apparel and Promotions\, 7333 Paragon Road Suite 230\, Dayton\, OH\, 45459\, United States
CATEGORIES:- Committee Meeting,Members
ATTACH;FMTTYPE=image/jpeg:https://centervillenoonoptimist.com/wp-content/uploads/2024/01/Youth-Mental-Health-Initiative.jpg
END:VEVENT
BEGIN:VEVENT
DTSTART;TZID=America/New_York:20240319T180000
DTEND;TZID=America/New_York:20240319T193000
DTSTAMP:20260421T034721
CREATED:20240207T192503Z
LAST-MODIFIED:20240207T192505Z
UID:10000226-1710871200-1710876600@centervillenoonoptimist.com
SUMMARY:CNO Board Meeting
DESCRIPTION:Join us for the monthly Board Meeting as we conduct club business.  All members are welcome to attend.
URL:https://centervillenoonoptimist.com/event/cno-board-meeting-2/
LOCATION:Lizard Apparel and Promotions\, 7333 Paragon Road Suite 230\, Dayton\, OH\, 45459\, United States
CATEGORIES:- Committee Meeting,Members
ATTACH;FMTTYPE=image/png:https://centervillenoonoptimist.com/wp-content/uploads/2024/02/Board-Meeting.png
END:VEVENT
BEGIN:VEVENT
DTSTART;TZID=America/New_York:20240306T173000
DTEND;TZID=America/New_York:20240306T183000
DTSTAMP:20260421T034721
CREATED:20240120T184757Z
LAST-MODIFIED:20240121T220936Z
UID:10000157-1709746200-1709749800@centervillenoonoptimist.com
SUMMARY:Youth Mental Health Initiative Committee Meeting
DESCRIPTION:Join us for a committee meeting of the Youth Mental Health Initiative Committee
URL:https://centervillenoonoptimist.com/event/youth-mental-health-initiative-committee-meeting-2/
LOCATION:Lizard Apparel and Promotions\, 7333 Paragon Road Suite 230\, Dayton\, OH\, 45459\, United States
CATEGORIES:- Committee Meeting,Members
ATTACH;FMTTYPE=image/jpeg:https://centervillenoonoptimist.com/wp-content/uploads/2024/01/Youth-Mental-Health-Initiative.jpg
END:VEVENT
BEGIN:VEVENT
DTSTART;TZID=America/New_York:20240220T180000
DTEND;TZID=America/New_York:20240220T193000
DTSTAMP:20260421T034721
CREATED:20240207T192417Z
LAST-MODIFIED:20240207T192419Z
UID:10000225-1708452000-1708457400@centervillenoonoptimist.com
SUMMARY:CNO Board Meeting
DESCRIPTION:Join us for the monthly Board Meeting as we conduct club business.  All members are welcome to attend.
URL:https://centervillenoonoptimist.com/event/cno-board-meeting/
LOCATION:Lizard Apparel and Promotions\, 7333 Paragon Road Suite 230\, Dayton\, OH\, 45459\, United States
CATEGORIES:- Committee Meeting,Members
ATTACH;FMTTYPE=image/png:https://centervillenoonoptimist.com/wp-content/uploads/2024/02/Board-Meeting.png
END:VEVENT
BEGIN:VEVENT
DTSTART;TZID=America/New_York:20240207T173000
DTEND;TZID=America/New_York:20240207T183000
DTSTAMP:20260421T034721
CREATED:20240120T184031Z
LAST-MODIFIED:20240121T221001Z
UID:10000156-1707327000-1707330600@centervillenoonoptimist.com
SUMMARY:Youth Mental Health Initiative Committee Meeting
DESCRIPTION:Join us for a committee meeting of the Youth Mental Health Initiative Committee
URL:https://centervillenoonoptimist.com/event/youth-mental-health-initiative-committee-meeting/
LOCATION:Lizard Apparel and Promotions\, 7333 Paragon Road Suite 230\, Dayton\, OH\, 45459\, United States
CATEGORIES:- Committee Meeting,Members
ATTACH;FMTTYPE=image/jpeg:https://centervillenoonoptimist.com/wp-content/uploads/2024/01/Youth-Mental-Health-Initiative.jpg
END:VEVENT
END:VCALENDAR