BEGIN:VCALENDAR
VERSION:2.0
PRODID:-//Centerville Noon Optimist - ECPv6.15.20//NONSGML v1.0//EN
CALSCALE:GREGORIAN
METHOD:PUBLISH
X-WR-CALNAME:Centerville Noon Optimist
X-ORIGINAL-URL:https://centervillenoonoptimist.com
X-WR-CALDESC:Events for Centerville Noon Optimist
REFRESH-INTERVAL;VALUE=DURATION:PT1H
X-Robots-Tag:noindex
X-PUBLISHED-TTL:PT1H
BEGIN:VTIMEZONE
TZID:America/New_York
BEGIN:DAYLIGHT
TZOFFSETFROM:-0500
TZOFFSETTO:-0400
TZNAME:EDT
DTSTART:20220313T070000
END:DAYLIGHT
BEGIN:STANDARD
TZOFFSETFROM:-0400
TZOFFSETTO:-0500
TZNAME:EST
DTSTART:20221106T060000
END:STANDARD
BEGIN:DAYLIGHT
TZOFFSETFROM:-0500
TZOFFSETTO:-0400
TZNAME:EDT
DTSTART:20230312T070000
END:DAYLIGHT
BEGIN:STANDARD
TZOFFSETFROM:-0400
TZOFFSETTO:-0500
TZNAME:EST
DTSTART:20231105T060000
END:STANDARD
BEGIN:DAYLIGHT
TZOFFSETFROM:-0500
TZOFFSETTO:-0400
TZNAME:EDT
DTSTART:20240310T070000
END:DAYLIGHT
BEGIN:STANDARD
TZOFFSETFROM:-0400
TZOFFSETTO:-0500
TZNAME:EST
DTSTART:20241103T060000
END:STANDARD
BEGIN:DAYLIGHT
TZOFFSETFROM:-0500
TZOFFSETTO:-0400
TZNAME:EDT
DTSTART:20250309T070000
END:DAYLIGHT
BEGIN:STANDARD
TZOFFSETFROM:-0400
TZOFFSETTO:-0500
TZNAME:EST
DTSTART:20251102T060000
END:STANDARD
BEGIN:DAYLIGHT
TZOFFSETFROM:-0500
TZOFFSETTO:-0400
TZNAME:EDT
DTSTART:20260308T070000
END:DAYLIGHT
BEGIN:STANDARD
TZOFFSETFROM:-0400
TZOFFSETTO:-0500
TZNAME:EST
DTSTART:20261101T060000
END:STANDARD
BEGIN:DAYLIGHT
TZOFFSETFROM:-0500
TZOFFSETTO:-0400
TZNAME:EDT
DTSTART:20270314T070000
END:DAYLIGHT
BEGIN:STANDARD
TZOFFSETFROM:-0400
TZOFFSETTO:-0500
TZNAME:EST
DTSTART:20271107T060000
END:STANDARD
END:VTIMEZONE
BEGIN:VEVENT
DTSTART;TZID=America/New_York:20260404T100000
DTEND;TZID=America/New_York:20260404T100000
DTSTAMP:20260422T003859
CREATED:20260202T200520Z
LAST-MODIFIED:20260205T212359Z
UID:10000566-1775296800-1775296800@centervillenoonoptimist.com
SUMMARY:Easter Egg Hunt - All are Welcome
DESCRIPTION:Join us at Oak Grove Park as children ages 2 – 10 search for 8000 eggs! We will also have golden eggs that may be exchanged for a special prize! This event is FREE for children ages 2-10.Get your photo taken with the Easter Bunny. \n\n\n\nChildren will participate by age:Group 1: Ages 2-4Group 2: Ages 5-7Group 3: Ages 8-10 \n\n\n\nOnce the event begins at 10am the eggs go fast so make sure you arrive by 9:45! \n\n\n\n\nEaster Egg Hunt Event Page
URL:https://centervillenoonoptimist.com/event/easter-egg-hunt-2/
LOCATION:Oak Grove Park\, 1790 E Social Row Rd\, Dayton\, 45458
CATEGORIES:Community Event,Members,Public
ATTACH;FMTTYPE=image/jpeg:https://centervillenoonoptimist.com/wp-content/uploads/2026/02/Easter-Egg-Hunt-scaled.jpg
END:VEVENT
BEGIN:VEVENT
DTSTART;TZID=America/New_York:20260404T080000
DTEND;TZID=America/New_York:20260404T103000
DTSTAMP:20260422T003859
CREATED:20260214T205249Z
LAST-MODIFIED:20260309T004804Z
UID:10000569-1775289600-1775298600@centervillenoonoptimist.com
SUMMARY:Volunteer - Easter Egg Hunt
DESCRIPTION:Volunteers will help set up\, distribute eggs across the field\, and greet guests. \n\n\nThis form is currently closed for submissions.
URL:https://centervillenoonoptimist.com/event/volunteer-egg-hunt-3/
LOCATION:Oak Grove Park\, 1790 E Social Row Rd\, Dayton\, 45458
CATEGORIES:Members,Volunteer
ATTACH;FMTTYPE=image/jpeg:https://centervillenoonoptimist.com/wp-content/uploads/2026/02/Easter-Egg-Hunt-scaled.jpg
END:VEVENT
BEGIN:VEVENT
DTSTART;TZID=America/New_York:20250817T144500
DTEND;TZID=America/New_York:20250817T163000
DTSTAMP:20260422T003859
CREATED:20250721T005421Z
LAST-MODIFIED:20250721T005424Z
UID:10000458-1755441900-1755448200@centervillenoonoptimist.com
SUMMARY:Volunteer - TOP Soccer Player Check In
DESCRIPTION:TOP Soccer\, a soccer program for special needs children and adults\, starts in August and we need help with player check in on the first day of practice. This involves checking off the players on the roster\, handing out t-shirts and directing players to the correct soccer field. \n\n\nThis form is currently closed for submissions.
URL:https://centervillenoonoptimist.com/event/volunteer-top-soccer-player-check-in-3/
LOCATION:Oak Grove Park\, 1790 E Social Row Rd\, Dayton\, 45458
CATEGORIES:Volunteer
ATTACH;FMTTYPE=image/jpeg:https://centervillenoonoptimist.com/wp-content/uploads/2022/08/TOP-Soccer.jpg
END:VEVENT
BEGIN:VEVENT
DTSTART;TZID=America/New_York:20250726T110000
DTEND;TZID=America/New_York:20250726T140000
DTSTAMP:20260422T003859
CREATED:20250311T140510Z
LAST-MODIFIED:20250311T140512Z
UID:10000431-1753527600-1753538400@centervillenoonoptimist.com
SUMMARY:Big Backyard Party
DESCRIPTION:The 8th annual BIG Backyard Party is here! Join us for an afternoon full of hands-on activities all ages and abilities can enjoy. Activities will include numerous inflatables\, fishing\, archery\, field games\, face painting and so much more!  \n\n\n\nThis event is sponsored by the Centerville-Washington Park District and the Centerville Noon Optimist Club will be providing a fun fishing game at this event.
URL:https://centervillenoonoptimist.com/event/big-backyard-party-3/
LOCATION:Oak Grove Park\, 1790 E Social Row Rd\, Dayton\, 45458
CATEGORIES:Community Event,Members,Public
ATTACH;FMTTYPE=image/png:https://centervillenoonoptimist.com/wp-content/uploads/2023/04/Big-Backyard-Party.png
END:VEVENT
BEGIN:VEVENT
DTSTART;TZID=America/New_York:20250726T104500
DTEND;TZID=America/New_York:20250726T141500
DTSTAMP:20260422T003859
CREATED:20250630T130000Z
LAST-MODIFIED:20250505T203413Z
UID:10000434-1753526700-1753539300@centervillenoonoptimist.com
SUMMARY:Volunteer - Big Backyard Party
DESCRIPTION:The annual BIG Backyard Party is here! Join us for an afternoon full of hands-on activities all ages and abilities can enjoy. Activities will include numerous inflatables\, fishing\, archery\, field games\, face painting and so much more! \n\n\n\nThis event is sponsored by the Centerville-Washington Park District and the Centerville Noon Optimist Club will be providing a fun fishing game at this event. \n\n\nThis form is currently closed for submissions.
URL:https://centervillenoonoptimist.com/event/volunteer-big-backyard-party-3/
LOCATION:Oak Grove Park\, 1790 E Social Row Rd\, Dayton\, 45458
CATEGORIES:Members,Volunteer
ATTACH;FMTTYPE=image/png:https://centervillenoonoptimist.com/wp-content/uploads/2023/04/Big-Backyard-Party.png
END:VEVENT
BEGIN:VEVENT
DTSTART;TZID=America/New_York:20250609T100000
DTEND;TZID=America/New_York:20250609T150000
DTSTAMP:20260422T003859
CREATED:20250504T163637Z
LAST-MODIFIED:20250504T163640Z
UID:10000447-1749463200-1749481200@centervillenoonoptimist.com
SUMMARY:Volunteer - Castle Fishing Day
DESCRIPTION:Volunteer to help with fishing on the Castle Fishing Day! \n\n\n\nThe Castle Optimist Club will be participating in a fishing day at the Oak Grove Park.  Volunteers are needed to help set up beginning at 10:00am and to help clean up afterwards until 3:00pm. \n\n\nThis form is currently closed for submissions.
URL:https://centervillenoonoptimist.com/event/volunteer-castle-fishing-day-3/
LOCATION:Oak Grove Park\, 1790 E Social Row Rd\, Dayton\, 45458
CATEGORIES:Members,Volunteer
ATTACH;FMTTYPE=image/jpeg:https://centervillenoonoptimist.com/wp-content/uploads/2025/05/Castle-Fishing-Day.jpg
END:VEVENT
BEGIN:VEVENT
DTSTART;TZID=America/New_York:20250419T100000
DTEND;TZID=America/New_York:20250419T100000
DTSTAMP:20260422T003859
CREATED:20250116T021227Z
LAST-MODIFIED:20250116T021229Z
UID:10000367-1745056800-1745056800@centervillenoonoptimist.com
SUMMARY:Egg Hunt
DESCRIPTION:Join us at Oak Grove Park as children ages 2 – 10 search for 8000 eggs! We will also have golden eggs that may be exchanged for a special prize! This event is FREE to attend. \n\n\n\nChildren will participate by age:Group 1: Ages 2-4Group 2: Ages 5-7Group 3: Ages 8-10 \n\n\n\nOnce the event begins at 10am the eggs go fast so make sure you arrive by 9:45! \n\n\n\n\nEaster Egg Hunt Event Page
URL:https://centervillenoonoptimist.com/event/egg-hunt-2/
LOCATION:Oak Grove Park\, 1790 E Social Row Rd\, Dayton\, 45458
CATEGORIES:Community Event,Members,Public
ATTACH;FMTTYPE=image/png:https://centervillenoonoptimist.com/wp-content/uploads/2024/01/Egg-Hunt-2024.png
END:VEVENT
BEGIN:VEVENT
DTSTART;TZID=America/New_York:20250419T083000
DTEND;TZID=America/New_York:20250419T103000
DTSTAMP:20260422T003859
CREATED:20250310T170725Z
LAST-MODIFIED:20250310T170727Z
UID:10000368-1745051400-1745058600@centervillenoonoptimist.com
SUMMARY:Volunteer - Egg Hunt
DESCRIPTION:Volunteers will distribute eggs across the field and monitor the egg hunt.   \n\n\nThis form is currently closed for submissions.
URL:https://centervillenoonoptimist.com/event/volunteer-egg-hunt-2/
LOCATION:Oak Grove Park\, 1790 E Social Row Rd\, Dayton\, 45458
CATEGORIES:Members,Volunteer
ATTACH;FMTTYPE=image/png:https://centervillenoonoptimist.com/wp-content/uploads/2024/01/Egg-Hunt-2024.png
END:VEVENT
BEGIN:VEVENT
DTSTART;TZID=America/New_York:20240818T143000
DTEND;TZID=America/New_York:20240818T163000
DTSTAMP:20260422T003859
CREATED:20240723T175036Z
LAST-MODIFIED:20240723T175038Z
UID:10000305-1723991400-1723998600@centervillenoonoptimist.com
SUMMARY:Volunteer - TOP Soccer Player Check In
DESCRIPTION:TOP Soccer\, a soccer program for special needs children and adults\, starts in August and we need help with player check in on the first day of practice.  This involves checking off the players on the roster and handing out t-shirts. \n\n\nThis form is currently closed for submissions.
URL:https://centervillenoonoptimist.com/event/volunteer-top-soccer-player-check-in-2/
LOCATION:Oak Grove Park\, 1790 E Social Row Rd\, Dayton\, 45458
CATEGORIES:Volunteer
ATTACH;FMTTYPE=image/jpeg:https://centervillenoonoptimist.com/wp-content/uploads/2022/08/TOP-Soccer.jpg
END:VEVENT
BEGIN:VEVENT
DTSTART;TZID=America/New_York:20240727T110000
DTEND;TZID=America/New_York:20240727T140000
DTSTAMP:20260422T003859
CREATED:20240709T014832Z
LAST-MODIFIED:20240709T014833Z
UID:10000254-1722078000-1722088800@centervillenoonoptimist.com
SUMMARY:Big Backyard Party
DESCRIPTION:The 8th annual BIG Backyard Party is here! Join us for an afternoon full of hands-on activities all ages and abilities can enjoy. Activities will include numerous inflatables\, fishing\, archery\, field games\, face painting and so much more!  \n\n\n\nThis event is sponsored by the Centerville-Washington Park District and the Centerville Noon Optimist Club will be providing a fun fishing game at this event.
URL:https://centervillenoonoptimist.com/event/big-backyard-party-2/
LOCATION:Oak Grove Park\, 1790 E Social Row Rd\, Dayton\, 45458
CATEGORIES:Community Event,Members,Public
ATTACH;FMTTYPE=image/png:https://centervillenoonoptimist.com/wp-content/uploads/2023/04/Big-Backyard-Party.png
END:VEVENT
BEGIN:VEVENT
DTSTART;TZID=America/New_York:20240727T104500
DTEND;TZID=America/New_York:20240727T140000
DTSTAMP:20260422T003859
CREATED:20240709T014805Z
LAST-MODIFIED:20240723T181214Z
UID:10000277-1722077100-1722088800@centervillenoonoptimist.com
SUMMARY:Volunteer - Big Backyard Party
DESCRIPTION:The 8th annual BIG Backyard Party is here! Join us for an afternoon full of hands-on activities all ages and abilities can enjoy. Activities will include numerous inflatables\, fishing\, archery\, field games\, face painting and so much more! \n\n\n\nThis event is sponsored by the Centerville-Washington Park District and the Centerville Noon Optimist Club will be providing a fun fishing game at this event. \n\n\nThis form is currently closed for submissions.
URL:https://centervillenoonoptimist.com/event/volunteer-big-backyard-party-2/
LOCATION:Oak Grove Park\, 1790 E Social Row Rd\, Dayton\, 45458
CATEGORIES:Members,Volunteer
ATTACH;FMTTYPE=image/png:https://centervillenoonoptimist.com/wp-content/uploads/2023/04/Big-Backyard-Party.png
END:VEVENT
BEGIN:VEVENT
DTSTART;TZID=America/New_York:20240607T110000
DTEND;TZID=America/New_York:20240607T140000
DTSTAMP:20260422T003859
CREATED:20240521T212559Z
LAST-MODIFIED:20240521T212601Z
UID:10000264-1717758000-1717768800@centervillenoonoptimist.com
SUMMARY:Volunteer - Castle Fishing Day
DESCRIPTION:Volunteer to help with fishing on the Castle Fishing Day! \n\n\n\nThe Castle Optimist group will be participating in a fishing day at the Oak Grove Park from 11:30am to 1:30pm.  Volunteers are needed to help set up beginning at 11:00am and to help clean up afterwards until 2:00pm. \n\n\nThis form is currently closed for submissions.
URL:https://centervillenoonoptimist.com/event/volunteer-castle-fishing-day-2/
LOCATION:Oak Grove Park\, 1790 E Social Row Rd\, Dayton\, 45458
CATEGORIES:Members,Volunteer
ATTACH;FMTTYPE=image/png:https://centervillenoonoptimist.com/wp-content/uploads/2023/04/Untitled-design-19.png
END:VEVENT
BEGIN:VEVENT
DTSTART;TZID=America/New_York:20240601T080000
DTEND;TZID=America/New_York:20240601T123000
DTSTAMP:20260422T003859
CREATED:20240120T193249Z
LAST-MODIFIED:20240527T031539Z
UID:10000171-1717228800-1717245000@centervillenoonoptimist.com
SUMMARY:Fishing Derby
DESCRIPTION:Want to hook a kid on fishing? Come to the annual fishing derby at Oak Grove Park. \n\n\n\nThe fishing\, worms and lunch are free so grab your pole\, family and come out and enjoy the day. You’ll see Moms\, Dads and Grandparents smiling as the pictures are taken. This event is for children ages 3-15.  All participants must be accompanied by a responsible adult. \n\n\n\nThree fishing rods will be awarded to each age group. \n\n\n\n\nRegistration starts at 8:00 AM\n\n\n\nPassport to Fishing Workshop starts at 8:15 AM\n\n\n\nFishing starts at 9:00 AM and ends at 12:00 PM\n\n\n\nPrizes awarded at 12:15 PM\n\n\n\n\nLoaner fishing rods will be available. \n\n\n\n\nFishing Derby Event Page
URL:https://centervillenoonoptimist.com/event/fishing-derby-2/
LOCATION:Oak Grove Park\, 1790 E Social Row Rd\, Dayton\, 45458
CATEGORIES:Community Event,Members,Public
ATTACH;FMTTYPE=image/png:https://centervillenoonoptimist.com/wp-content/uploads/2023/03/Fishing-Derby.png
END:VEVENT
BEGIN:VEVENT
DTSTART;TZID=America/New_York:20240601T074500
DTEND;TZID=America/New_York:20240601T123000
DTSTAMP:20260422T003859
CREATED:20240329T205227Z
LAST-MODIFIED:20240409T152421Z
UID:10000248-1717227900-1717245000@centervillenoonoptimist.com
SUMMARY:Volunteer - Fishing Derby
DESCRIPTION:Volunteer to help with our annual fishing derby at Oak Grove Park.  No fishing experience required.  There are many jobs that do not require you to touch fish or bait. \n\n\n\n\nRegistration starts at 8:00 AM\n\n\n\nPassport to Fishing Workshop starts at 8:15 AM\n\n\n\nFishing starts at 9:00 AM and ends at 12:00 PM\n\n\n\nPrizes awarded at 12:15 PM\n\n\n\nThis form is currently closed for submissions.
URL:https://centervillenoonoptimist.com/event/volunteer-fishing-derby-2/
LOCATION:Oak Grove Park\, 1790 E Social Row Rd\, Dayton\, 45458
CATEGORIES:Members,Volunteer
ATTACH;FMTTYPE=image/png:https://centervillenoonoptimist.com/wp-content/uploads/2023/03/Fishing-Derby.png
END:VEVENT
BEGIN:VEVENT
DTSTART;TZID=America/New_York:20240330T100000
DTEND;TZID=America/New_York:20240330T100000
DTSTAMP:20260422T003859
CREATED:20240120T192823Z
LAST-MODIFIED:20240310T135557Z
UID:10000168-1711792800-1711792800@centervillenoonoptimist.com
SUMMARY:Egg Hunt
DESCRIPTION:Join us at Oak Grove Park as children ages 2 – 10 search for 8000 eggs! We will also have golden eggs that may be exchanged for a special prize! This event is FREE to attend. \n\n\n\nChildren will participate by age:Group 1: Ages 2-4Group 2: Ages 5-7Group 3: Ages 8-10 \n\n\n\nOnce the event begins at 10am the eggs go fast so make sure you arrive by 9:45! \n\n\n\n\nEaster Egg Hunt Event Page
URL:https://centervillenoonoptimist.com/event/egg-hunt/
LOCATION:Oak Grove Park\, 1790 E Social Row Rd\, Dayton\, 45458
CATEGORIES:Community Event,Members,Public
ATTACH;FMTTYPE=image/png:https://centervillenoonoptimist.com/wp-content/uploads/2024/01/Egg-Hunt-2024.png
END:VEVENT
BEGIN:VEVENT
DTSTART;TZID=America/New_York:20240330T083000
DTEND;TZID=America/New_York:20240330T103000
DTSTAMP:20260422T003859
CREATED:20240212T184253Z
LAST-MODIFIED:20240215T221335Z
UID:10000236-1711787400-1711794600@centervillenoonoptimist.com
SUMMARY:Volunteer - Egg Hunt
DESCRIPTION:Volunteers will distribute eggs across the field and monitor the egg hunt.   \n\n\nThis form is currently closed for submissions.
URL:https://centervillenoonoptimist.com/event/volunteer-egg-hunt/
LOCATION:Oak Grove Park\, 1790 E Social Row Rd\, Dayton\, 45458
CATEGORIES:Members,Volunteer
ATTACH;FMTTYPE=image/png:https://centervillenoonoptimist.com/wp-content/uploads/2024/01/Egg-Hunt-2024.png
END:VEVENT
BEGIN:VEVENT
DTSTART;TZID=America/New_York:20230820T144500
DTEND;TZID=America/New_York:20230820T163000
DTSTAMP:20260422T003859
CREATED:20230810T181419Z
LAST-MODIFIED:20230810T181420Z
UID:10000107-1692542700-1692549000@centervillenoonoptimist.com
SUMMARY:Volunteer - TOP Soccer Player Check In
DESCRIPTION:TOP Soccer\, a soccer program for special needs children and adults\, starts in August and we need help with player check in on the first day of practice.  This involves checking off the players on the roster and handing out t-shirts. \n\n\nThis form is currently closed for submissions.
URL:https://centervillenoonoptimist.com/event/volunteer-top-soccer-player-check-in/
LOCATION:Oak Grove Park\, 1790 E Social Row Rd\, Dayton\, 45458
CATEGORIES:Volunteer
ATTACH;FMTTYPE=image/jpeg:https://centervillenoonoptimist.com/wp-content/uploads/2022/08/TOP-Soccer.jpg
END:VEVENT
BEGIN:VEVENT
DTSTART;TZID=America/New_York:20230729T110000
DTEND;TZID=America/New_York:20230729T140000
DTSTAMP:20260422T003859
CREATED:20230227T192658Z
LAST-MODIFIED:20230529T163411Z
UID:10000039-1690628400-1690639200@centervillenoonoptimist.com
SUMMARY:Big Backyard Party
DESCRIPTION:The 7th annual BIG Backyard Party is here! Join us for an afternoon full of hands-on activities all ages and abilities can enjoy. Activities will include numerous inflatables\, fishing\, archery\, field games\, face painting and so much more!  \n\n\n\nThis event is sponsored by the Centerville-Washington Park District and the Centerville Noon Optimist Club will be providing a fun fishing game at this event.
URL:https://centervillenoonoptimist.com/event/big-backyard-party/
LOCATION:Oak Grove Park\, 1790 E Social Row Rd\, Dayton\, 45458
CATEGORIES:Community Event,Members,Public
ATTACH;FMTTYPE=image/png:https://centervillenoonoptimist.com/wp-content/uploads/2023/04/Big-Backyard-Party.png
END:VEVENT
BEGIN:VEVENT
DTSTART;TZID=America/New_York:20230729T103000
DTEND;TZID=America/New_York:20230729T140000
DTSTAMP:20260422T003859
CREATED:20230421T194711Z
LAST-MODIFIED:20230718T181245Z
UID:10000067-1690626600-1690639200@centervillenoonoptimist.com
SUMMARY:Volunteer - Big Backyard Party
DESCRIPTION:The 7th annual BIG Backyard Party is here! Join us for an afternoon full of hands-on activities all ages and abilities can enjoy. Activities will include numerous inflatables\, fishing\, archery\, field games\, face painting and so much more!  \n\n\n\nThis event is sponsored by the Centerville-Washington Park District and the Centerville Noon Optimist Club will be providing a fun fishing game at this event. \n\n\nThis form is currently closed for submissions.
URL:https://centervillenoonoptimist.com/event/volunteer-big-backyard-party/
LOCATION:Oak Grove Park\, 1790 E Social Row Rd\, Dayton\, 45458
CATEGORIES:Volunteer
ATTACH;FMTTYPE=image/png:https://centervillenoonoptimist.com/wp-content/uploads/2023/04/Big-Backyard-Party.png
END:VEVENT
BEGIN:VEVENT
DTSTART;TZID=America/New_York:20230408T100000
DTEND;TZID=America/New_York:20230408T100000
DTSTAMP:20260422T003859
CREATED:20230212T033943Z
LAST-MODIFIED:20230322T211214Z
UID:10000024-1680948000-1680948000@centervillenoonoptimist.com
SUMMARY:Easter Egg Hunt
DESCRIPTION:Join us at Oak Grove Park as children ages 2 – 9 search for 8000 Easter eggs! We will also have golden eggs that may be exchanged for a special prize! This event is FREE to attend. \n\n\n\nChildren will participate by age:Group 1: Ages 2-4Group 2: Ages 5-7Group 3: Ages 8-9 \n\n\n\nOnce the event begins at 10am the Easter eggs go fast so make sure you arrive by 9:45! \n\n\n\n\nEaster Egg Hunt Event Page
URL:https://centervillenoonoptimist.com/event/easter-egg-hunt/
LOCATION:Oak Grove Park\, 1790 E Social Row Rd\, Dayton\, 45458
CATEGORIES:Community Event,Members,Public
END:VEVENT
BEGIN:VEVENT
DTSTART;TZID=America/New_York:20230408T083000
DTEND;TZID=America/New_York:20230408T103000
DTSTAMP:20260422T003859
CREATED:20230223T201048Z
LAST-MODIFIED:20230324T140105Z
UID:10000033-1680942600-1680949800@centervillenoonoptimist.com
SUMMARY:Volunteer - Easter Egg Hunt
DESCRIPTION:Volunteers will distribute eggs across the field and monitor the egg hunt.
URL:https://centervillenoonoptimist.com/event/volunteer-easter-egg-hunt/
LOCATION:Oak Grove Park\, 1790 E Social Row Rd\, Dayton\, 45458
CATEGORIES:Volunteer
END:VEVENT
END:VCALENDAR