BEGIN:VCALENDAR
VERSION:2.0
PRODID:-//Centerville Noon Optimist - ECPv6.15.20//NONSGML v1.0//EN
CALSCALE:GREGORIAN
METHOD:PUBLISH
X-ORIGINAL-URL:https://centervillenoonoptimist.com
X-WR-CALDESC:Events for Centerville Noon Optimist
REFRESH-INTERVAL;VALUE=DURATION:PT1H
X-Robots-Tag:noindex
X-PUBLISHED-TTL:PT1H
BEGIN:VTIMEZONE
TZID:America/New_York
BEGIN:DAYLIGHT
TZOFFSETFROM:-0500
TZOFFSETTO:-0400
TZNAME:EDT
DTSTART:20220313T070000
END:DAYLIGHT
BEGIN:STANDARD
TZOFFSETFROM:-0400
TZOFFSETTO:-0500
TZNAME:EST
DTSTART:20221106T060000
END:STANDARD
BEGIN:DAYLIGHT
TZOFFSETFROM:-0500
TZOFFSETTO:-0400
TZNAME:EDT
DTSTART:20230312T070000
END:DAYLIGHT
BEGIN:STANDARD
TZOFFSETFROM:-0400
TZOFFSETTO:-0500
TZNAME:EST
DTSTART:20231105T060000
END:STANDARD
BEGIN:DAYLIGHT
TZOFFSETFROM:-0500
TZOFFSETTO:-0400
TZNAME:EDT
DTSTART:20240310T070000
END:DAYLIGHT
BEGIN:STANDARD
TZOFFSETFROM:-0400
TZOFFSETTO:-0500
TZNAME:EST
DTSTART:20241103T060000
END:STANDARD
BEGIN:DAYLIGHT
TZOFFSETFROM:-0500
TZOFFSETTO:-0400
TZNAME:EDT
DTSTART:20250309T070000
END:DAYLIGHT
BEGIN:STANDARD
TZOFFSETFROM:-0400
TZOFFSETTO:-0500
TZNAME:EST
DTSTART:20251102T060000
END:STANDARD
END:VTIMEZONE
BEGIN:VEVENT
DTSTART;TZID=America/New_York:20240924T173000
DTEND;TZID=America/New_York:20240924T210000
DTSTAMP:20260424T042308
CREATED:20240722T005608Z
LAST-MODIFIED:20240903T144402Z
UID:10000288-1727199000-1727211600@centervillenoonoptimist.com
SUMMARY:Social - Installation Dinner
DESCRIPTION:Induct New President Paul Boeckman Celebrate the Past Year under Joan Cordonnier\n\n\n\n\n\n\n\nTuesday\, September 24\, 20245:30 pm – 9:00 pm$35.00 per person\n\n\n\n\n\n\n\nBusiness Casual/Dressy but not formal – No Jeans/ShortsSign up online no later than Monday\, September 16th\n\n\n\n\n\n\n\n5:30  –  Cocktails – (Cash/Credit Bar)             -Appetizers – Cheese Tray and Vegetable Trays6:15  –  Salads Served             -Kohlers Perfection Salad served with Ranch or Italian Dressing             -Assorted rolls with butter6:30  – Dinner             -Roast Prime Rib of Beef Aujus (gluten free)             -Seared Salmon             -Italian Stuffed Shells with Brunoise Vegetables (vegetarian)             -Scalloped Potatoes             -Farmers Vegetable Blend (gluten free)             -Cilantro Lime Rice (gluten free)             -Dessert                   -Vanilla\, Chocolate and Red Velvet Mini Cupcakes  7:15  – Program begins – Installation\,  Rookie of the Year\, and Optimist of the Year announced \n\n\n\nCancellation date:  September 16\, 2024All no shows or late cancellations will be billed as we will be responsible for the head count given on the 16th.  \n\n\nThis form is currently closed for submissions.
URL:https://centervillenoonoptimist.com/event/social-installation-dinner-2/
LOCATION:Presidential Banquet Center\, 4548 Presidential Way\, Dayton\, Ohio\, 45429\, United States
CATEGORIES:Members,Social Event,Volunteer
ATTACH;FMTTYPE=image/png:https://centervillenoonoptimist.com/wp-content/uploads/2024/07/Presidential-Banquet-Center.png
END:VEVENT
BEGIN:VEVENT
DTSTART;TZID=America/New_York:20230511T070000
DTEND;TZID=America/New_York:20230511T090000
DTSTAMP:20260424T042308
CREATED:20230502T191051Z
LAST-MODIFIED:20230507T131512Z
UID:10000077-1683788400-1683795600@centervillenoonoptimist.com
SUMMARY:Event is Full - Presidents Club Volunteer Breakfast
DESCRIPTION:The Presidents Club of Dayton hosts an annual breakfast meeting that celebrates the volunteer involvement of active members in member service clubs. This event is meant to showcase individuals’ commitment to their service organizations and the community. \n\n\n\nThis year\, the Presidents Club will recognize our Optimists of the Year\, Patrick Arehart and Sarah Umbreit. \n\n\nThis form is currently closed. All the seats are filled.
URL:https://centervillenoonoptimist.com/event/sign-up-presidents-club-volunteer-breakfast/
LOCATION:Presidential Banquet Center\, 4548 Presidential Way\, Dayton\, Ohio\, 45429\, United States
CATEGORIES:Members,Volunteer
ATTACH;FMTTYPE=image/png:https://centervillenoonoptimist.com/wp-content/uploads/2023/05/Optimist-of-the-Year-2022.png
END:VEVENT
END:VCALENDAR