BEGIN:VCALENDAR
VERSION:2.0
PRODID:-//Centerville Noon Optimist - ECPv6.15.20//NONSGML v1.0//EN
CALSCALE:GREGORIAN
METHOD:PUBLISH
X-WR-CALNAME:Centerville Noon Optimist
X-ORIGINAL-URL:https://centervillenoonoptimist.com
X-WR-CALDESC:Events for Centerville Noon Optimist
REFRESH-INTERVAL;VALUE=DURATION:PT1H
X-Robots-Tag:noindex
X-PUBLISHED-TTL:PT1H
BEGIN:VTIMEZONE
TZID:America/New_York
BEGIN:DAYLIGHT
TZOFFSETFROM:-0500
TZOFFSETTO:-0400
TZNAME:EDT
DTSTART:20220313T070000
END:DAYLIGHT
BEGIN:STANDARD
TZOFFSETFROM:-0400
TZOFFSETTO:-0500
TZNAME:EST
DTSTART:20221106T060000
END:STANDARD
BEGIN:DAYLIGHT
TZOFFSETFROM:-0500
TZOFFSETTO:-0400
TZNAME:EDT
DTSTART:20230312T070000
END:DAYLIGHT
BEGIN:STANDARD
TZOFFSETFROM:-0400
TZOFFSETTO:-0500
TZNAME:EST
DTSTART:20231105T060000
END:STANDARD
BEGIN:DAYLIGHT
TZOFFSETFROM:-0500
TZOFFSETTO:-0400
TZNAME:EDT
DTSTART:20240310T070000
END:DAYLIGHT
BEGIN:STANDARD
TZOFFSETFROM:-0400
TZOFFSETTO:-0500
TZNAME:EST
DTSTART:20241103T060000
END:STANDARD
BEGIN:DAYLIGHT
TZOFFSETFROM:-0500
TZOFFSETTO:-0400
TZNAME:EDT
DTSTART:20250309T070000
END:DAYLIGHT
BEGIN:STANDARD
TZOFFSETFROM:-0400
TZOFFSETTO:-0500
TZNAME:EST
DTSTART:20251102T060000
END:STANDARD
BEGIN:DAYLIGHT
TZOFFSETFROM:-0500
TZOFFSETTO:-0400
TZNAME:EDT
DTSTART:20260308T070000
END:DAYLIGHT
BEGIN:STANDARD
TZOFFSETFROM:-0400
TZOFFSETTO:-0500
TZNAME:EST
DTSTART:20261101T060000
END:STANDARD
BEGIN:DAYLIGHT
TZOFFSETFROM:-0500
TZOFFSETTO:-0400
TZNAME:EDT
DTSTART:20270314T070000
END:DAYLIGHT
BEGIN:STANDARD
TZOFFSETFROM:-0400
TZOFFSETTO:-0500
TZNAME:EST
DTSTART:20271107T060000
END:STANDARD
END:VTIMEZONE
BEGIN:VEVENT
DTSTART;TZID=America/New_York:20260131T090000
DTEND;TZID=America/New_York:20260131T140000
DTSTAMP:20260422T011808
CREATED:20260112T020325Z
LAST-MODIFIED:20260121T200404Z
UID:10000539-1769850000-1769868000@centervillenoonoptimist.com
SUMMARY:Volunteer - Winterfest/Winter Carnival
DESCRIPTION:We need volunteers to staff Winterfest at Primary Village South (9am-12pm) and the Winter Carnival at Primary Village North (11am-2pm). Kids play games and do crafts – we’ll be helping them make clothespin snowmen! While their little fingers are occupied with markers and pipe cleaners our Youth Mental Health Initiative will talk with parents about play-based childhood (vs a phone-based childhood)\, Wait Until 8th\, and LetGrow.org. We’ll have all supplies and literature ready\, but need help with the crafts and the parent conversations. \n\n\n\nVolunteers will be assigned to work at either Primary Village North or Primary Village South. If you have a preference\, please note it on the form below. Click here for questions. \n\n\n\n\n\n\nThis form is currently closed for submissions.
URL:https://centervillenoonoptimist.com/event/volunteer-winterfest/
LOCATION:Primary Village North\, 6450 Marshall Rd\, Dayton\, Ohio\, 45459\, United States
CATEGORIES:Members,Volunteer
ATTACH;FMTTYPE=image/webp:https://centervillenoonoptimist.com/wp-content/uploads/2026/01/Winter-Carnival.webp
END:VEVENT
BEGIN:VEVENT
DTSTART;TZID=America/New_York:20251206T000000
DTEND;TZID=America/New_York:20251207T235959
DTSTAMP:20260422T011808
CREATED:20251203T022958Z
LAST-MODIFIED:20251203T024007Z
UID:10000510-1764979200-1765151999@centervillenoonoptimist.com
SUMMARY:Volunteer - PVS Frosty Shop
DESCRIPTION:PVS has a volunteer opportunity for CNO members at their annual Frosty Shop! The Frosty Shop gives students the joy of picking out gifts for their loved ones. Help little shoppers find the perfect present for everyone on their list. It’s a fun\, heartwarming way to get involved and spread holiday cheer throughout our school community!  \n\n\n\n\nThis form is currently closed for submissions.
URL:https://centervillenoonoptimist.com/event/volunteer-pvs-frosty-shop/
LOCATION:Primary Village South\, 8388 Paragon Rd\, Centerville\, Ohio\, 45458\, United States
CATEGORIES:Members,Volunteer
ATTACH;FMTTYPE=image/png:https://centervillenoonoptimist.com/wp-content/uploads/2025/12/Frosty-Shop-PVS-e1764729186483.png
END:VEVENT
BEGIN:VEVENT
DTSTART;TZID=America/New_York:20250609T083000
DTEND;TZID=America/New_York:20250626T130000
DTSTAMP:20260422T011808
CREATED:20250304T185344Z
LAST-MODIFIED:20250304T185348Z
UID:10000420-1749457800-1750942800@centervillenoonoptimist.com
SUMMARY:Safetyville Square
DESCRIPTION:Safetyville Square is a fun and entertaining way for children entering kindergarten through second grade to learn about safety over the summer. Topics include pedestrian\, bicycle\, playground\, fire\, home and life safety. Children get acquainted with school buses\, emergency vehicles and our child sized Safetyville Square. \n\n\n\nThere are 6 4-day sessions spread out across three weeks. Here are the session dates and times: \n\n\n\nSession A: June 9-12 from 8:30am-10:30amSession B: June 9-12 from 11:00am-1:00pmSession C: June 16-19 from 8:30am-10:30amSession D: June 16-19 from 11:00am-1:00pmSession E: June 23-26 from 8:30am-10:30amSession F: June 23-26 from 11:00am-1:00pm \n\n\n\n\nSafetyville Square Event Page
URL:https://centervillenoonoptimist.com/event/safetyville-square-2/
LOCATION:Primary Village South\, 8388 Paragon Rd\, Centerville\, Ohio\, 45458\, United States
CATEGORIES:Community Event,Members,Public
ATTACH;FMTTYPE=image/png:https://centervillenoonoptimist.com/wp-content/uploads/2023/03/SafetyvilleSquare_Logo-vector_lightbkgd.png
END:VEVENT
BEGIN:VEVENT
DTSTART;TZID=America/New_York:20230612T083000
DTEND;TZID=America/New_York:20230629T130000
DTSTAMP:20260422T011808
CREATED:20230227T183239Z
LAST-MODIFIED:20230322T210112Z
UID:10000035-1686558600-1688043600@centervillenoonoptimist.com
SUMMARY:Safetyville Square
DESCRIPTION:Safetyville Square is a fun and entertaining way for children entering kindergarten through second grade to learn about safety over the summer. Topics include pedestrian\, bicycle\, playground\, fire\, home and life safety. Children get acquainted with school buses\, emergency vehicles and our child sized Safetyville Square. \n\n\n\nThere are 6 4-day sessions spread out across three weeks. Here are the session dates and times: \n\n\n\nSession A: June 12-15 from 8:30am-10:30amSession B: June 12-15 from 11:00am-1:00pmSession C: June 19-22 from 8:30am-10:30amSession D: June 19-22 from 11:00am-1:00pmSession E: June 26-29 from 8:30am-10:30amSession F: June 26-29 from 11:00am-1:00pm \n\n\n\n\nSafetyville Square Event Page
URL:https://centervillenoonoptimist.com/event/safetyville-square/
LOCATION:Primary Village South\, 8388 Paragon Rd\, Centerville\, Ohio\, 45458\, United States
CATEGORIES:Community Event,Members,Public
ATTACH;FMTTYPE=image/png:https://centervillenoonoptimist.com/wp-content/uploads/2023/03/SafetyvilleSquare_Logo-vector_lightbkgd.png
END:VEVENT
END:VCALENDAR