BEGIN:VCALENDAR
VERSION:2.0
PRODID:-//Centerville Noon Optimist - ECPv6.15.20//NONSGML v1.0//EN
CALSCALE:GREGORIAN
METHOD:PUBLISH
X-ORIGINAL-URL:https://centervillenoonoptimist.com
X-WR-CALDESC:Events for Centerville Noon Optimist
REFRESH-INTERVAL;VALUE=DURATION:PT1H
X-Robots-Tag:noindex
X-PUBLISHED-TTL:PT1H
BEGIN:VTIMEZONE
TZID:America/New_York
BEGIN:DAYLIGHT
TZOFFSETFROM:-0500
TZOFFSETTO:-0400
TZNAME:EDT
DTSTART:20250309T070000
END:DAYLIGHT
BEGIN:STANDARD
TZOFFSETFROM:-0400
TZOFFSETTO:-0500
TZNAME:EST
DTSTART:20251102T060000
END:STANDARD
BEGIN:DAYLIGHT
TZOFFSETFROM:-0500
TZOFFSETTO:-0400
TZNAME:EDT
DTSTART:20260308T070000
END:DAYLIGHT
BEGIN:STANDARD
TZOFFSETFROM:-0400
TZOFFSETTO:-0500
TZNAME:EST
DTSTART:20261101T060000
END:STANDARD
BEGIN:DAYLIGHT
TZOFFSETFROM:-0500
TZOFFSETTO:-0400
TZNAME:EDT
DTSTART:20270314T070000
END:DAYLIGHT
BEGIN:STANDARD
TZOFFSETFROM:-0400
TZOFFSETTO:-0500
TZNAME:EST
DTSTART:20271107T060000
END:STANDARD
END:VTIMEZONE
BEGIN:VEVENT
DTSTART;TZID=America/New_York:20260530T113000
DTEND;TZID=America/New_York:20260530T163000
DTSTAMP:20260422T001742
CREATED:20260408T204626Z
LAST-MODIFIED:20260408T204628Z
UID:10000591-1780140600-1780158600@centervillenoonoptimist.com
SUMMARY:Volunteer - Summer Reading Club Kickoff
DESCRIPTION:Kickoff your Summer Reading by unearthing this wonderful event at School House Park! Pull up your lawn chair or a blanket and enjoy a special show provided by Cincinnati Circus Company. Their aerial performer\, motorcycle trick show and inflatable games will kick off the summer with some high-flying entertainment! In between shows\, enjoy their face painters or activities with our librarians and other community partners. Tikiz Shaved Ice will be parked and available for purchase. It’s sure to be fun for the whole family!  \n\n\n\nVolunteer at the Summer Reading Club Kickoff by helping with easy kids’ activities or to be a club ambassador.  This event is sponsored by the Washington-Centerville Public Library.  In between performances\, the Centerville Noon Optimist Club will be helping to entertain kids and talking with parents about what the Centerville Noon Optimist Club does in the community. \n\n\n\n\n\n\n100 Summer Reading Club Kickoff Volunteer Sign Up 2026\n\n\n\n\n\n\n\n\n    Name\n        *\n    \n    \n	\n		Name	\n\n	\n					\n				\n					First				\n\n				First			\n						\n				\n					Last				\n\n				Last			\n				\n\n\n    \n    \n\n\n    Email\n        *\n    \n    \n    \n    \n\n\n    Volunteers\n        \n    \n    \n    How many people will be volunteering including yourself?\n    \n\n\n    Select Volunteer Job\n        \n    \n    					\n			 1st Shift 11:30am – 2:00pm\n					\n			 2nd Shift 2:00pm – 4:30pm\n\n    \n    \n\n\n    Message\n        \n    \n    \n    Add anything you want the organizer to know. \n    \n\n\nVolunteer 2\n\n\n\n    Name 2\n        *\n    \n    \n	\n		Name 2	\n\n	\n					\n				\n					First				\n\n				First			\n						\n				\n					Last				\n\n				Last			\n				\n\n\n    \n    \n\n\n    Email 2\n        \n    \n    \n    Optionally add an additional email.\n    \n\n\n    Select Volunteer Job 2\n        \n    \n    					\n			 1st Shift 11:30am – 2:00pm\n					\n			 2nd Shift 2:00pm – 4:30pm\n\n    \n    \n\n\n\nVolunteer 3\n\n\n\n    Name 3\n        *\n    \n    \n	\n		Name 3	\n\n	\n					\n				\n					First				\n\n				First			\n						\n				\n					Last				\n\n				Last			\n				\n\n\n    \n    \n\n\n    Email 3\n        \n    \n    \n    Optionally add an additional email.\n    \n\n\n    Select Volunteer Job 3\n        \n    \n    					\n			 1st Shift 11:30am – 2:00pm\n					\n			 2nd Shift 2:00pm – 4:30pm\n\n    \n    \n\n\n\nVolunteer 4\n\n\n\n    Name 4\n        *\n    \n    \n	\n		Name 4	\n\n	\n					\n				\n					First				\n\n				First			\n						\n				\n					Last				\n\n				Last			\n				\n\n\n    \n    \n\n\n    Email 4\n        \n    \n    \n    Optionally add an additional email.\n    \n\n\n    Select Volunteer Job 4\n        \n    \n    					\n			 1st Shift 11:30am – 2:00pm\n					\n			 2nd Shift 2:00pm – 4:30pm\n\n    \n    \n\n\n\nHidden\n\n\n\n    Event\n        \n    \n    \n    \n    \n\n\n    Date\n        \n    \n    \n    \n    \n\n\n    Location\n        \n    \n    \n    \n    \n\n\n\n	Payment\n		\n	\n	\n\n	Payment\n\n\n	\n		Payment	\n		\n	\n\n	\n		Payment	\n			\n			\n				Month			\n			123456789101112		\n	\n\n	\n		Payment	\n			\n			\n				Year			\n			20262027202820292030203120322033203420352036		\n	\n\n	\n		Payment	\n		\n	\n\n\n\n\n\n\n	\n	\n\n\n	\n\nRegister\n\n\n\n	\n			\n			\n				If you are human\, leave this field blank.			\n			\n		\n		\n\n\n\nΔ
URL:https://centervillenoonoptimist.com/event/volunteer-summer-reading-club-kickoff-2/
LOCATION:Schoolhouse Park\, 1875 Nutt Rd\, Dayton\, Ohio\, 45458\, United States
CATEGORIES:Members,Volunteer
ATTACH;FMTTYPE=image/jpeg:https://centervillenoonoptimist.com/wp-content/uploads/2025/04/Summer-Reading-Club-Kickoff-2025.jpg
END:VEVENT
END:VCALENDAR