BEGIN:VCALENDAR
VERSION:2.0
PRODID:-//Centerville Noon Optimist - ECPv6.15.20//NONSGML v1.0//EN
CALSCALE:GREGORIAN
METHOD:PUBLISH
X-ORIGINAL-URL:https://centervillenoonoptimist.com
X-WR-CALDESC:Events for Centerville Noon Optimist
REFRESH-INTERVAL;VALUE=DURATION:PT1H
X-Robots-Tag:noindex
X-PUBLISHED-TTL:PT1H
BEGIN:VTIMEZONE
TZID:America/New_York
BEGIN:DAYLIGHT
TZOFFSETFROM:-0500
TZOFFSETTO:-0400
TZNAME:EDT
DTSTART:20220313T070000
END:DAYLIGHT
BEGIN:STANDARD
TZOFFSETFROM:-0400
TZOFFSETTO:-0500
TZNAME:EST
DTSTART:20221106T060000
END:STANDARD
BEGIN:DAYLIGHT
TZOFFSETFROM:-0500
TZOFFSETTO:-0400
TZNAME:EDT
DTSTART:20230312T070000
END:DAYLIGHT
BEGIN:STANDARD
TZOFFSETFROM:-0400
TZOFFSETTO:-0500
TZNAME:EST
DTSTART:20231105T060000
END:STANDARD
BEGIN:DAYLIGHT
TZOFFSETFROM:-0500
TZOFFSETTO:-0400
TZNAME:EDT
DTSTART:20240310T070000
END:DAYLIGHT
BEGIN:STANDARD
TZOFFSETFROM:-0400
TZOFFSETTO:-0500
TZNAME:EST
DTSTART:20241103T060000
END:STANDARD
END:VTIMEZONE
BEGIN:VEVENT
DTSTART;TZID=America/New_York:20230216T173000
DTEND;TZID=America/New_York:20230216T190000
DTSTAMP:20260424T024858
CREATED:20230201T184600Z
LAST-MODIFIED:20230228T030415Z
UID:10000020-1676568600-1676574000@centervillenoonoptimist.com
SUMMARY:Optimist 2.0 - Soft Rock Cafe Karoake
DESCRIPTION:Join us February 16th as we gather at Soft Rock Cafe and see how the Centerville Noon Optimist Club – a world class volunteer organization – makes a difference in local kids’ lives! \n\n\n\n• Join us every Third Thursday at various local social venues for community building\, fun\, and networking• Listen to a guest speaker who will encourage you with their story of success or participate in a fun filled social activity• Learn more about how you can help us help kids in the community \n\n\n\nFor our February Optimist 2.0 meeting we will be singing Karoake at Soft Rock Cafe! Come out and choose a song to sing or watch other singers! As always\, snacks will be provided. \n\n\n\nNetworking 5:30-6:00Meeting 6:00-6:30Social time 6:30-7:00
URL:https://centervillenoonoptimist.com/event/optimist-2-0-soft-rock-cafe-karoake/
LOCATION:Soft Rock Cafe\, 877 E Franklin St\,\, Dayton\, Ohio\, 45459
CATEGORIES:- CNO 2.0 Meeting,Public
ATTACH;FMTTYPE=image/jpeg:https://centervillenoonoptimist.com/wp-content/uploads/2023/02/CNO-Photo-August-2022-scaled.jpg
END:VEVENT
END:VCALENDAR