BEGIN:VCALENDAR
VERSION:2.0
PRODID:-//Centerville Noon Optimist - ECPv6.15.20//NONSGML v1.0//EN
CALSCALE:GREGORIAN
METHOD:PUBLISH
X-ORIGINAL-URL:https://centervillenoonoptimist.com
X-WR-CALDESC:Events for Centerville Noon Optimist
REFRESH-INTERVAL;VALUE=DURATION:PT1H
X-Robots-Tag:noindex
X-PUBLISHED-TTL:PT1H
BEGIN:VTIMEZONE
TZID:America/New_York
BEGIN:DAYLIGHT
TZOFFSETFROM:-0500
TZOFFSETTO:-0400
TZNAME:EDT
DTSTART:20220313T070000
END:DAYLIGHT
BEGIN:STANDARD
TZOFFSETFROM:-0400
TZOFFSETTO:-0500
TZNAME:EST
DTSTART:20221106T060000
END:STANDARD
BEGIN:DAYLIGHT
TZOFFSETFROM:-0500
TZOFFSETTO:-0400
TZNAME:EDT
DTSTART:20230312T070000
END:DAYLIGHT
BEGIN:STANDARD
TZOFFSETFROM:-0400
TZOFFSETTO:-0500
TZNAME:EST
DTSTART:20231105T060000
END:STANDARD
BEGIN:DAYLIGHT
TZOFFSETFROM:-0500
TZOFFSETTO:-0400
TZNAME:EDT
DTSTART:20240310T070000
END:DAYLIGHT
BEGIN:STANDARD
TZOFFSETFROM:-0400
TZOFFSETTO:-0500
TZNAME:EST
DTSTART:20241103T060000
END:STANDARD
END:VTIMEZONE
BEGIN:VEVENT
DTSTART;TZID=America/New_York:20230224T180000
DTEND;TZID=America/New_York:20230224T210000
DTSTAMP:20260424T232448
CREATED:20230201T210030Z
LAST-MODIFIED:20230706T202305Z
UID:10000021-1677261600-1677272400@centervillenoonoptimist.com
SUMMARY:Euchre Social
DESCRIPTION:This event is $10 per person paid at the door. Please bring your beverage of choice for the evening. The Club will provide pizza\, salad & chips. \n\n\n\n\n\n\n\n\n\n\n\n\n\n\n\n\n\n\nzzDelete 2023.09.12 Euchre Sign Up – Old Version Do Not Use\n\n\n\n\n\n\n\n\n    Name\n        *\n    \n    \n    First\n    \n\n\n    Last\n        *\n    \n    \n    Last\n    \n\n\n    Email\n        *\n    \n    \n    \n    \n\n\n    Attendees\n        \n    \n    \n    How many people will be attending including yourself?\n    \n\n\nGuest 2\n\n\n\n    Name 2\n        *\n    \n    \n	\n		Name 2	\n\n	\n					\n				\n					First				\n\n				First			\n						\n				\n					Last				\n\n				Last			\n				\n\n\n    \n    \n\n\n    Email 2\n        \n    \n    \n    Optionally add an additional email.\n    \n\n\n\nGuest 3\n\n\n\n    Name 3\n        *\n    \n    \n	\n		Name 3	\n\n	\n					\n				\n					First				\n\n				First			\n						\n				\n					Last				\n\n				Last			\n				\n\n\n    \n    \n\n\n    Email 3\n        \n    \n    \n    Optionally add an additional email.\n    \n\n\n\nGuest 4\n\n\n\n    Name 4\n        *\n    \n    \n	\n		Name 4	\n\n	\n					\n				\n					First				\n\n				First			\n						\n				\n					Last				\n\n				Last			\n				\n\n\n    \n    \n\n\n    Email 4\n        \n    \n    \n    Optionally add an additional email.\n    \n\n\n\nGuest 5\n\n\n\n    Name 5\n        *\n    \n    \n	\n		Name 5	\n\n	\n					\n				\n					First				\n\n				First			\n						\n				\n					Last				\n\n				Last			\n				\n\n\n    \n    \n\n\n    Email 5\n        \n    \n    \n    Optionally add an additional email.\n    \n\n\n\nHidden\n\n\n\n    Event\n        \n    \n    \n    \n    \n\n\n    Date\n        \n    \n    \n    \n    \n\n\n    Location\n        \n    \n    \n    \n    \n\n\n\n    CAPTCHA\n        \n    \n    \n    \n    \n\n	\n			\n			\n				If you are human\, leave this field blank.			\n			\n		\n		\n\nSubmit\n\n\n\n\n\nΔ
URL:https://centervillenoonoptimist.com/event/euchre-social/
LOCATION:Wentworth Village Clubhouse\, 2024 Wentworth Village Drive\, Bellbrook\, Ohio\, 45305\, United States
CATEGORIES:Members,Social Event
END:VEVENT
END:VCALENDAR