BEGIN:VCALENDAR
VERSION:2.0
PRODID:-//Centerville Noon Optimist - ECPv6.15.20//NONSGML v1.0//EN
CALSCALE:GREGORIAN
METHOD:PUBLISH
X-ORIGINAL-URL:https://centervillenoonoptimist.com
X-WR-CALDESC:Events for Centerville Noon Optimist
REFRESH-INTERVAL;VALUE=DURATION:PT1H
X-Robots-Tag:noindex
X-PUBLISHED-TTL:PT1H
BEGIN:VTIMEZONE
TZID:America/New_York
BEGIN:DAYLIGHT
TZOFFSETFROM:-0500
TZOFFSETTO:-0400
TZNAME:EDT
DTSTART:20250309T070000
END:DAYLIGHT
BEGIN:STANDARD
TZOFFSETFROM:-0400
TZOFFSETTO:-0500
TZNAME:EST
DTSTART:20251102T060000
END:STANDARD
BEGIN:DAYLIGHT
TZOFFSETFROM:-0500
TZOFFSETTO:-0400
TZNAME:EDT
DTSTART:20260308T070000
END:DAYLIGHT
BEGIN:STANDARD
TZOFFSETFROM:-0400
TZOFFSETTO:-0500
TZNAME:EST
DTSTART:20261101T060000
END:STANDARD
BEGIN:DAYLIGHT
TZOFFSETFROM:-0500
TZOFFSETTO:-0400
TZNAME:EDT
DTSTART:20270314T070000
END:DAYLIGHT
BEGIN:STANDARD
TZOFFSETFROM:-0400
TZOFFSETTO:-0500
TZNAME:EST
DTSTART:20271107T060000
END:STANDARD
END:VTIMEZONE
BEGIN:VEVENT
DTSTART;TZID=America/New_York:20260414T000000
DTEND;TZID=America/New_York:20260428T235959
DTSTAMP:20260421T000358
CREATED:20260413T190606Z
LAST-MODIFIED:20260413T201723Z
UID:10000590-1776124800-1777420799@centervillenoonoptimist.com
SUMMARY:Order - America 250 CNO Americana T-Shirt
DESCRIPTION:Commemorative America 250 CNO Americana T-shirt\n\n\n\nCNO will be selling commemorative Americana t-shirts to members this year in honor of the annual Americana Festival and America 250. Price is $22 each with credit card or Paypal payment. Men’s shirts will be navy blue with sizes M-2XL available. Women’s shirts will be heather navy blue with sizes S-2XL available. \n\n\n\nT-shirts will be delivered to both the CNO noon and 2.0 meetings. \n\n\n\nOrder yours today!\n\n\n\n\n\n\n700 Americana T-Shirt Sale 2026\n\n\n\n\n\n\n\n\n	Name\n		*\n	\n	\n	\n		Name	\n\n	\n					\n				\n					First Name				\n\n				First Name			\n						\n				\n					Last Name				\n\n				Last Name			\n				\n\n\n	\n	\n\n\n    Email\n        *\n    \n    \n    \n    \n\n\n    Phone\n        *\n    \n    \n    \n    \n\n\nAmerica 250 CNO Americana T-Shirt\nCost is $22/shirt. Women’s shirts are heather navy blue and Men’s shirts are navy blue.\n\n\n	Women Size Small\n		\n	\n	\n	\n	\n\n\n	Women Size Medium\n		\n	\n	\n	\n	\n\n\n	Women Size Large\n		\n	\n	\n	\n	\n\n\n	Women Size X-Large\n		\n	\n	\n	\n	\n\n\n	Women Size XX-Large\n		\n	\n	\n	\n	\n\n\n	Men Size Medium\n		\n	\n	\n	\n	\n\n\n	Men Size Large\n		\n	\n	\n	\n	\n\n\n	Men Size X-Large\n		\n	\n	\n	\n	\n\n\n	Men Size XX-Large\n		\n	\n	\n	\n	\n\n\n\n    Total Number of T-shirts\n        \n    \n    \n    \n    \n\n\n    Price of T-shirt\n        \n    \n    $\n    \n    \n\n\n    Total\n        \n    \n     $\n    This is the total amount that will be charged.\n    \n\n\n    Method of Payment\n        \n    \n    					\n					 Credit Card\n					\n					 PayPal\n\n    \n    \n\n\n    Payment\n        \n    \n    \n\n\n\n    \n    \n\n\n    Message\n        \n    \n    \n    Add anything you want the organizer to know. \n    \n\n\nHidden\n\n\n\n    Event\n        \n    \n    \n    \n    \n\n\n    Payment Status\n        \n    \n    		\n		ValueNotSetCompletedFailed	\n	\n    \n    \n\n\n		\n		\nSection\n\n\n\n	\n\nPurchase\n\n\n\n\n	\n			\n			\n				If you are human\, leave this field blank.			\n			\n		\n		\n\n\n\nΔ
URL:https://centervillenoonoptimist.com/event/order-america-250-cno-americana-t-shirt/
LOCATION:Yankee Trace Golf Club\, 10000 Yankee St\,\, Centerville\, 45458
CATEGORIES:Members,Volunteer
ATTACH;FMTTYPE=image/png:https://centervillenoonoptimist.com/wp-content/uploads/2026/04/Americana-CNO-member-t-shirt-2026-1.png
END:VEVENT
BEGIN:VEVENT
DTSTART;TZID=America/New_York:20260421T114500
DTEND;TZID=America/New_York:20260421T130000
DTSTAMP:20260421T000358
CREATED:20251230T044537Z
LAST-MODIFIED:20260109T050445Z
UID:10000513-1776771900-1776776400@centervillenoonoptimist.com
SUMMARY:CNO Lunch - Bringing Out the Best in Kids Award
DESCRIPTION:Join us for lunch as we announce our Bringing Out the Best in Kids Award. \n\n\n\nGuests are welcome to attend.
URL:https://centervillenoonoptimist.com/event/cno-lunch-68/
LOCATION:Yankee Trace Golf Club\, 10000 Yankee St\,\, Centerville\, 45458
CATEGORIES:- CNO Lunch Meeting,Members,Public
ATTACH;FMTTYPE=image/png:https://centervillenoonoptimist.com/wp-content/uploads/2023/10/Club-Photo-2022-Small.png
END:VEVENT
BEGIN:VEVENT
DTSTART;TZID=America/New_York:20260428T114500
DTEND;TZID=America/New_York:20260428T130000
DTSTAMP:20260421T000358
CREATED:20251230T044601Z
LAST-MODIFIED:20260325T213817Z
UID:10000514-1777376700-1777381200@centervillenoonoptimist.com
SUMMARY:CNO Lunch - JOI Update and Board Elections
DESCRIPTION:Join us for lunch as we hear an update on our Junior Optimist (JOI) Clubs and present our Board Elections. \n\n\n\nGuests are welcome to attend.
URL:https://centervillenoonoptimist.com/event/cno-lunch-69/
LOCATION:Yankee Trace Golf Club\, 10000 Yankee St\,\, Centerville\, 45458
CATEGORIES:- CNO Lunch Meeting,Members,Public
ATTACH;FMTTYPE=image/png:https://centervillenoonoptimist.com/wp-content/uploads/2023/10/Club-Photo-2022-Small.png
END:VEVENT
BEGIN:VEVENT
DTSTART;TZID=America/New_York:20260505T114500
DTEND;TZID=America/New_York:20260505T130000
DTSTAMP:20260421T000358
CREATED:20251230T044623Z
LAST-MODIFIED:20260227T201716Z
UID:10000515-1777981500-1777986000@centervillenoonoptimist.com
SUMMARY:CNO Lunch - Avenue of Flags Kickoff and Photography Contest
DESCRIPTION:Join us for lunch as we kickoff our Avenue of Flags fundraiser.  We will also welcome the winners of the Photography Contest. \n\n\n\nGuests are welcome to attend.
URL:https://centervillenoonoptimist.com/event/cno-lunch-70/
LOCATION:Yankee Trace Golf Club\, 10000 Yankee St\,\, Centerville\, 45458
CATEGORIES:- CNO Lunch Meeting,Members,Public
ATTACH;FMTTYPE=image/png:https://centervillenoonoptimist.com/wp-content/uploads/2023/10/Club-Photo-2022-Small.png
END:VEVENT
BEGIN:VEVENT
DTSTART;TZID=America/New_York:20260512T114500
DTEND;TZID=America/New_York:20260512T130000
DTSTAMP:20260421T000358
CREATED:20251230T044643Z
LAST-MODIFIED:20260109T050653Z
UID:10000516-1778586300-1778590800@centervillenoonoptimist.com
SUMMARY:CNO Lunch - John Kalaman Respect for Law Award
DESCRIPTION:Join us for lunch as we present our John Kalaman Respect for Law Award. \n\n\n\nGuests are welcome to attend.
URL:https://centervillenoonoptimist.com/event/cno-lunch-71/
LOCATION:Yankee Trace Golf Club\, 10000 Yankee St\,\, Centerville\, 45458
CATEGORIES:- CNO Lunch Meeting,Members,Public
ATTACH;FMTTYPE=image/png:https://centervillenoonoptimist.com/wp-content/uploads/2023/10/Club-Photo-2022-Small.png
END:VEVENT
BEGIN:VEVENT
DTSTART;TZID=America/New_York:20260519T114500
DTEND;TZID=America/New_York:20260519T130000
DTSTAMP:20260421T000358
CREATED:20251230T044703Z
LAST-MODIFIED:20260225T045417Z
UID:10000517-1779191100-1779195600@centervillenoonoptimist.com
SUMMARY:CNO Lunch - Students Against Destructive Decisions (SADD)
DESCRIPTION:Join us for lunch as our speakers are teacher Lindsey Schmidt plus three students speaking about Students Against Destructive Decisions (SADD). \n\n\n\nGuests are welcome to attend.
URL:https://centervillenoonoptimist.com/event/cno-lunch-72/
LOCATION:Yankee Trace Golf Club\, 10000 Yankee St\,\, Centerville\, 45458
CATEGORIES:- CNO Lunch Meeting,Members,Public
ATTACH;FMTTYPE=image/png:https://centervillenoonoptimist.com/wp-content/uploads/2023/10/Club-Photo-2022-Small.png
END:VEVENT
BEGIN:VEVENT
DTSTART;TZID=America/New_York:20260526T114500
DTEND;TZID=America/New_York:20260526T130000
DTSTAMP:20260421T000358
CREATED:20251230T044727Z
LAST-MODIFIED:20251230T044917Z
UID:10000518-1779795900-1779800400@centervillenoonoptimist.com
SUMMARY:CNO Lunch - No Noon Meeting
DESCRIPTION:There will be no noon lunch. \n\n\n\nGuests are welcome to attend.
URL:https://centervillenoonoptimist.com/event/cno-lunch-73/
LOCATION:Yankee Trace Golf Club\, 10000 Yankee St\,\, Centerville\, 45458
CATEGORIES:- CNO Lunch Meeting,Members,Public
ATTACH;FMTTYPE=image/png:https://centervillenoonoptimist.com/wp-content/uploads/2023/10/Club-Photo-2022-Small.png
END:VEVENT
BEGIN:VEVENT
DTSTART;TZID=America/New_York:20260602T114500
DTEND;TZID=America/New_York:20260602T130000
DTSTAMP:20260421T000358
CREATED:20251230T044950Z
LAST-MODIFIED:20251230T044951Z
UID:10000519-1780400700-1780405200@centervillenoonoptimist.com
SUMMARY:CNO Lunch
DESCRIPTION:Join us for lunch. \n\n\n\nGuests are welcome to attend.
URL:https://centervillenoonoptimist.com/event/cno-lunch-74/
LOCATION:Yankee Trace Golf Club\, 10000 Yankee St\,\, Centerville\, 45458
CATEGORIES:- CNO Lunch Meeting,Members,Public
ATTACH;FMTTYPE=image/png:https://centervillenoonoptimist.com/wp-content/uploads/2023/10/Club-Photo-2022-Small.png
END:VEVENT
BEGIN:VEVENT
DTSTART;TZID=America/New_York:20260609T114500
DTEND;TZID=America/New_York:20260609T130000
DTSTAMP:20260421T000358
CREATED:20251230T045013Z
LAST-MODIFIED:20251230T045015Z
UID:10000520-1781005500-1781010000@centervillenoonoptimist.com
SUMMARY:CNO Lunch
DESCRIPTION:Join us for lunch. \n\n\n\nGuests are welcome to attend.
URL:https://centervillenoonoptimist.com/event/cno-lunch-75/
LOCATION:Yankee Trace Golf Club\, 10000 Yankee St\,\, Centerville\, 45458
CATEGORIES:- CNO Lunch Meeting,Members,Public
ATTACH;FMTTYPE=image/png:https://centervillenoonoptimist.com/wp-content/uploads/2023/10/Club-Photo-2022-Small.png
END:VEVENT
BEGIN:VEVENT
DTSTART;TZID=America/New_York:20260616T114500
DTEND;TZID=America/New_York:20260616T130000
DTSTAMP:20260421T000358
CREATED:20251230T045035Z
LAST-MODIFIED:20251230T045036Z
UID:10000521-1781610300-1781614800@centervillenoonoptimist.com
SUMMARY:CNO Lunch
DESCRIPTION:Join us for lunch. \n\n\n\nGuests are welcome to attend.
URL:https://centervillenoonoptimist.com/event/cno-lunch-76/
LOCATION:Yankee Trace Golf Club\, 10000 Yankee St\,\, Centerville\, 45458
CATEGORIES:- CNO Lunch Meeting,Members,Public
ATTACH;FMTTYPE=image/png:https://centervillenoonoptimist.com/wp-content/uploads/2023/10/Club-Photo-2022-Small.png
END:VEVENT
BEGIN:VEVENT
DTSTART;TZID=America/New_York:20260623T114500
DTEND;TZID=America/New_York:20260623T130000
DTSTAMP:20260421T000358
CREATED:20251230T045055Z
LAST-MODIFIED:20251230T045057Z
UID:10000522-1782215100-1782219600@centervillenoonoptimist.com
SUMMARY:CNO Lunch
DESCRIPTION:Join us for lunch. \n\n\n\nGuests are welcome to attend.
URL:https://centervillenoonoptimist.com/event/cno-lunch-77/
LOCATION:Yankee Trace Golf Club\, 10000 Yankee St\,\, Centerville\, 45458
CATEGORIES:- CNO Lunch Meeting,Members,Public
ATTACH;FMTTYPE=image/png:https://centervillenoonoptimist.com/wp-content/uploads/2023/10/Club-Photo-2022-Small.png
END:VEVENT
BEGIN:VEVENT
DTSTART;TZID=America/New_York:20260630T114500
DTEND;TZID=America/New_York:20260630T130000
DTSTAMP:20260421T000358
CREATED:20251230T045116Z
LAST-MODIFIED:20251230T045118Z
UID:10000523-1782819900-1782824400@centervillenoonoptimist.com
SUMMARY:CNO Lunch
DESCRIPTION:Join us for lunch. \n\n\n\nGuests are welcome to attend.
URL:https://centervillenoonoptimist.com/event/cno-lunch-78/
LOCATION:Yankee Trace Golf Club\, 10000 Yankee St\,\, Centerville\, 45458
CATEGORIES:- CNO Lunch Meeting,Members,Public
ATTACH;FMTTYPE=image/png:https://centervillenoonoptimist.com/wp-content/uploads/2023/10/Club-Photo-2022-Small.png
END:VEVENT
BEGIN:VEVENT
DTSTART;TZID=America/New_York:20260707T114500
DTEND;TZID=America/New_York:20260707T130000
DTSTAMP:20260421T000358
CREATED:20260225T045559Z
LAST-MODIFIED:20260225T045603Z
UID:10000570-1783424700-1783429200@centervillenoonoptimist.com
SUMMARY:CNO Lunch
DESCRIPTION:Join us for lunch. \n\n\n\nGuests are welcome to attend.
URL:https://centervillenoonoptimist.com/event/cno-lunch-79/
LOCATION:Yankee Trace Golf Club\, 10000 Yankee St\,\, Centerville\, 45458
CATEGORIES:- CNO Lunch Meeting,Members,Public
ATTACH;FMTTYPE=image/png:https://centervillenoonoptimist.com/wp-content/uploads/2023/10/Club-Photo-2022-Small.png
END:VEVENT
BEGIN:VEVENT
DTSTART;TZID=America/New_York:20260714T114500
DTEND;TZID=America/New_York:20260714T130000
DTSTAMP:20260421T000358
CREATED:20260225T045646Z
LAST-MODIFIED:20260325T214037Z
UID:10000571-1784029500-1784034000@centervillenoonoptimist.com
SUMMARY:CNO Lunch - Destination Imagination
DESCRIPTION:Join us for lunch as we learn more about Destination Imagination. \n\n\n\nGuests are welcome to attend.
URL:https://centervillenoonoptimist.com/event/cno-lunch-80/
LOCATION:Yankee Trace Golf Club\, 10000 Yankee St\,\, Centerville\, 45458
CATEGORIES:- CNO Lunch Meeting,Members,Public
ATTACH;FMTTYPE=image/png:https://centervillenoonoptimist.com/wp-content/uploads/2023/10/Club-Photo-2022-Small.png
END:VEVENT
BEGIN:VEVENT
DTSTART;TZID=America/New_York:20260721T114500
DTEND;TZID=America/New_York:20260721T130000
DTSTAMP:20260421T000358
CREATED:20260225T045819Z
LAST-MODIFIED:20260225T045823Z
UID:10000572-1784634300-1784638800@centervillenoonoptimist.com
SUMMARY:CNO Lunch - Memorial Scholarships
DESCRIPTION:Join us for lunch as we present students with our Memorial Scholarships. \n\n\n\nGuests are welcome to attend.
URL:https://centervillenoonoptimist.com/event/cno-lunch-memorial-scholarships-4/
LOCATION:Yankee Trace Golf Club\, 10000 Yankee St\,\, Centerville\, 45458
CATEGORIES:- CNO Lunch Meeting,Members,Public
ATTACH;FMTTYPE=image/png:https://centervillenoonoptimist.com/wp-content/uploads/2023/10/Club-Photo-2022-Small.png
END:VEVENT
BEGIN:VEVENT
DTSTART;TZID=America/New_York:20260728T114500
DTEND;TZID=America/New_York:20260728T130000
DTSTAMP:20260421T000358
CREATED:20260225T050034Z
LAST-MODIFIED:20260225T050039Z
UID:10000573-1785239100-1785243600@centervillenoonoptimist.com
SUMMARY:CNO Lunch - Montgomery County Sheriff's Department
DESCRIPTION:Join us for lunch as our speaker is the Montgomery County Sheriff’s Department. \n\n\n\nGuests are welcome to attend.
URL:https://centervillenoonoptimist.com/event/cno-lunch-montgomery-county-sheriffs-department/
LOCATION:Yankee Trace Golf Club\, 10000 Yankee St\,\, Centerville\, 45458
CATEGORIES:- CNO Lunch Meeting,Members,Public
ATTACH;FMTTYPE=image/png:https://centervillenoonoptimist.com/wp-content/uploads/2023/10/Club-Photo-2022-Small.png
END:VEVENT
BEGIN:VEVENT
DTSTART;TZID=America/New_York:20260804T114500
DTEND;TZID=America/New_York:20260804T130000
DTSTAMP:20260421T000358
CREATED:20260225T050201Z
LAST-MODIFIED:20260225T050206Z
UID:10000574-1785843900-1785848400@centervillenoonoptimist.com
SUMMARY:CNO Lunch - Daybreak
DESCRIPTION:Join us for lunch as our speaker is Tina Rezash Rogel with Daybreak. \n\n\n\nGuests are welcome to attend.
URL:https://centervillenoonoptimist.com/event/cno-lunch-daybreak/
LOCATION:Yankee Trace Golf Club\, 10000 Yankee St\,\, Centerville\, 45458
CATEGORIES:- CNO Lunch Meeting,Members,Public
ATTACH;FMTTYPE=image/png:https://centervillenoonoptimist.com/wp-content/uploads/2023/10/Club-Photo-2022-Small.png
END:VEVENT
BEGIN:VEVENT
DTSTART;TZID=America/New_York:20260818T114500
DTEND;TZID=America/New_York:20260818T130000
DTSTAMP:20260421T000358
CREATED:20260225T050641Z
LAST-MODIFIED:20260225T050646Z
UID:10000576-1787053500-1787058000@centervillenoonoptimist.com
SUMMARY:CNO Lunch - Heart of Centerville/Washington Township
DESCRIPTION:Join us for lunch as our speaker is the Heart of Centerville/Washington Township (HOCWT). \n\n\n\nGuests are welcome to attend.
URL:https://centervillenoonoptimist.com/event/cno-lunch-heart-of-centerville-washington-township/
LOCATION:Yankee Trace Golf Club\, 10000 Yankee St\,\, Centerville\, 45458
CATEGORIES:- CNO Lunch Meeting,Members,Public
ATTACH;FMTTYPE=image/png:https://centervillenoonoptimist.com/wp-content/uploads/2023/10/Club-Photo-2022-Small.png
END:VEVENT
BEGIN:VEVENT
DTSTART;TZID=America/New_York:20260825T114500
DTEND;TZID=America/New_York:20260825T130000
DTSTAMP:20260421T000358
CREATED:20260225T050840Z
LAST-MODIFIED:20260225T050844Z
UID:10000577-1787658300-1787662800@centervillenoonoptimist.com
SUMMARY:CNO Lunch - International Soap Box Derby
DESCRIPTION:Join us for lunch as our speaker is Dennis VanFossen Jr.\, President & CEO\, International Soap Box Derby. \n\n\n\nGuests are welcome to attend.
URL:https://centervillenoonoptimist.com/event/cno-lunch-international-soap-box-derby/
LOCATION:Yankee Trace Golf Club\, 10000 Yankee St\,\, Centerville\, 45458
CATEGORIES:- CNO Lunch Meeting,Members,Public
ATTACH;FMTTYPE=image/png:https://centervillenoonoptimist.com/wp-content/uploads/2023/10/Club-Photo-2022-Small.png
END:VEVENT
BEGIN:VEVENT
DTSTART;TZID=America/New_York:20260901T114500
DTEND;TZID=America/New_York:20260901T130000
DTSTAMP:20260421T000358
CREATED:20260225T050953Z
LAST-MODIFIED:20260325T214202Z
UID:10000578-1788263100-1788267600@centervillenoonoptimist.com
SUMMARY:CNO Lunch - CHS Spirit Chain
DESCRIPTION:Join us for lunch as we welcome students from CHS Spirit Chain. \n\n\n\nGuests are welcome to attend.
URL:https://centervillenoonoptimist.com/event/cno-lunch-81/
LOCATION:Yankee Trace Golf Club\, 10000 Yankee St\,\, Centerville\, 45458
CATEGORIES:- CNO Lunch Meeting,Members,Public
ATTACH;FMTTYPE=image/png:https://centervillenoonoptimist.com/wp-content/uploads/2023/10/Club-Photo-2022-Small.png
END:VEVENT
BEGIN:VEVENT
DTSTART;TZID=America/New_York:20260908T114500
DTEND;TZID=America/New_York:20260908T130000
DTSTAMP:20260421T000358
CREATED:20260225T051033Z
LAST-MODIFIED:20260225T051037Z
UID:10000579-1788867900-1788872400@centervillenoonoptimist.com
SUMMARY:CNO Lunch
DESCRIPTION:Join us for lunch. \n\n\n\nGuests are welcome to attend.
URL:https://centervillenoonoptimist.com/event/cno-lunch-82/
LOCATION:Yankee Trace Golf Club\, 10000 Yankee St\,\, Centerville\, 45458
CATEGORIES:- CNO Lunch Meeting,Members,Public
ATTACH;FMTTYPE=image/png:https://centervillenoonoptimist.com/wp-content/uploads/2023/10/Club-Photo-2022-Small.png
END:VEVENT
BEGIN:VEVENT
DTSTART;TZID=America/New_York:20260915T114500
DTEND;TZID=America/New_York:20260915T130000
DTSTAMP:20260421T000358
CREATED:20260225T051108Z
LAST-MODIFIED:20260325T214528Z
UID:10000580-1789472700-1789477200@centervillenoonoptimist.com
SUMMARY:CNO Lunch - State of the Club
DESCRIPTION:Join us for lunch as we focus on club activities. \n\n\n\nGuests are welcome to attend.
URL:https://centervillenoonoptimist.com/event/cno-lunch-83/
LOCATION:Yankee Trace Golf Club\, 10000 Yankee St\,\, Centerville\, 45458
CATEGORIES:- CNO Lunch Meeting,Members,Public
ATTACH;FMTTYPE=image/png:https://centervillenoonoptimist.com/wp-content/uploads/2023/10/Club-Photo-2022-Small.png
END:VEVENT
BEGIN:VEVENT
DTSTART;TZID=America/New_York:20260922T114500
DTEND;TZID=America/New_York:20260922T130000
DTSTAMP:20260421T000358
CREATED:20260225T051156Z
LAST-MODIFIED:20260325T214604Z
UID:10000581-1790077500-1790082000@centervillenoonoptimist.com
SUMMARY:CNO Lunch - Dayton Children's Hospital Golf Check Presentation
DESCRIPTION:Join us for lunch as we present Adam Blanchard\, Dayton Children’s Hospital\, with the Golf Check. We also will review projects made possible by CNO. \n\n\n\nGuests are welcome to attend.
URL:https://centervillenoonoptimist.com/event/cno-lunch-84/
LOCATION:Yankee Trace Golf Club\, 10000 Yankee St\,\, Centerville\, 45458
CATEGORIES:- CNO Lunch Meeting,Members,Public
ATTACH;FMTTYPE=image/png:https://centervillenoonoptimist.com/wp-content/uploads/2023/10/Club-Photo-2022-Small.png
END:VEVENT
BEGIN:VEVENT
DTSTART;TZID=America/New_York:20260929T114500
DTEND;TZID=America/New_York:20260929T130000
DTSTAMP:20260421T000358
CREATED:20260225T051259Z
LAST-MODIFIED:20260225T051541Z
UID:10000582-1790682300-1790686800@centervillenoonoptimist.com
SUMMARY:CNO Lunch - No Meeting (Installation Dinner)
DESCRIPTION:There will be no noon meeting due to the evening Installation Dinner. \n\n\n\nGuests are welcome to attend.
URL:https://centervillenoonoptimist.com/event/cno-lunch-85/
LOCATION:Yankee Trace Golf Club\, 10000 Yankee St\,\, Centerville\, 45458
CATEGORIES:- CNO Lunch Meeting,Members,Public
ATTACH;FMTTYPE=image/png:https://centervillenoonoptimist.com/wp-content/uploads/2023/10/Club-Photo-2022-Small.png
END:VEVENT
END:VCALENDAR