BEGIN:VCALENDAR
VERSION:2.0
PRODID:-//Centerville Noon Optimist - ECPv6.15.20//NONSGML v1.0//EN
CALSCALE:GREGORIAN
METHOD:PUBLISH
X-ORIGINAL-URL:https://centervillenoonoptimist.com
X-WR-CALDESC:Events for Centerville Noon Optimist
REFRESH-INTERVAL;VALUE=DURATION:PT1H
X-Robots-Tag:noindex
X-PUBLISHED-TTL:PT1H
BEGIN:VTIMEZONE
TZID:America/New_York
BEGIN:DAYLIGHT
TZOFFSETFROM:-0500
TZOFFSETTO:-0400
TZNAME:EDT
DTSTART:20220313T070000
END:DAYLIGHT
BEGIN:STANDARD
TZOFFSETFROM:-0400
TZOFFSETTO:-0500
TZNAME:EST
DTSTART:20221106T060000
END:STANDARD
BEGIN:DAYLIGHT
TZOFFSETFROM:-0500
TZOFFSETTO:-0400
TZNAME:EDT
DTSTART:20230312T070000
END:DAYLIGHT
BEGIN:STANDARD
TZOFFSETFROM:-0400
TZOFFSETTO:-0500
TZNAME:EST
DTSTART:20231105T060000
END:STANDARD
BEGIN:DAYLIGHT
TZOFFSETFROM:-0500
TZOFFSETTO:-0400
TZNAME:EDT
DTSTART:20240310T070000
END:DAYLIGHT
BEGIN:STANDARD
TZOFFSETFROM:-0400
TZOFFSETTO:-0500
TZNAME:EST
DTSTART:20241103T060000
END:STANDARD
BEGIN:DAYLIGHT
TZOFFSETFROM:-0500
TZOFFSETTO:-0400
TZNAME:EDT
DTSTART:20250309T070000
END:DAYLIGHT
BEGIN:STANDARD
TZOFFSETFROM:-0400
TZOFFSETTO:-0500
TZNAME:EST
DTSTART:20251102T060000
END:STANDARD
END:VTIMEZONE
BEGIN:VEVENT
DTSTART;TZID=America/New_York:20240109T114500
DTEND;TZID=America/New_York:20240109T130000
DTSTAMP:20260424T110617
CREATED:20231220T035745Z
LAST-MODIFIED:20240120T184657Z
UID:10000142-1704800700-1704805200@centervillenoonoptimist.com
SUMMARY:CNO Lunch - Edge Teen Center
DESCRIPTION:Join us for lunch as our speaker is Sara Gabbard\, Executive Director\, Edge Teen Center. \n\n\n\nGuests are welcome to attend.
URL:https://centervillenoonoptimist.com/event/cno-lunch-edge-teen-center/
LOCATION:Yankee Trace Golf Club\, 10000 Yankee St\,\, Centerville\, 45458
CATEGORIES:- CNO Lunch Meeting,Members,Public
ATTACH;FMTTYPE=image/png:https://centervillenoonoptimist.com/wp-content/uploads/2023/10/Club-Photo-2022-Small.png
END:VEVENT
BEGIN:VEVENT
DTSTART;TZID=America/New_York:20240102T114500
DTEND;TZID=America/New_York:20240102T130000
DTSTAMP:20260424T110617
CREATED:20231220T035221Z
LAST-MODIFIED:20240120T184713Z
UID:10000141-1704195900-1704200400@centervillenoonoptimist.com
SUMMARY:CNO Lunch - No Meeting
DESCRIPTION:There will be no noon meeting.
URL:https://centervillenoonoptimist.com/event/cno-lunch-no-meeting-2/
LOCATION:Yankee Trace Golf Club\, 10000 Yankee St\,\, Centerville\, 45458
CATEGORIES:- CNO Lunch Meeting,Members,Public
ATTACH;FMTTYPE=image/png:https://centervillenoonoptimist.com/wp-content/uploads/2023/10/Club-Photo-2022-Small.png
END:VEVENT
BEGIN:VEVENT
DTSTART;TZID=America/New_York:20231226T114500
DTEND;TZID=America/New_York:20231226T130000
DTSTAMP:20260424T110617
CREATED:20230814T031324Z
LAST-MODIFIED:20231013T153041Z
UID:10000122-1703591100-1703595600@centervillenoonoptimist.com
SUMMARY:CNO Lunch - No Meeting
DESCRIPTION:There will be no noon meeting.
URL:https://centervillenoonoptimist.com/event/cno-lunch-no-meeting/
LOCATION:Yankee Trace Golf Club\, 10000 Yankee St\,\, Centerville\, 45458
CATEGORIES:- CNO Lunch Meeting,Public
ATTACH;FMTTYPE=image/png:https://centervillenoonoptimist.com/wp-content/uploads/2023/10/Club-Photo-2022-Small.png
END:VEVENT
BEGIN:VEVENT
DTSTART;TZID=America/New_York:20231219T114500
DTEND;TZID=America/New_York:20231219T130000
DTSTAMP:20260424T110617
CREATED:20230814T030910Z
LAST-MODIFIED:20231013T153006Z
UID:10000120-1702986300-1702990800@centervillenoonoptimist.com
SUMMARY:CNO Lunch - Club Day
DESCRIPTION:Join us for lunch as we focus on club activities including the Holiday Party. \n\n\n\nGuests are welcome to attend.
URL:https://centervillenoonoptimist.com/event/cno-lunch-8/
LOCATION:Yankee Trace Golf Club\, 10000 Yankee St\,\, Centerville\, 45458
CATEGORIES:- CNO Lunch Meeting,Public
ATTACH;FMTTYPE=image/png:https://centervillenoonoptimist.com/wp-content/uploads/2023/10/Club-Photo-2022-Small.png
END:VEVENT
BEGIN:VEVENT
DTSTART;TZID=America/New_York:20231212T114500
DTEND;TZID=America/New_York:20231212T130000
DTSTAMP:20260424T110617
CREATED:20230814T031114Z
LAST-MODIFIED:20231013T152932Z
UID:10000121-1702381500-1702386000@centervillenoonoptimist.com
SUMMARY:CNO Lunch - No Meeting (Holiday Dinner)
DESCRIPTION:There will be no noon meeting.  The Holiday Dinner will be held in the evening.
URL:https://centervillenoonoptimist.com/event/cno-lunch-no-meeting-holiday-dinner/
LOCATION:Yankee Trace Golf Club\, 10000 Yankee St\,\, Centerville\, 45458
CATEGORIES:- CNO Lunch Meeting,Public
ATTACH;FMTTYPE=image/png:https://centervillenoonoptimist.com/wp-content/uploads/2023/10/Club-Photo-2022-Small.png
END:VEVENT
BEGIN:VEVENT
DTSTART;TZID=America/New_York:20231205T114500
DTEND;TZID=America/New_York:20231205T130000
DTSTAMP:20260424T110617
CREATED:20230814T030826Z
LAST-MODIFIED:20231013T152856Z
UID:10000119-1701776700-1701781200@centervillenoonoptimist.com
SUMMARY:CNO Lunch - Youth Appreciation Awards
DESCRIPTION:Join us for lunch as we present our Youth Appreciation Awards. \n\n\n\nGuests are welcome to attend.
URL:https://centervillenoonoptimist.com/event/cno-lunch-11/
LOCATION:Yankee Trace Golf Club\, 10000 Yankee St\,\, Centerville\, 45458
CATEGORIES:- CNO Lunch Meeting,Public
ATTACH;FMTTYPE=image/png:https://centervillenoonoptimist.com/wp-content/uploads/2023/10/Club-Photo-2022-Small.png
END:VEVENT
BEGIN:VEVENT
DTSTART;TZID=America/New_York:20231128T114500
DTEND;TZID=America/New_York:20231128T130000
DTSTAMP:20260424T110617
CREATED:20230814T030752Z
LAST-MODIFIED:20231013T152817Z
UID:10000118-1701171900-1701176400@centervillenoonoptimist.com
SUMMARY:CNO Lunch - On Our Sleeves Mental Health Initiative
DESCRIPTION:Join us for lunch as our speaker is Emily Weitz\, Outreach Coordinator\, Community Behavioral Health of Dayton Children’s Hospital. \n\n\n\nGuests are welcome to attend.
URL:https://centervillenoonoptimist.com/event/cno-lunch-10/
LOCATION:Yankee Trace Golf Club\, 10000 Yankee St\,\, Centerville\, 45458
CATEGORIES:- CNO Lunch Meeting,Public
ATTACH;FMTTYPE=image/png:https://centervillenoonoptimist.com/wp-content/uploads/2023/10/Club-Photo-2022-Small.png
END:VEVENT
BEGIN:VEVENT
DTSTART;TZID=America/New_York:20231121T114500
DTEND;TZID=America/New_York:20231121T130000
DTSTAMP:20260424T110617
CREATED:20230814T030727Z
LAST-MODIFIED:20231013T152738Z
UID:10000117-1700567100-1700571600@centervillenoonoptimist.com
SUMMARY:CNO Lunch - Centerville Schools ITOP Program
DESCRIPTION:Join us for lunch as our speakers are Judy Vance\, Intervention Specialist\, and Charlie Alcorn\, co-teacher of the Centerville City Schools ITOP (Integrated Transition Options Program). \n\n\n\nGuests are welcome to attend.
URL:https://centervillenoonoptimist.com/event/cno-lunch-9/
LOCATION:Yankee Trace Golf Club\, 10000 Yankee St\,\, Centerville\, 45458
CATEGORIES:- CNO Lunch Meeting,Public
ATTACH;FMTTYPE=image/png:https://centervillenoonoptimist.com/wp-content/uploads/2023/10/Club-Photo-2022-Small.png
END:VEVENT
BEGIN:VEVENT
DTSTART;TZID=America/New_York:20231114T114500
DTEND;TZID=America/New_York:20231114T130000
DTSTAMP:20260424T110617
CREATED:20230814T030523Z
LAST-MODIFIED:20231107T024010Z
UID:10000114-1699962300-1699966800@centervillenoonoptimist.com
SUMMARY:CNO Lunch - Club Day
DESCRIPTION:Join us for lunch as we focus on club activities including the tree lot. \n\n\n\nGuests are welcome to attend.
URL:https://centervillenoonoptimist.com/event/cno-lunch-6/
LOCATION:Yankee Trace Golf Club\, 10000 Yankee St\,\, Centerville\, 45458
CATEGORIES:- CNO Lunch Meeting,Public
ATTACH;FMTTYPE=image/png:https://centervillenoonoptimist.com/wp-content/uploads/2023/10/Club-Photo-2022-Small.png
END:VEVENT
BEGIN:VEVENT
DTSTART;TZID=America/New_York:20231107T114500
DTEND;TZID=America/New_York:20231107T130000
DTSTAMP:20260424T110617
CREATED:20230814T030627Z
LAST-MODIFIED:20231107T024033Z
UID:10000115-1699357500-1699362000@centervillenoonoptimist.com
SUMMARY:CNO Lunch - Brigid's Path
DESCRIPTION:Join us for lunch as our speaker is Jill Kingston\, Founder and President of Brigid’s Path. \n\n\n\nGuests are welcome to attend.
URL:https://centervillenoonoptimist.com/event/cno-lunch-7/
LOCATION:Yankee Trace Golf Club\, 10000 Yankee St\,\, Centerville\, 45458
CATEGORIES:- CNO Lunch Meeting,Public
ATTACH;FMTTYPE=image/png:https://centervillenoonoptimist.com/wp-content/uploads/2023/10/Club-Photo-2022-Small.png
END:VEVENT
BEGIN:VEVENT
DTSTART;TZID=America/New_York:20231031T114500
DTEND;TZID=America/New_York:20231031T130000
DTSTAMP:20260424T110617
CREATED:20230814T030332Z
LAST-MODIFIED:20231013T152554Z
UID:10000113-1698752700-1698757200@centervillenoonoptimist.com
SUMMARY:CNO Lunch - A Special Wish
DESCRIPTION:Join us for lunch as our speaker is David Seyer\, Executive Director of A Special Wish. \n\n\n\nGuests are welcome to attend.
URL:https://centervillenoonoptimist.com/event/cno-lunch-5/
LOCATION:Yankee Trace Golf Club\, 10000 Yankee St\,\, Centerville\, 45458
CATEGORIES:- CNO Lunch Meeting,Public
ATTACH;FMTTYPE=image/png:https://centervillenoonoptimist.com/wp-content/uploads/2023/10/Club-Photo-2022-Small.png
END:VEVENT
BEGIN:VEVENT
DTSTART;TZID=America/New_York:20231025T084500
DTEND;TZID=America/New_York:20231025T193000
DTSTAMP:20260424T110617
CREATED:20230823T195719Z
LAST-MODIFIED:20230912T205213Z
UID:10000124-1698223500-1698262200@centervillenoonoptimist.com
SUMMARY:Social - Keeneland Horse Racing
DESCRIPTION:Meet in the Parking Lot of Yankee Trace\n\n\n\nWednesday\, October 25\, 2023\n\n\n\n8:45 am – 7:30 pm (Bus leaves at 9 am sharp!)\n\n\n\nLimited to only 48 people – sign up early to ensure a spot on the bus!\n\n\n\n$55.00 per person pay in advance\n\n\n\nMeet at 8:45 am at Yankee Trace lower parking lot and board a charter bus (has a bathroom!) \n\n\n\nPrice:  $55.00 per person (includes ticket for Grandstand seat\, charter bus\, boxed dinner on the way back) Pop\, Water\, Mimosa’s\, Bloody Mary’s and other adult beverages along with snacks will be provided as well.   \n\n\n\nYou may bring your own beverages and snacks as well but we may want to share if they are better than ours!  🙂 \n\n\n\nAttire:  Anything comfortable – Jeans are acceptable. \n\n\n\nBoxed dinner choices:   \n\n\n\nChoice 1:  Fresh Baked Turkey Breast  – Sliced Turkey fully dressed with Cheddar cheese on artisan bread.  Includes fruit salad and turtle brownie. \n\n\n\nChoice 2:  Chicken BLT – Marinated Chicken Breast with applewood smoked bacon\, lettuce and tomato on a potato bun.  Includes fruit salad and a turtle brownie. \n\n\n\nChoice 3:  Mediterranean Wrap – Spinach flatbread filled with hummus\, carrot\, red pepper\, cucumber\, red onion\, tomato and sprouts.  Includes fruit salad and turtle brownie. \n\n\n\nOur goal is to arrive back at Yankee Trace at 7:30 p.m.  \n\n\n\nWatch or bet the horses!  Don’t know how to bet?  We will do some minimal training on the way down but most of the fun is the trip to and from with your fellow Optimist friends!  \n\n\n\nIf you need to cancel\, your registration fee will be refunded minus the credit card fees paid. No cancellations accepted after October 13\, 2023. \n\n\nThis form is currently closed for submissions.
URL:https://centervillenoonoptimist.com/event/social-keeneland/
LOCATION:Yankee Trace Golf Club\, 10000 Yankee St\,\, Centerville\, 45458
CATEGORIES:Members,Social Event,Volunteer
ATTACH;FMTTYPE=image/png:https://centervillenoonoptimist.com/wp-content/uploads/2023/08/Keeneland.png
END:VEVENT
BEGIN:VEVENT
DTSTART;TZID=America/New_York:20231024T114500
DTEND;TZID=America/New_York:20231024T130000
DTSTAMP:20260424T110617
CREATED:20230814T030307Z
LAST-MODIFIED:20231013T152409Z
UID:10000112-1698147900-1698152400@centervillenoonoptimist.com
SUMMARY:CNO Lunch - Montgomery County Auditor
DESCRIPTION:Join us for lunch as our speaker is Karl Keith\, Montgomery County Auditor. \n\n\n\nGuests are welcome to attend.
URL:https://centervillenoonoptimist.com/event/cno-lunch-4/
LOCATION:Yankee Trace Golf Club\, 10000 Yankee St\,\, Centerville\, 45458
CATEGORIES:- CNO Lunch Meeting,Public
ATTACH;FMTTYPE=image/png:https://centervillenoonoptimist.com/wp-content/uploads/2023/10/Club-Photo-2022-Small.png
END:VEVENT
BEGIN:VEVENT
DTSTART;TZID=America/New_York:20231017T114500
DTEND;TZID=America/New_York:20231017T130000
DTSTAMP:20260424T110617
CREATED:20230814T030241Z
LAST-MODIFIED:20231013T152325Z
UID:10000111-1697543100-1697547600@centervillenoonoptimist.com
SUMMARY:CNO Lunch - EMT/Firefighter of the Year Award
DESCRIPTION:Join us for lunch as we award the EMT/Firefighter of the Year Award. \n\n\n\nGuests are welcome to attend.
URL:https://centervillenoonoptimist.com/event/cno-lunch-3/
LOCATION:Yankee Trace Golf Club\, 10000 Yankee St\,\, Centerville\, 45458
CATEGORIES:- CNO Lunch Meeting,Public
ATTACH;FMTTYPE=image/png:https://centervillenoonoptimist.com/wp-content/uploads/2023/10/Club-Photo-2022-Small.png
END:VEVENT
BEGIN:VEVENT
DTSTART;TZID=America/New_York:20231010T114500
DTEND;TZID=America/New_York:20231010T130000
DTSTAMP:20260424T110617
CREATED:20230814T030216Z
LAST-MODIFIED:20230902T021536Z
UID:10000110-1696938300-1696942800@centervillenoonoptimist.com
SUMMARY:CNO Lunch - School of Possibilities
DESCRIPTION:Join us for lunch as our speaker is Eric Gearhart\, Principal of the School of Possibilities. \n\n\n\nGuests are welcome to attend.
URL:https://centervillenoonoptimist.com/event/cno-lunch-2/
LOCATION:Yankee Trace Golf Club\, 10000 Yankee St\,\, Centerville\, 45458
CATEGORIES:- CNO Lunch Meeting,Public
ATTACH;FMTTYPE=image/jpeg:https://centervillenoonoptimist.com/wp-content/uploads/2023/02/CNO-Photo-August-2022-scaled.jpg
END:VEVENT
BEGIN:VEVENT
DTSTART;TZID=America/New_York:20231003T114500
DTEND;TZID=America/New_York:20231003T130000
DTSTAMP:20260424T110617
CREATED:20230814T030123Z
LAST-MODIFIED:20230902T021625Z
UID:10000109-1696333500-1696338000@centervillenoonoptimist.com
SUMMARY:CNO Lunch - Club Day
DESCRIPTION:Join us for lunch as we focus on club activities and hear from Yes4Parks. \n\n\n\nGuests are welcome to attend.
URL:https://centervillenoonoptimist.com/event/cno-lunch/
LOCATION:Yankee Trace Golf Club\, 10000 Yankee St\,\, Centerville\, 45458
CATEGORIES:- CNO Lunch Meeting,Public
ATTACH;FMTTYPE=image/jpeg:https://centervillenoonoptimist.com/wp-content/uploads/2023/02/CNO-Photo-August-2022-scaled.jpg
END:VEVENT
BEGIN:VEVENT
DTSTART;TZID=America/New_York:20230926T114500
DTEND;TZID=America/New_York:20230926T130000
DTSTAMP:20260424T110617
CREATED:20230804T035551Z
LAST-MODIFIED:20230814T031209Z
UID:10000105-1695728700-1695733200@centervillenoonoptimist.com
SUMMARY:CNO Lunch - No Meeting (Installation Dinner)
DESCRIPTION:There will be no noon meeting.  The Installation Dinner will be held in the evening.
URL:https://centervillenoonoptimist.com/event/cno-lunch-no-meeting-installation-dinner/
LOCATION:Yankee Trace Golf Club\, 10000 Yankee St\,\, Centerville\, 45458
CATEGORIES:- CNO Lunch Meeting,Public
ATTACH;FMTTYPE=image/jpeg:https://centervillenoonoptimist.com/wp-content/uploads/2023/02/CNO-Photo-August-2022-scaled.jpg
END:VEVENT
BEGIN:VEVENT
DTSTART;TZID=America/New_York:20230919T114500
DTEND;TZID=America/New_York:20230919T130000
DTSTAMP:20260424T110617
CREATED:20230804T035037Z
LAST-MODIFIED:20230902T021942Z
UID:10000104-1695123900-1695128400@centervillenoonoptimist.com
SUMMARY:CNO Lunch - We Care Arts
DESCRIPTION:Join us for lunch as our speaker is Kelli Campbell\, Marketing and Communications Manager\, We Care Arts. \n\n\n\nGuests are welcome to attend.
URL:https://centervillenoonoptimist.com/event/cno-lunch-we-care-arts/
LOCATION:Yankee Trace Golf Club\, 10000 Yankee St\,\, Centerville\, 45458
CATEGORIES:- CNO Lunch Meeting,Public
ATTACH;FMTTYPE=image/jpeg:https://centervillenoonoptimist.com/wp-content/uploads/2023/02/CNO-Photo-August-2022-scaled.jpg
END:VEVENT
BEGIN:VEVENT
DTSTART;TZID=America/New_York:20230912T114500
DTEND;TZID=America/New_York:20230912T130000
DTSTAMP:20260424T110617
CREATED:20230804T034826Z
LAST-MODIFIED:20230902T022016Z
UID:10000103-1694519100-1694523600@centervillenoonoptimist.com
SUMMARY:CNO Lunch - Haunted Trail & Golf Check Presentation
DESCRIPTION:Join us for lunch as we learn more about Haunted Trail and present a check from the Tom Frazier Tee Off for Youth Golf Classic to Dayton Children’s Hospital. \n\n\n\nGuests are welcome to attend.
URL:https://centervillenoonoptimist.com/event/cno-lunch-haunted-trail-golf-check-presentation/
LOCATION:Yankee Trace Golf Club\, 10000 Yankee St\,\, Centerville\, 45458
CATEGORIES:- CNO Lunch Meeting,Public
ATTACH;FMTTYPE=image/jpeg:https://centervillenoonoptimist.com/wp-content/uploads/2023/02/CNO-Photo-August-2022-scaled.jpg
END:VEVENT
BEGIN:VEVENT
DTSTART;TZID=America/New_York:20230905T114500
DTEND;TZID=America/New_York:20230905T130000
DTSTAMP:20260424T110617
CREATED:20230804T034321Z
LAST-MODIFIED:20230902T022052Z
UID:10000102-1693914300-1693918800@centervillenoonoptimist.com
SUMMARY:CNO Lunch - Hoofprints
DESCRIPTION:Join us for lunch as our speaker is Kathy Corbett\, Director\, Hoofprints. \n\n\n\nGuests are welcome to attend.
URL:https://centervillenoonoptimist.com/event/cno-lunch-hoofprints/
LOCATION:Yankee Trace Golf Club\, 10000 Yankee St\,\, Centerville\, 45458
CATEGORIES:- CNO Lunch Meeting,Public
ATTACH;FMTTYPE=image/jpeg:https://centervillenoonoptimist.com/wp-content/uploads/2023/02/CNO-Photo-August-2022-scaled.jpg
END:VEVENT
BEGIN:VEVENT
DTSTART;TZID=America/New_York:20230829T114500
DTEND;TZID=America/New_York:20230829T130000
DTSTAMP:20260424T110617
CREATED:20230804T033936Z
LAST-MODIFIED:20230902T022326Z
UID:10000101-1693309500-1693314000@centervillenoonoptimist.com
SUMMARY:CNO Lunch - 4 Paws for Ability
DESCRIPTION:Join us for lunch as our speaker is KaLynn Clark\, Director of Volunteer Engagement\, 4 Paws for Ability. \n\n\n\nGuests are welcome to attend.
URL:https://centervillenoonoptimist.com/event/cno-lunch-4-paws-for-ability/
LOCATION:Yankee Trace Golf Club\, 10000 Yankee St\,\, Centerville\, 45458
CATEGORIES:- CNO Lunch Meeting,Public
ATTACH;FMTTYPE=image/jpeg:https://centervillenoonoptimist.com/wp-content/uploads/2023/02/CNO-Photo-August-2022-scaled.jpg
END:VEVENT
BEGIN:VEVENT
DTSTART;TZID=America/New_York:20230822T114500
DTEND;TZID=America/New_York:20230822T130000
DTSTAMP:20260424T110617
CREATED:20230804T033222Z
LAST-MODIFIED:20230804T033223Z
UID:10000100-1692704700-1692709200@centervillenoonoptimist.com
SUMMARY:CNO Lunch - Dayton Art Institute
DESCRIPTION:Join us for lunch as our speaker is the Dayton Art Institute. \n\n\n\nGuests are welcome to attend.
URL:https://centervillenoonoptimist.com/event/cno-lunch-dayton-art-institute/
LOCATION:Yankee Trace Golf Club\, 10000 Yankee St\,\, Centerville\, 45458
CATEGORIES:- CNO Lunch Meeting,Public
ATTACH;FMTTYPE=image/jpeg:https://centervillenoonoptimist.com/wp-content/uploads/2023/02/CNO-Photo-August-2022-scaled.jpg
END:VEVENT
BEGIN:VEVENT
DTSTART;TZID=America/New_York:20230808T114500
DTEND;TZID=America/New_York:20230808T130000
DTSTAMP:20260424T110617
CREATED:20230707T031158Z
LAST-MODIFIED:20230707T031200Z
UID:10000093-1691495100-1691499600@centervillenoonoptimist.com
SUMMARY:CNO Lunch - Artemis Domestic Violence Center
DESCRIPTION:Join us for lunch as our speaker is from Artemis Domestic Violence Center. \n\n\n\nGuests are welcome to attend.
URL:https://centervillenoonoptimist.com/event/cno-lunch-artemis-domestic-violence-center/
LOCATION:Yankee Trace Golf Club\, 10000 Yankee St\,\, Centerville\, 45458
CATEGORIES:- CNO Lunch Meeting,Public
ATTACH;FMTTYPE=image/jpeg:https://centervillenoonoptimist.com/wp-content/uploads/2023/02/CNO-Photo-August-2022-scaled.jpg
END:VEVENT
BEGIN:VEVENT
DTSTART;TZID=America/New_York:20230801T114500
DTEND;TZID=America/New_York:20230801T130000
DTSTAMP:20260424T110617
CREATED:20230707T030854Z
LAST-MODIFIED:20230707T030856Z
UID:10000092-1690890300-1690894800@centervillenoonoptimist.com
SUMMARY:CNO Lunch - Skilled Trade Scholarships
DESCRIPTION:Join us for lunch as we award our Skilled Trade Scholarships. \n\n\n\nGuests are welcome to attend.
URL:https://centervillenoonoptimist.com/event/cno-lunch-skilled-trade-scholarships/
LOCATION:Yankee Trace Golf Club\, 10000 Yankee St\,\, Centerville\, 45458
CATEGORIES:- CNO Lunch Meeting,Public
ATTACH;FMTTYPE=image/jpeg:https://centervillenoonoptimist.com/wp-content/uploads/2023/02/CNO-Photo-August-2022-scaled.jpg
END:VEVENT
BEGIN:VEVENT
DTSTART;TZID=America/New_York:20230725T114500
DTEND;TZID=America/New_York:20230725T130000
DTSTAMP:20260424T110617
CREATED:20230707T030148Z
LAST-MODIFIED:20230707T030149Z
UID:10000091-1690285500-1690290000@centervillenoonoptimist.com
SUMMARY:CNO Lunch - We Love Birthdays
DESCRIPTION:Join us for lunch as our speaker is Shelly Calvert from We Love Birthdays\, an organization that gives birthday parties to kids who otherwise would not receive one. \n\n\n\nGuests are welcome to attend.
URL:https://centervillenoonoptimist.com/event/cno-lunch-we-love-birthdays/
LOCATION:Yankee Trace Golf Club\, 10000 Yankee St\,\, Centerville\, 45458
CATEGORIES:- CNO Lunch Meeting,Public
ATTACH;FMTTYPE=image/jpeg:https://centervillenoonoptimist.com/wp-content/uploads/2023/02/CNO-Photo-August-2022-scaled.jpg
END:VEVENT
BEGIN:VEVENT
DTSTART;TZID=America/New_York:20230718T114500
DTEND;TZID=America/New_York:20230718T130000
DTSTAMP:20260424T110617
CREATED:20230706T212446Z
LAST-MODIFIED:20230706T212448Z
UID:10000090-1689680700-1689685200@centervillenoonoptimist.com
SUMMARY:CNO Lunch - Memorial Scholarships
DESCRIPTION:Join us for lunch as we award our Memorial Scholarships. \n\n\n\nGuests are welcome to attend.
URL:https://centervillenoonoptimist.com/event/cno-lunch-memorial-scholarships/
LOCATION:Yankee Trace Golf Club\, 10000 Yankee St\,\, Centerville\, 45458
CATEGORIES:- CNO Lunch Meeting,Public
ATTACH;FMTTYPE=image/jpeg:https://centervillenoonoptimist.com/wp-content/uploads/2023/02/CNO-Photo-August-2022-scaled.jpg
END:VEVENT
BEGIN:VEVENT
DTSTART;TZID=America/New_York:20230711T114500
DTEND;TZID=America/New_York:20230711T130000
DTSTAMP:20260424T110617
CREATED:20230706T212110Z
LAST-MODIFIED:20230706T212111Z
UID:10000089-1689075900-1689080400@centervillenoonoptimist.com
SUMMARY:CNO Lunch - Club Day
DESCRIPTION:Join us for lunch as we focus on club activities.  \n\n\n\nGuests are welcome to attend.
URL:https://centervillenoonoptimist.com/event/cno-lunch-club-day-5/
LOCATION:Yankee Trace Golf Club\, 10000 Yankee St\,\, Centerville\, 45458
CATEGORIES:- CNO Lunch Meeting,Public
ATTACH;FMTTYPE=image/jpeg:https://centervillenoonoptimist.com/wp-content/uploads/2023/02/CNO-Photo-August-2022-scaled.jpg
END:VEVENT
BEGIN:VEVENT
DTSTART;TZID=America/New_York:20230627T114500
DTEND;TZID=America/New_York:20230627T130000
DTSTAMP:20260424T110617
CREATED:20230608T025932Z
LAST-MODIFIED:20230608T025934Z
UID:10000083-1687866300-1687870800@centervillenoonoptimist.com
SUMMARY:CNO Lunch - Montgomery County Engineering
DESCRIPTION:Join us for lunch as our speaker is Paul Gruner speaking about future road projects for Montgomery County Engineering. \n\n\n\nGuests are welcome to attend.
URL:https://centervillenoonoptimist.com/event/cno-lunch-montgomery-county-engineering/
LOCATION:Yankee Trace Golf Club\, 10000 Yankee St\,\, Centerville\, 45458
CATEGORIES:- CNO Lunch Meeting,Public
ATTACH;FMTTYPE=image/jpeg:https://centervillenoonoptimist.com/wp-content/uploads/2023/02/CNO-Photo-August-2022-scaled.jpg
END:VEVENT
BEGIN:VEVENT
DTSTART;TZID=America/New_York:20230620T114500
DTEND;TZID=America/New_York:20230620T130000
DTSTAMP:20260424T110617
CREATED:20230418T201349Z
LAST-MODIFIED:20230608T025256Z
UID:10000074-1687261500-1687266000@centervillenoonoptimist.com
SUMMARY:CNO Lunch - The Hope Squad
DESCRIPTION:Join us for lunch as our speaker is Vicky Clark\, Senior Director of Programming of The Hope Squad. \n\n\n\nGuests are welcome to attend.
URL:https://centervillenoonoptimist.com/event/cno-lunch-wright-state-university/
LOCATION:Yankee Trace Golf Club\, 10000 Yankee St\,\, Centerville\, 45458
CATEGORIES:- CNO Lunch Meeting,Public
ATTACH;FMTTYPE=image/jpeg:https://centervillenoonoptimist.com/wp-content/uploads/2023/02/CNO-Photo-August-2022-scaled.jpg
END:VEVENT
BEGIN:VEVENT
DTSTART;TZID=America/New_York:20230613T190000
DTEND;TZID=America/New_York:20230613T203000
DTSTAMP:20260424T110617
CREATED:20230522T212331Z
LAST-MODIFIED:20230529T160521Z
UID:10000078-1686682800-1686688200@centervillenoonoptimist.com
SUMMARY:Sign Up - Youth Recognition Night
DESCRIPTION:The Centerville Noon Optimist Youth Recognition Night is an evening dedicated to honoring students winning awards\, contests or scholarships with our club in the past Optimist year.  The Youth Recognition Night for 2023 will be a dessert and appetizer reception followed by individual recognition for each of our honored students.  \n\n\nThis form is currently closed for submissions.
URL:https://centervillenoonoptimist.com/event/sign-up-youth-recognition-night/
LOCATION:Yankee Trace Golf Club\, 10000 Yankee St\,\, Centerville\, 45458
CATEGORIES:Volunteer
ATTACH;FMTTYPE=image/png:https://centervillenoonoptimist.com/wp-content/uploads/2023/04/Youth-Recognition-Photo.png
END:VEVENT
END:VCALENDAR