BEGIN:VCALENDAR
VERSION:2.0
PRODID:-//Centerville Noon Optimist - ECPv6.15.20//NONSGML v1.0//EN
CALSCALE:GREGORIAN
METHOD:PUBLISH
X-ORIGINAL-URL:https://centervillenoonoptimist.com
X-WR-CALDESC:Events for Centerville Noon Optimist
REFRESH-INTERVAL;VALUE=DURATION:PT1H
X-Robots-Tag:noindex
X-PUBLISHED-TTL:PT1H
BEGIN:VTIMEZONE
TZID:America/New_York
BEGIN:DAYLIGHT
TZOFFSETFROM:-0500
TZOFFSETTO:-0400
TZNAME:EDT
DTSTART:20210314T070000
END:DAYLIGHT
BEGIN:STANDARD
TZOFFSETFROM:-0400
TZOFFSETTO:-0500
TZNAME:EST
DTSTART:20211107T060000
END:STANDARD
BEGIN:DAYLIGHT
TZOFFSETFROM:-0500
TZOFFSETTO:-0400
TZNAME:EDT
DTSTART:20220313T070000
END:DAYLIGHT
BEGIN:STANDARD
TZOFFSETFROM:-0400
TZOFFSETTO:-0500
TZNAME:EST
DTSTART:20221106T060000
END:STANDARD
BEGIN:DAYLIGHT
TZOFFSETFROM:-0500
TZOFFSETTO:-0400
TZNAME:EDT
DTSTART:20230312T070000
END:DAYLIGHT
BEGIN:STANDARD
TZOFFSETFROM:-0400
TZOFFSETTO:-0500
TZNAME:EST
DTSTART:20231105T060000
END:STANDARD
BEGIN:DAYLIGHT
TZOFFSETFROM:-0500
TZOFFSETTO:-0400
TZNAME:EDT
DTSTART:20240310T070000
END:DAYLIGHT
BEGIN:STANDARD
TZOFFSETFROM:-0400
TZOFFSETTO:-0500
TZNAME:EST
DTSTART:20241103T060000
END:STANDARD
END:VTIMEZONE
BEGIN:VEVENT
DTSTART;TZID=America/New_York:20230502T114500
DTEND;TZID=America/New_York:20230502T130000
DTSTAMP:20260424T162349
CREATED:20230228T023555Z
LAST-MODIFIED:20230411T033957Z
UID:10000050-1683027900-1683032400@centervillenoonoptimist.com
SUMMARY:CNO Lunch - Therapeutic Riding Institute
DESCRIPTION:Join us for lunch as our speaker is Stephanie Llacuna\, the Executive Director of the Therapeutic Riding Institute. \n\n\n\nGuests are welcome to attend.
URL:https://centervillenoonoptimist.com/event/cno-lunch-therapeutic-riding-institute/
LOCATION:Yankee Trace Golf Club\, 10000 Yankee St\,\, Centerville\, 45458
CATEGORIES:- CNO Lunch Meeting,Public
ATTACH;FMTTYPE=image/jpeg:https://centervillenoonoptimist.com/wp-content/uploads/2023/02/CNO-Photo-August-2022-scaled.jpg
END:VEVENT
BEGIN:VEVENT
DTSTART;TZID=America/New_York:20230425T114500
DTEND;TZID=America/New_York:20230425T130000
DTSTAMP:20260424T162349
CREATED:20230228T023403Z
LAST-MODIFIED:20230411T034057Z
UID:10000049-1682423100-1682427600@centervillenoonoptimist.com
SUMMARY:CNO Lunch - Dayton Children's Hospital
DESCRIPTION:Join us for lunch as our speaker is Jena Pado\, CFRE\, VP\, Chief Development Officer of Dayton Children’s Hospital\, who will provide the state of the hospital and response to mental health. \n\n\n\nGuests are welcome to attend.
URL:https://centervillenoonoptimist.com/event/cno-lunch-dayton-childrens-hospital/
LOCATION:Yankee Trace Golf Club\, 10000 Yankee St\,\, Centerville\, 45458
CATEGORIES:- CNO Lunch Meeting,Public
ATTACH;FMTTYPE=image/jpeg:https://centervillenoonoptimist.com/wp-content/uploads/2023/02/CNO-Photo-August-2022-scaled.jpg
END:VEVENT
BEGIN:VEVENT
DTSTART;TZID=America/New_York:20230418T114500
DTEND;TZID=America/New_York:20230418T130000
DTSTAMP:20260424T162349
CREATED:20230228T022720Z
LAST-MODIFIED:20230411T034144Z
UID:10000048-1681818300-1681822800@centervillenoonoptimist.com
SUMMARY:CNO Lunch - Sleep in Heavenly Peace
DESCRIPTION:Join us for lunch as our speaker is Mike Watkins\, Chapter President\, Sleep in Heavenly Peace.  Sleep in Heavenly Peace provides beds so kids don’t have to sleep on the ground.  \n\n\n\nGuests are welcome to attend.
URL:https://centervillenoonoptimist.com/event/cno-lunch-sleep-in-heavenly-peace/
LOCATION:Yankee Trace Golf Club\, 10000 Yankee St\,\, Centerville\, 45458
CATEGORIES:- CNO Lunch Meeting,Public
ATTACH;FMTTYPE=image/jpeg:https://centervillenoonoptimist.com/wp-content/uploads/2023/02/CNO-Photo-August-2022-scaled.jpg
END:VEVENT
BEGIN:VEVENT
DTSTART;TZID=America/New_York:20230411T114500
DTEND;TZID=America/New_York:20230411T130000
DTSTAMP:20260424T162349
CREATED:20230228T022518Z
LAST-MODIFIED:20230411T034239Z
UID:10000047-1681213500-1681218000@centervillenoonoptimist.com
SUMMARY:CNO Lunch - Magician
DESCRIPTION:Join us for lunch as we have a magician instead of a guest speaker. \n\n\n\nGuests are welcome to attend.
URL:https://centervillenoonoptimist.com/event/cno-lunch-magician/
LOCATION:Yankee Trace Golf Club\, 10000 Yankee St\,\, Centerville\, 45458
CATEGORIES:- CNO Lunch Meeting,Public
ATTACH;FMTTYPE=image/jpeg:https://centervillenoonoptimist.com/wp-content/uploads/2023/02/CNO-Photo-August-2022-scaled.jpg
END:VEVENT
BEGIN:VEVENT
DTSTART;TZID=America/New_York:20230404T114500
DTEND;TZID=America/New_York:20230404T130000
DTSTAMP:20260424T162349
CREATED:20230228T022309Z
LAST-MODIFIED:20230228T025827Z
UID:10000046-1680608700-1680613200@centervillenoonoptimist.com
SUMMARY:CNO Lunch - Youth Appreciation Day
DESCRIPTION:Join us for lunch as we recognize 3 students from Centerville High School with our Youth Appreciation Award. \n\n\n\nGuests are welcome to attend.
URL:https://centervillenoonoptimist.com/event/cno-lunch-youth-appreciation-day/
LOCATION:Yankee Trace Golf Club\, 10000 Yankee St\,\, Centerville\, 45458
CATEGORIES:- CNO Lunch Meeting,Public
ATTACH;FMTTYPE=image/jpeg:https://centervillenoonoptimist.com/wp-content/uploads/2023/02/CNO-Photo-August-2022-scaled.jpg
END:VEVENT
BEGIN:VEVENT
DTSTART;TZID=America/New_York:20230328T114500
DTEND;TZID=America/New_York:20230328T130000
DTSTAMP:20260424T162349
CREATED:20230201T163718Z
LAST-MODIFIED:20230228T025912Z
UID:10000019-1680003900-1680008400@centervillenoonoptimist.com
SUMMARY:CNO Lunch - Good Works Farm\, Inc.
DESCRIPTION:Join us for lunch as our speaker is Nancy Bernotaitis\,Dir. of Operations of Good Works Farm\, Inc.  Good Works Farm is an inclusive community and farm-based recreational and vocational program located in Waynesville\, OH..  \n\n\n\nGuests are welcome to attend.
URL:https://centervillenoonoptimist.com/event/cno-lunch-good-works-farm-inc/
LOCATION:Yankee Trace Golf Club\, 10000 Yankee St\,\, Centerville\, 45458
CATEGORIES:- CNO Lunch Meeting,Public
ATTACH;FMTTYPE=image/jpeg:https://centervillenoonoptimist.com/wp-content/uploads/2023/02/CNO-Photo-August-2022-scaled.jpg
END:VEVENT
BEGIN:VEVENT
DTSTART;TZID=America/New_York:20230321T114500
DTEND;TZID=America/New_York:20230321T130000
DTSTAMP:20260424T162349
CREATED:20230201T163444Z
LAST-MODIFIED:20230228T030008Z
UID:10000018-1679399100-1679403600@centervillenoonoptimist.com
SUMMARY:CNO Lunch - Club Day & Safetyville Square
DESCRIPTION:Join us for lunch as we hear about Safetyville Square and other Club Activities. \n\n\n\nGuests are welcome to attend.
URL:https://centervillenoonoptimist.com/event/cno-lunch-club-day-safetyville-square/
LOCATION:Yankee Trace Golf Club\, 10000 Yankee St\,\, Centerville\, 45458
CATEGORIES:- CNO Lunch Meeting,Public
ATTACH;FMTTYPE=image/jpeg:https://centervillenoonoptimist.com/wp-content/uploads/2023/02/CNO-Photo-August-2022-scaled.jpg
END:VEVENT
BEGIN:VEVENT
DTSTART;TZID=America/New_York:20230314T114500
DTEND;TZID=America/New_York:20230314T130000
DTSTAMP:20260424T162349
CREATED:20230201T163309Z
LAST-MODIFIED:20230301T043156Z
UID:10000017-1678794300-1678798800@centervillenoonoptimist.com
SUMMARY:CNO Lunch - Optimist International President Bob McFadyen
DESCRIPTION:Join us for lunch as our speaker is Bob McFadyen\, the Optimist International President. \n\n\n\nGuests are welcome to attend.
URL:https://centervillenoonoptimist.com/event/cno-lunch-brigids-path/
LOCATION:Yankee Trace Golf Club\, 10000 Yankee St\,\, Centerville\, 45458
CATEGORIES:- CNO Lunch Meeting,Public
ATTACH;FMTTYPE=image/jpeg:https://centervillenoonoptimist.com/wp-content/uploads/2023/02/CNO-Photo-August-2022-scaled.jpg
END:VEVENT
BEGIN:VEVENT
DTSTART;TZID=America/New_York:20230307T114500
DTEND;TZID=America/New_York:20230307T130000
DTSTAMP:20260424T162349
CREATED:20230201T162644Z
LAST-MODIFIED:20230228T030234Z
UID:10000015-1678189500-1678194000@centervillenoonoptimist.com
SUMMARY:CNO Lunch - Essay Contest
DESCRIPTION:Today local students will present the three winning entries in our Essay Contest with the winner moving on to the district competition and a chance to win a $3500 scholarship. \n\n\n\nGuests are welcome to attend.
URL:https://centervillenoonoptimist.com/event/cno-lunch-essay-contest/
LOCATION:Yankee Trace Golf Club\, 10000 Yankee St\,\, Centerville\, 45458
CATEGORIES:- CNO Lunch Meeting,Public
ATTACH;FMTTYPE=image/jpeg:https://centervillenoonoptimist.com/wp-content/uploads/2023/02/CNO-Photo-August-2022-scaled.jpg
END:VEVENT
BEGIN:VEVENT
DTSTART;TZID=America/New_York:20230228T114500
DTEND;TZID=America/New_York:20230228T130000
DTSTAMP:20260424T162349
CREATED:20230201T162257Z
LAST-MODIFIED:20230228T030315Z
UID:10000014-1677584700-1677589200@centervillenoonoptimist.com
SUMMARY:CNO Lunch - State of Ohio Youth and Family Ombudsmens Office
DESCRIPTION:Join us for lunch as our speaker is Jenny Stotts\, Youth Ombudsman\, from the State of Ohio Youth and Family Ombudsmens Office.  \n\n\n\nGuests are welcome to attend.
URL:https://centervillenoonoptimist.com/event/cno-lunch-state-of-ohio-youth-and-family-ombudsmens-office/
LOCATION:Yankee Trace Golf Club\, 10000 Yankee St\,\, Centerville\, 45458
CATEGORIES:- CNO Lunch Meeting,Public
ATTACH;FMTTYPE=image/jpeg:https://centervillenoonoptimist.com/wp-content/uploads/2023/02/CNO-Photo-August-2022-scaled.jpg
END:VEVENT
BEGIN:VEVENT
DTSTART;TZID=America/New_York:20230221T114500
DTEND;TZID=America/New_York:20230221T130000
DTSTAMP:20260424T162349
CREATED:20230201T154653Z
LAST-MODIFIED:20230228T030344Z
UID:10000012-1676979900-1676984400@centervillenoonoptimist.com
SUMMARY:CNO Lunch - Oratorical Contest
DESCRIPTION:Today we present the second day of our Oratorical Contest.  Several local students will present their speeches with the winner moving on to the regional competition and a chance to win a $3500 scholarship. \n\n\n\nGuests are welcome to attend.
URL:https://centervillenoonoptimist.com/event/cno-lunch-oratorical-contest-2/
LOCATION:Yankee Trace Golf Club\, 10000 Yankee St\,\, Centerville\, 45458
CATEGORIES:- CNO Lunch Meeting,Public
ATTACH;FMTTYPE=image/jpeg:https://centervillenoonoptimist.com/wp-content/uploads/2023/02/CNO-Photo-August-2022-scaled.jpg
END:VEVENT
BEGIN:VEVENT
DTSTART;TZID=America/New_York:20230214T114500
DTEND;TZID=America/New_York:20230214T130000
DTSTAMP:20260424T162349
CREATED:20230201T161656Z
LAST-MODIFIED:20230228T030446Z
UID:10000013-1676375100-1676379600@centervillenoonoptimist.com
SUMMARY:CNO Lunch - Club Day
DESCRIPTION:Join us for lunch as we focus on club activities.   \n\n\n\nGuests are welcome to attend.
URL:https://centervillenoonoptimist.com/event/cno-lunch-club-day-3/
LOCATION:Yankee Trace Golf Club\, 10000 Yankee St\,\, Centerville\, 45458
CATEGORIES:- CNO Lunch Meeting,Public
ATTACH;FMTTYPE=image/jpeg:https://centervillenoonoptimist.com/wp-content/uploads/2023/02/CNO-Photo-August-2022-scaled.jpg
END:VEVENT
BEGIN:VEVENT
DTSTART;TZID=America/New_York:20230207T114500
DTEND;TZID=America/New_York:20230207T130000
DTSTAMP:20260424T162349
CREATED:20230201T154012Z
LAST-MODIFIED:20230228T030530Z
UID:10000011-1675770300-1675774800@centervillenoonoptimist.com
SUMMARY:CNO Lunch - Oratorical Contest
DESCRIPTION:Today we present the first day of our Oratorical Contest.  Several local students will present their speeches with the winner moving on to the regional competition and a chance to win a $3500 scholarship. \n\n\n\nGuests are welcome to attend.
URL:https://centervillenoonoptimist.com/event/cno-lunch-oratorical-contest/
LOCATION:Yankee Trace Golf Club\, 10000 Yankee St\,\, Centerville\, 45458
CATEGORIES:- CNO Lunch Meeting,Public
ATTACH;FMTTYPE=image/jpeg:https://centervillenoonoptimist.com/wp-content/uploads/2023/02/CNO-Photo-August-2022-scaled.jpg
END:VEVENT
BEGIN:VEVENT
DTSTART;TZID=America/New_York:20230131T114500
DTEND;TZID=America/New_York:20230131T130000
DTSTAMP:20260424T162349
CREATED:20230112T143235Z
LAST-MODIFIED:20230201T145650Z
UID:10000009-1675165500-1675170000@centervillenoonoptimist.com
SUMMARY:CNO Lunch - Montgomery County Juvenile Court
DESCRIPTION:Montgomery County Juvenile Court \n\n\n\nThe speaker is Judge Helen Wallace & Administrator Eric Shafer with the Montgomery County Juvenile Court\, \n\n\n\nScheduler is Debe Dockins
URL:https://centervillenoonoptimist.com/event/cno-lunch-montgomery-county-juvenile-court/
LOCATION:Yankee Trace Golf Club\, 10000 Yankee St\,\, Centerville\, 45458
CATEGORIES:- CNO Lunch Meeting,Public
END:VEVENT
BEGIN:VEVENT
DTSTART;TZID=America/New_York:20230124T114500
DTEND;TZID=America/New_York:20230124T130000
DTSTAMP:20260424T162349
CREATED:20230112T143151Z
LAST-MODIFIED:20230201T153936Z
UID:10000008-1674560700-1674565200@centervillenoonoptimist.com
SUMMARY:CNO Lunch - Club Day
DESCRIPTION:Club Day\n\nToday we will focus on various Club activities and events.
URL:https://centervillenoonoptimist.com/event/cno-lunch-club-day-2/
LOCATION:Yankee Trace Golf Club\, 10000 Yankee St\,\, Centerville\, 45458
CATEGORIES:- CNO Lunch Meeting,Public
END:VEVENT
BEGIN:VEVENT
DTSTART;TZID=America/New_York:20230117T114500
DTEND;TZID=America/New_York:20230117T130000
DTSTAMP:20260424T162349
CREATED:20230112T143104Z
LAST-MODIFIED:20230112T143112Z
UID:10000007-1673955900-1673960400@centervillenoonoptimist.com
SUMMARY:CNO Lunch - "Funny Stories from the Sidelines"
DESCRIPTION:“Funny Stories from the Sidelines” \nOur speaker is Joe Duncan\, a Big 10 Football Referee. Joe will share funny stories about his experience as a Referee. \nScheduler is Beth Duncan
URL:https://centervillenoonoptimist.com/event/cno-lunch-funny-stories-from-the-sidelines/
LOCATION:Yankee Trace Golf Club\, 10000 Yankee St\,\, Centerville\, 45458
CATEGORIES:- CNO Lunch Meeting,Public
END:VEVENT
BEGIN:VEVENT
DTSTART;TZID=America/New_York:20230110T114500
DTEND;TZID=America/New_York:20230110T130000
DTSTAMP:20260424T162349
CREATED:20221214T161900Z
LAST-MODIFIED:20230112T143325Z
UID:10000006-1673351100-1673355600@centervillenoonoptimist.com
SUMMARY:CNO Lunch - Care Portal
DESCRIPTION:Care Portal \nOur speaker is Aaron Roy with Care Portal. CarePortal is an online platform that brings the needs of hurting children and families in your community to your attention. Caseworkers uncover the needs. CarePortal makes local churches aware\, giving them a real-time opportunity to respond. \nScheduler is Debe Dockins
URL:https://centervillenoonoptimist.com/event/cno-lunch-care-portal/
LOCATION:Yankee Trace Golf Club\, 10000 Yankee St\,\, Centerville\, 45458
CATEGORIES:- CNO Lunch Meeting,Public
END:VEVENT
BEGIN:VEVENT
DTSTART;TZID=America/New_York:20230103T114500
DTEND;TZID=America/New_York:20230103T130000
DTSTAMP:20260424T162349
CREATED:20221214T161748Z
LAST-MODIFIED:20230112T143346Z
UID:10000005-1672746300-1672750800@centervillenoonoptimist.com
SUMMARY:CNO Lunch - Mission Addiction
DESCRIPTION:Mission Addiction \nOur speaker is Edward Livesay\, Founder & Executive Director of Mission Addiction. Mission Addiction is a family service center\, teaching and coaching individuals\, couples and families how to heal\, restore and transform their lives\, to become the best version of themselves. \nScheduler is Debe Dockins.
URL:https://centervillenoonoptimist.com/event/cno-lunch-mission-addiction/
LOCATION:Yankee Trace Golf Club\, 10000 Yankee St\,\, Centerville\, 45458
CATEGORIES:- CNO Lunch Meeting,Public
END:VEVENT
BEGIN:VEVENT
DTSTART;TZID=America/New_York:20221220T114500
DTEND;TZID=America/New_York:20221220T130000
DTSTAMP:20260424T162349
CREATED:20221214T161532Z
LAST-MODIFIED:20221214T161532Z
UID:10000003-1671536700-1671541200@centervillenoonoptimist.com
SUMMARY:CNO Lunch - Club Day
DESCRIPTION:Today we will focus on various Club activities and events.
URL:https://centervillenoonoptimist.com/event/cno-lunch-club-day/
LOCATION:Yankee Trace Golf Club\, 10000 Yankee St\,\, Centerville\, 45458
CATEGORIES:- CNO Lunch Meeting,Public
END:VEVENT
END:VCALENDAR