BEGIN:VCALENDAR
VERSION:2.0
PRODID:-//Centerville Noon Optimist - ECPv6.15.20//NONSGML v1.0//EN
CALSCALE:GREGORIAN
METHOD:PUBLISH
X-ORIGINAL-URL:https://centervillenoonoptimist.com
X-WR-CALDESC:Events for Centerville Noon Optimist
REFRESH-INTERVAL;VALUE=DURATION:PT1H
X-Robots-Tag:noindex
X-PUBLISHED-TTL:PT1H
BEGIN:VTIMEZONE
TZID:America/New_York
BEGIN:DAYLIGHT
TZOFFSETFROM:-0500
TZOFFSETTO:-0400
TZNAME:EDT
DTSTART:20240310T070000
END:DAYLIGHT
BEGIN:STANDARD
TZOFFSETFROM:-0400
TZOFFSETTO:-0500
TZNAME:EST
DTSTART:20241103T060000
END:STANDARD
BEGIN:DAYLIGHT
TZOFFSETFROM:-0500
TZOFFSETTO:-0400
TZNAME:EDT
DTSTART:20250309T070000
END:DAYLIGHT
BEGIN:STANDARD
TZOFFSETFROM:-0400
TZOFFSETTO:-0500
TZNAME:EST
DTSTART:20251102T060000
END:STANDARD
BEGIN:DAYLIGHT
TZOFFSETFROM:-0500
TZOFFSETTO:-0400
TZNAME:EDT
DTSTART:20260308T070000
END:DAYLIGHT
BEGIN:STANDARD
TZOFFSETFROM:-0400
TZOFFSETTO:-0500
TZNAME:EST
DTSTART:20261101T060000
END:STANDARD
BEGIN:DAYLIGHT
TZOFFSETFROM:-0500
TZOFFSETTO:-0400
TZNAME:EDT
DTSTART:20270314T070000
END:DAYLIGHT
BEGIN:STANDARD
TZOFFSETFROM:-0400
TZOFFSETTO:-0500
TZNAME:EST
DTSTART:20271107T060000
END:STANDARD
END:VTIMEZONE
BEGIN:VEVENT
DTSTART;TZID=America/New_York:20260120T114500
DTEND;TZID=America/New_York:20260120T130000
DTSTAMP:20260421T081425
CREATED:20251112T044848Z
LAST-MODIFIED:20251230T044347Z
UID:10000499-1768909500-1768914000@centervillenoonoptimist.com
SUMMARY:CNO Lunch - CHS Jazz Band
DESCRIPTION:Join us for lunch as our speaker is Brandon Barrometti with the CHS Jazz Band. \n\n\n\nGuests are welcome to attend.
URL:https://centervillenoonoptimist.com/event/cno-lunch-59/
LOCATION:Yankee Trace Golf Club\, 10000 Yankee St\,\, Centerville\, 45458
CATEGORIES:- CNO Lunch Meeting,Members,Public
ATTACH;FMTTYPE=image/png:https://centervillenoonoptimist.com/wp-content/uploads/2023/10/Club-Photo-2022-Small.png
END:VEVENT
BEGIN:VEVENT
DTSTART;TZID=America/New_York:20260113T114500
DTEND;TZID=America/New_York:20260113T130000
DTSTAMP:20260421T081425
CREATED:20251112T044753Z
LAST-MODIFIED:20251227T184134Z
UID:10000498-1768304700-1768309200@centervillenoonoptimist.com
SUMMARY:CNO Lunch - Montgomery County Environmental Learning Center
DESCRIPTION:Join us for lunch as our speaker is Lorelei Hagans with the Montgomery County Environmental Learning Center. \n\n\n\nGuests are welcome to attend.
URL:https://centervillenoonoptimist.com/event/cno-lunch-58/
LOCATION:Yankee Trace Golf Club\, 10000 Yankee St\,\, Centerville\, 45458
CATEGORIES:- CNO Lunch Meeting,Members,Public
ATTACH;FMTTYPE=image/png:https://centervillenoonoptimist.com/wp-content/uploads/2023/10/Club-Photo-2022-Small.png
END:VEVENT
BEGIN:VEVENT
DTSTART;TZID=America/New_York:20251230T114500
DTEND;TZID=America/New_York:20251230T130000
DTSTAMP:20260421T081425
CREATED:20250915T032536Z
LAST-MODIFIED:20250915T032537Z
UID:10000483-1767095100-1767099600@centervillenoonoptimist.com
SUMMARY:CNO Lunch - No Meeting
DESCRIPTION:There will be no noon meeting.
URL:https://centervillenoonoptimist.com/event/cno-lunch-no-meeting-12/
LOCATION:Yankee Trace Golf Club\, 10000 Yankee St\,\, Centerville\, 45458
CATEGORIES:- CNO Lunch Meeting,Members,Public
ATTACH;FMTTYPE=image/png:https://centervillenoonoptimist.com/wp-content/uploads/2023/10/Club-Photo-2022-Small.png
END:VEVENT
BEGIN:VEVENT
DTSTART;TZID=America/New_York:20251223T114500
DTEND;TZID=America/New_York:20251223T130000
DTSTAMP:20260421T081425
CREATED:20250915T032504Z
LAST-MODIFIED:20250915T032507Z
UID:10000482-1766490300-1766494800@centervillenoonoptimist.com
SUMMARY:CNO Lunch - No Meeting
DESCRIPTION:There will be no noon meeting.
URL:https://centervillenoonoptimist.com/event/cno-lunch-no-meeting-11/
LOCATION:Yankee Trace Golf Club\, 10000 Yankee St\,\, Centerville\, 45458
CATEGORIES:- CNO Lunch Meeting,Members,Public
ATTACH;FMTTYPE=image/png:https://centervillenoonoptimist.com/wp-content/uploads/2023/10/Club-Photo-2022-Small.png
END:VEVENT
BEGIN:VEVENT
DTSTART;TZID=America/New_York:20251216T114500
DTEND;TZID=America/New_York:20251216T130000
DTSTAMP:20260421T081425
CREATED:20250915T032230Z
LAST-MODIFIED:20251208T192301Z
UID:10000480-1765885500-1765890000@centervillenoonoptimist.com
SUMMARY:CNO Lunch - John Condit (Documentary about Eric Show)
DESCRIPTION:Join us for lunch as our speaker is John Condit\, speaking on the documentary about Eric Show.  Eric Show was the San Diego Padres pitcher who gave up the historic 4192nd hit to Pete Rose. \n\n\n\nGuests are welcome to attend.
URL:https://centervillenoonoptimist.com/event/cno-lunch-56/
LOCATION:Yankee Trace Golf Club\, 10000 Yankee St\,\, Centerville\, 45458
CATEGORIES:- CNO Lunch Meeting,Members,Public
ATTACH;FMTTYPE=image/png:https://centervillenoonoptimist.com/wp-content/uploads/2023/10/Club-Photo-2022-Small.png
END:VEVENT
BEGIN:VEVENT
DTSTART;TZID=America/New_York:20251209T114500
DTEND;TZID=America/New_York:20251209T130000
DTSTAMP:20260421T081425
CREATED:20250915T032347Z
LAST-MODIFIED:20250915T032350Z
UID:10000481-1765280700-1765285200@centervillenoonoptimist.com
SUMMARY:CNO Lunch - No Meeting (Holiday Dinner)
DESCRIPTION:There will be no noon meeting due to the evening Holiday Dinner.
URL:https://centervillenoonoptimist.com/event/cno-lunch-no-meeting-holiday-dinner-2/
LOCATION:Yankee Trace Golf Club\, 10000 Yankee St\,\, Centerville\, 45458
CATEGORIES:- CNO Lunch Meeting,Members,Public
ATTACH;FMTTYPE=image/png:https://centervillenoonoptimist.com/wp-content/uploads/2023/10/Club-Photo-2022-Small.png
END:VEVENT
BEGIN:VEVENT
DTSTART;TZID=America/New_York:20251202T120000
DTEND;TZID=America/New_York:20251202T130000
DTSTAMP:20260421T081425
CREATED:20251028T195211Z
LAST-MODIFIED:20251028T195213Z
UID:10000489-1764676800-1764680400@centervillenoonoptimist.com
SUMMARY:Fundraiser - TOP Optimist Club Poinsettia Sale
DESCRIPTION:The TOP Optimist Club will be selling Poinsettias again this year. Poinsettias have red blooms in 6.5” pots\, with green decorative pot cover\, and will be available December 2nd. Price is $18 each\, credit card\, Paypal\, cash or check made payable to CNO. \n\n\n\nAll proceeds benefit the community programs and projects conducted by our TOP Optimist Club.  The TOP Optimist Club is sponsored by the Centerville Noon Optimist Club. \n\n\n\nPoinsettias will be delivered to the noon lunch meeting on December 2nd or arrangements will be made to deliver them. \n\n\nThis sale has ended. All poinsettias have been sold.
URL:https://centervillenoonoptimist.com/event/fundraiser-top-optimist-club-poinsettia-sale-2/
LOCATION:Yankee Trace Golf Club\, 10000 Yankee St\,\, Centerville\, 45458
CATEGORIES:Members,Volunteer
ATTACH;FMTTYPE=image/png:https://centervillenoonoptimist.com/wp-content/uploads/2023/10/Poinsettia-Sale.png
END:VEVENT
BEGIN:VEVENT
DTSTART;TZID=America/New_York:20251202T114500
DTEND;TZID=America/New_York:20251202T130000
DTSTAMP:20260421T081425
CREATED:20250915T032125Z
LAST-MODIFIED:20250915T032128Z
UID:10000479-1764675900-1764680400@centervillenoonoptimist.com
SUMMARY:CNO Lunch - Youth Appreciation Awards
DESCRIPTION:Join us for lunch as we present the Youth Appreciation Awards. \n\n\n\nGuests are welcome to attend.
URL:https://centervillenoonoptimist.com/event/cno-lunch-youth-appreciation-awards/
LOCATION:Yankee Trace Golf Club\, 10000 Yankee St\,\, Centerville\, 45458
CATEGORIES:- CNO Lunch Meeting,Members,Public
ATTACH;FMTTYPE=image/png:https://centervillenoonoptimist.com/wp-content/uploads/2023/10/Club-Photo-2022-Small.png
END:VEVENT
BEGIN:VEVENT
DTSTART;TZID=America/New_York:20251125T114500
DTEND;TZID=America/New_York:20251125T130000
DTSTAMP:20260421T081425
CREATED:20250915T031525Z
LAST-MODIFIED:20251112T042434Z
UID:10000478-1764071100-1764075600@centervillenoonoptimist.com
SUMMARY:CNO Lunch - Practical AI
DESCRIPTION:Join us for lunch as our speaker is CNO member Patrick Arehart\, speaking about Practical AI: Uses and Insights. \n\n\n\nGuests are welcome to attend.
URL:https://centervillenoonoptimist.com/event/cno-lunch-55/
LOCATION:Yankee Trace Golf Club\, 10000 Yankee St\,\, Centerville\, 45458
CATEGORIES:- CNO Lunch Meeting,Members,Public
ATTACH;FMTTYPE=image/png:https://centervillenoonoptimist.com/wp-content/uploads/2023/10/Club-Photo-2022-Small.png
END:VEVENT
BEGIN:VEVENT
DTSTART;TZID=America/New_York:20251118T114500
DTEND;TZID=America/New_York:20251118T130000
DTSTAMP:20260421T081425
CREATED:20250915T031442Z
LAST-MODIFIED:20250915T031444Z
UID:10000477-1763466300-1763470800@centervillenoonoptimist.com
SUMMARY:CNO Lunch - Tree Lot Presentation
DESCRIPTION:Join us for lunch with a presentation for the kickoff of the Tree Lot. \n\n\n\nGuests are welcome to attend.
URL:https://centervillenoonoptimist.com/event/cno-lunch-tree-lot-presentation/
LOCATION:Yankee Trace Golf Club\, 10000 Yankee St\,\, Centerville\, 45458
CATEGORIES:- CNO Lunch Meeting,Members,Public
ATTACH;FMTTYPE=image/png:https://centervillenoonoptimist.com/wp-content/uploads/2023/10/Club-Photo-2022-Small.png
END:VEVENT
BEGIN:VEVENT
DTSTART;TZID=America/New_York:20251111T114500
DTEND;TZID=America/New_York:20251111T130000
DTSTAMP:20260421T081425
CREATED:20250915T031152Z
LAST-MODIFIED:20250923T193643Z
UID:10000476-1762861500-1762866000@centervillenoonoptimist.com
SUMMARY:CNO Lunch - Honor Flight
DESCRIPTION:Join us for lunch as our speaker is Al Bailey\, Director\, Honor Flight. \n\n\n\nGuests are welcome to attend.
URL:https://centervillenoonoptimist.com/event/cno-lunch-54/
LOCATION:Yankee Trace Golf Club\, 10000 Yankee St\,\, Centerville\, 45458
CATEGORIES:- CNO Lunch Meeting,Members,Public
ATTACH;FMTTYPE=image/png:https://centervillenoonoptimist.com/wp-content/uploads/2023/10/Club-Photo-2022-Small.png
END:VEVENT
BEGIN:VEVENT
DTSTART;TZID=America/New_York:20251104T114500
DTEND;TZID=America/New_York:20251104T130000
DTSTAMP:20260421T081425
CREATED:20250915T031100Z
LAST-MODIFIED:20250923T193602Z
UID:10000475-1762256700-1762261200@centervillenoonoptimist.com
SUMMARY:CNO Lunch - Dayton Chamber of Commerce
DESCRIPTION:Join us for lunch as our speaker is Chris Kerchner\, President\, Dayton Chamber of Commerce speaking about the Dayton economy and new things happening in Dayton. \n\n\n\nGuests are welcome to attend.
URL:https://centervillenoonoptimist.com/event/cno-lunch-53/
LOCATION:Yankee Trace Golf Club\, 10000 Yankee St\,\, Centerville\, 45458
CATEGORIES:- CNO Lunch Meeting,Members,Public
ATTACH;FMTTYPE=image/png:https://centervillenoonoptimist.com/wp-content/uploads/2023/10/Club-Photo-2022-Small.png
END:VEVENT
BEGIN:VEVENT
DTSTART;TZID=America/New_York:20251028T114500
DTEND;TZID=America/New_York:20251028T130000
DTSTAMP:20260421T081425
CREATED:20250915T030922Z
LAST-MODIFIED:20250915T030925Z
UID:10000474-1761651900-1761656400@centervillenoonoptimist.com
SUMMARY:CNO Lunch - Keith Byars
DESCRIPTION:Join us for lunch as our speaker is Keith Byars\, former Ohio State star\, NFL Player and current Broadcaster. \n\n\n\nGuests are welcome to attend.
URL:https://centervillenoonoptimist.com/event/cno-lunch-keith-byars/
LOCATION:Yankee Trace Golf Club\, 10000 Yankee St\,\, Centerville\, 45458
CATEGORIES:- CNO Lunch Meeting,Members,Public
ATTACH;FMTTYPE=image/png:https://centervillenoonoptimist.com/wp-content/uploads/2023/10/Club-Photo-2022-Small.png
END:VEVENT
BEGIN:VEVENT
DTSTART;TZID=America/New_York:20251021T114500
DTEND;TZID=America/New_York:20251021T130000
DTSTAMP:20260421T081425
CREATED:20250915T025856Z
LAST-MODIFIED:20250915T025858Z
UID:10000473-1761047100-1761051600@centervillenoonoptimist.com
SUMMARY:CNO Lunch - Dayton Performing Arts Alliance
DESCRIPTION:Join us for lunch as our speaker is Patrick Nugent\, President & CEO\, Dayton Performing Arts Alliance. \n\n\n\nGuests are welcome to attend.
URL:https://centervillenoonoptimist.com/event/cno-lunch-dayton-performing-arts-alliance/
LOCATION:Yankee Trace Golf Club\, 10000 Yankee St\,\, Centerville\, 45458
CATEGORIES:- CNO Lunch Meeting,Members,Public
ATTACH;FMTTYPE=image/png:https://centervillenoonoptimist.com/wp-content/uploads/2023/10/Club-Photo-2022-Small.png
END:VEVENT
BEGIN:VEVENT
DTSTART;TZID=America/New_York:20251014T114500
DTEND;TZID=America/New_York:20251014T130000
DTSTAMP:20260421T081425
CREATED:20250915T025724Z
LAST-MODIFIED:20250915T025729Z
UID:10000472-1760442300-1760446800@centervillenoonoptimist.com
SUMMARY:CNO Lunch - EMT Firefighter of the Year Award
DESCRIPTION:Join us for lunch as we present the EMT/Firefighter of the Year Award. \n\n\n\nGuests are welcome to attend.
URL:https://centervillenoonoptimist.com/event/cno-lunch-emt-firefighter-of-the-year-award/
LOCATION:Yankee Trace Golf Club\, 10000 Yankee St\,\, Centerville\, 45458
CATEGORIES:- CNO Lunch Meeting,Members,Public
ATTACH;FMTTYPE=image/png:https://centervillenoonoptimist.com/wp-content/uploads/2023/10/Club-Photo-2022-Small.png
END:VEVENT
BEGIN:VEVENT
DTSTART;TZID=America/New_York:20251007T114500
DTEND;TZID=America/New_York:20251007T130000
DTSTAMP:20260421T081425
CREATED:20250914T214158Z
LAST-MODIFIED:20250914T214200Z
UID:10000471-1759837500-1759842000@centervillenoonoptimist.com
SUMMARY:CNO Lunch - Club Day
DESCRIPTION:Join us for lunch as we focus on club activities\, including a recap of the Installation Dinner. \n\n\n\nGuests are welcome to attend.
URL:https://centervillenoonoptimist.com/event/cno-lunch-club-day-15/
LOCATION:Yankee Trace Golf Club\, 10000 Yankee St\,\, Centerville\, 45458
CATEGORIES:- CNO Lunch Meeting,Members,Public
ATTACH;FMTTYPE=image/png:https://centervillenoonoptimist.com/wp-content/uploads/2023/10/Club-Photo-2022-Small.png
END:VEVENT
BEGIN:VEVENT
DTSTART;TZID=America/New_York:20250930T114500
DTEND;TZID=America/New_York:20250930T130000
DTSTAMP:20260421T081425
CREATED:20250221T225817Z
LAST-MODIFIED:20250408T183116Z
UID:10000414-1759232700-1759237200@centervillenoonoptimist.com
SUMMARY:CNO Lunch - No Meeting (Installation Dinner)
DESCRIPTION:There will be no noon meeting due to the evening Installation Dinner.
URL:https://centervillenoonoptimist.com/event/cno-lunch-no-meeting-10/
LOCATION:Yankee Trace Golf Club\, 10000 Yankee St\,\, Centerville\, 45458
CATEGORIES:- CNO Lunch Meeting,Members,Public
ATTACH;FMTTYPE=image/png:https://centervillenoonoptimist.com/wp-content/uploads/2023/10/Club-Photo-2022-Small.png
END:VEVENT
BEGIN:VEVENT
DTSTART;TZID=America/New_York:20250923T114500
DTEND;TZID=America/New_York:20250923T130000
DTSTAMP:20260421T081425
CREATED:20250221T225710Z
LAST-MODIFIED:20250825T152909Z
UID:10000413-1758627900-1758632400@centervillenoonoptimist.com
SUMMARY:CNO Lunch - Tom Routsong with Voting
DESCRIPTION:Join us for lunch as our speaker will be Tom Routsong to speak about voting.  We will also have the golf outing check presentation to Dayton Children’s Hospital. \n\n\n\nGuests are welcome to attend.
URL:https://centervillenoonoptimist.com/event/cno-lunch-52/
LOCATION:Yankee Trace Golf Club\, 10000 Yankee St\,\, Centerville\, 45458
CATEGORIES:- CNO Lunch Meeting,Members,Public
ATTACH;FMTTYPE=image/png:https://centervillenoonoptimist.com/wp-content/uploads/2023/10/Club-Photo-2022-Small.png
END:VEVENT
BEGIN:VEVENT
DTSTART;TZID=America/New_York:20250916T114500
DTEND;TZID=America/New_York:20250916T130000
DTSTAMP:20260421T081425
CREATED:20250221T225643Z
LAST-MODIFIED:20250825T152948Z
UID:10000412-1758023100-1758027600@centervillenoonoptimist.com
SUMMARY:CNO Lunch - State of the Club
DESCRIPTION:Join us for lunch as we focus on the state of the club and club activities. \n\n\n\nGuests are welcome to attend.
URL:https://centervillenoonoptimist.com/event/cno-lunch-club-day-14/
LOCATION:Yankee Trace Golf Club\, 10000 Yankee St\,\, Centerville\, 45458
CATEGORIES:- CNO Lunch Meeting,Members,Public
ATTACH;FMTTYPE=image/png:https://centervillenoonoptimist.com/wp-content/uploads/2023/10/Club-Photo-2022-Small.png
END:VEVENT
BEGIN:VEVENT
DTSTART;TZID=America/New_York:20250909T114500
DTEND;TZID=America/New_York:20250909T130000
DTSTAMP:20260421T081425
CREATED:20250221T225550Z
LAST-MODIFIED:20250902T201626Z
UID:10000411-1757418300-1757422800@centervillenoonoptimist.com
SUMMARY:CNO Lunch - Dementia with Lori Horstman
DESCRIPTION:Join us for lunch as our speaker is Lori Horstman\, talking about Dementia – what it is and how we can support those living with it. \n\n\n\nGuests are welcome to attend.
URL:https://centervillenoonoptimist.com/event/cno-lunch-51/
LOCATION:Yankee Trace Golf Club\, 10000 Yankee St\,\, Centerville\, 45458
CATEGORIES:- CNO Lunch Meeting,Members,Public
ATTACH;FMTTYPE=image/png:https://centervillenoonoptimist.com/wp-content/uploads/2023/10/Club-Photo-2022-Small.png
END:VEVENT
BEGIN:VEVENT
DTSTART;TZID=America/New_York:20250902T114500
DTEND;TZID=America/New_York:20250902T130000
DTSTAMP:20260421T081425
CREATED:20250221T225531Z
LAST-MODIFIED:20250825T152609Z
UID:10000410-1756813500-1756818000@centervillenoonoptimist.com
SUMMARY:CNO Lunch - Washington Township RecPlex
DESCRIPTION:Join us for lunch as our speaker is Mark Metzger\, director of Washington Township RecPlex. \n\n\n\nGuests are welcome to attend.
URL:https://centervillenoonoptimist.com/event/cno-lunch-50/
LOCATION:Yankee Trace Golf Club\, 10000 Yankee St\,\, Centerville\, 45458
CATEGORIES:- CNO Lunch Meeting,Members,Public
ATTACH;FMTTYPE=image/png:https://centervillenoonoptimist.com/wp-content/uploads/2023/10/Club-Photo-2022-Small.png
END:VEVENT
BEGIN:VEVENT
DTSTART;TZID=America/New_York:20250826T114500
DTEND;TZID=America/New_York:20250826T130000
DTSTAMP:20260421T081425
CREATED:20250221T225445Z
LAST-MODIFIED:20250825T152444Z
UID:10000409-1756208700-1756213200@centervillenoonoptimist.com
SUMMARY:CNO Lunch - WDTN TV
DESCRIPTION:Join us for lunch as our speaker is Jack Pohl from WDTN TV. \n\n\n\nGuests are welcome to attend.
URL:https://centervillenoonoptimist.com/event/cno-lunch-49/
LOCATION:Yankee Trace Golf Club\, 10000 Yankee St\,\, Centerville\, 45458
CATEGORIES:- CNO Lunch Meeting,Members,Public
ATTACH;FMTTYPE=image/png:https://centervillenoonoptimist.com/wp-content/uploads/2023/10/Club-Photo-2022-Small.png
END:VEVENT
BEGIN:VEVENT
DTSTART;TZID=America/New_York:20250819T114500
DTEND;TZID=America/New_York:20250819T130000
DTSTAMP:20260421T081425
CREATED:20250221T225051Z
LAST-MODIFIED:20250707T182700Z
UID:10000405-1755603900-1755608400@centervillenoonoptimist.com
SUMMARY:CNO Lunch - Skilled Trade Scholarships
DESCRIPTION:Join us for lunch as we award our Skilled Trade Scholarships. \n\n\n\nGuests are welcome to attend.
URL:https://centervillenoonoptimist.com/event/cno-lunch-skilled-trade-scholarships-3/
LOCATION:Yankee Trace Golf Club\, 10000 Yankee St\,\, Centerville\, 45458
CATEGORIES:- CNO Lunch Meeting,Members,Public
ATTACH;FMTTYPE=image/png:https://centervillenoonoptimist.com/wp-content/uploads/2023/10/Club-Photo-2022-Small.png
END:VEVENT
BEGIN:VEVENT
DTSTART;TZID=America/New_York:20250805T114500
DTEND;TZID=America/New_York:20250805T130000
DTSTAMP:20260421T081425
CREATED:20250221T225143Z
LAST-MODIFIED:20250531T012343Z
UID:10000406-1754394300-1754398800@centervillenoonoptimist.com
SUMMARY:CNO Lunch - UD Leadership Program
DESCRIPTION:Join us for lunch as our speaker is Dave Evans with the UD Leadership Program. \n\n\n\nGuests are welcome to attend.
URL:https://centervillenoonoptimist.com/event/cno-lunch-47/
LOCATION:Yankee Trace Golf Club\, 10000 Yankee St\,\, Centerville\, 45458
CATEGORIES:- CNO Lunch Meeting,Members,Public
ATTACH;FMTTYPE=image/png:https://centervillenoonoptimist.com/wp-content/uploads/2023/10/Club-Photo-2022-Small.png
END:VEVENT
BEGIN:VEVENT
DTSTART;TZID=America/New_York:20250729T114500
DTEND;TZID=America/New_York:20250729T130000
DTSTAMP:20260421T081425
CREATED:20250221T225420Z
LAST-MODIFIED:20250808T040826Z
UID:10000408-1753789500-1753794000@centervillenoonoptimist.com
SUMMARY:CNO Lunch - Funny Times Traveling the World
DESCRIPTION:Join us for lunch as our speaker is Jim Mogan with Funny Times while Traveling the World. \n\n\n\nGuests are welcome to attend.
URL:https://centervillenoonoptimist.com/event/cno-lunch-48/
LOCATION:Yankee Trace Golf Club\, 10000 Yankee St\,\, Centerville\, 45458
CATEGORIES:- CNO Lunch Meeting,Members,Public
ATTACH;FMTTYPE=image/png:https://centervillenoonoptimist.com/wp-content/uploads/2023/10/Club-Photo-2022-Small.png
END:VEVENT
BEGIN:VEVENT
DTSTART;TZID=America/New_York:20250722T114500
DTEND;TZID=America/New_York:20250722T130000
DTSTAMP:20260421T081425
CREATED:20250221T224924Z
LAST-MODIFIED:20250611T022146Z
UID:10000404-1753184700-1753189200@centervillenoonoptimist.com
SUMMARY:CNO Lunch - Therapeutic Riding Institute
DESCRIPTION:Join us for lunch as our speaker is Stephanie Llacuna with the Therapeutic Riding Institute. \n\n\n\nGuests are welcome to attend.
URL:https://centervillenoonoptimist.com/event/cno-lunch-46/
LOCATION:Yankee Trace Golf Club\, 10000 Yankee St\,\, Centerville\, 45458
CATEGORIES:- CNO Lunch Meeting,Members,Public
ATTACH;FMTTYPE=image/png:https://centervillenoonoptimist.com/wp-content/uploads/2023/10/Club-Photo-2022-Small.png
END:VEVENT
BEGIN:VEVENT
DTSTART;TZID=America/New_York:20250715T114500
DTEND;TZID=America/New_York:20250715T130000
DTSTAMP:20260421T081425
CREATED:20250221T224856Z
LAST-MODIFIED:20250221T224901Z
UID:10000403-1752579900-1752584400@centervillenoonoptimist.com
SUMMARY:CNO Lunch - Memorial Scholarships
DESCRIPTION:Join us for lunch as we award our Memorial Scholarships. \n\n\n\nGuests are welcome to attend.
URL:https://centervillenoonoptimist.com/event/cno-lunch-memorial-scholarships-3/
LOCATION:Yankee Trace Golf Club\, 10000 Yankee St\,\, Centerville\, 45458
CATEGORIES:- CNO Lunch Meeting,Members,Public
ATTACH;FMTTYPE=image/png:https://centervillenoonoptimist.com/wp-content/uploads/2023/10/Club-Photo-2022-Small.png
END:VEVENT
BEGIN:VEVENT
DTSTART;TZID=America/New_York:20250708T114500
DTEND;TZID=America/New_York:20250708T130000
DTSTAMP:20260421T081425
CREATED:20250221T224807Z
LAST-MODIFIED:20250531T012735Z
UID:10000402-1751975100-1751979600@centervillenoonoptimist.com
SUMMARY:CNO Lunch - Retired AF Colonel Joe Zies
DESCRIPTION:Join us for lunch as our speaker is Retired Air Force Colonel Joe Zies\, Aerospace advisor to the Governor.  We will also have a recap of the Optimist International Convention. \n\n\n\nGuests are welcome to attend.
URL:https://centervillenoonoptimist.com/event/cno-lunch-45/
LOCATION:Yankee Trace Golf Club\, 10000 Yankee St\,\, Centerville\, 45458
CATEGORIES:- CNO Lunch Meeting,Members,Public
ATTACH;FMTTYPE=image/png:https://centervillenoonoptimist.com/wp-content/uploads/2023/10/Club-Photo-2022-Small.png
END:VEVENT
BEGIN:VEVENT
DTSTART;TZID=America/New_York:20250701T114500
DTEND;TZID=America/New_York:20250701T130000
DTSTAMP:20260421T081425
CREATED:20250221T224737Z
LAST-MODIFIED:20250531T012943Z
UID:10000401-1751370300-1751374800@centervillenoonoptimist.com
SUMMARY:CNO Lunch - Graphic Designer
DESCRIPTION:Join us for lunch as our speaker is Ann Molnar\, a graphic designer who will provide insight and humor. \n\n\n\nGuests are welcome to attend.
URL:https://centervillenoonoptimist.com/event/cno-lunch-44/
LOCATION:Yankee Trace Golf Club\, 10000 Yankee St\,\, Centerville\, 45458
CATEGORIES:- CNO Lunch Meeting,Members,Public
ATTACH;FMTTYPE=image/png:https://centervillenoonoptimist.com/wp-content/uploads/2023/10/Club-Photo-2022-Small.png
END:VEVENT
BEGIN:VEVENT
DTSTART;TZID=America/New_York:20250624T114500
DTEND;TZID=America/New_York:20250624T130000
DTSTAMP:20260421T081425
CREATED:20250221T224604Z
LAST-MODIFIED:20250408T182410Z
UID:10000400-1750765500-1750770000@centervillenoonoptimist.com
SUMMARY:CNO Lunch - Dayton Area YMCA
DESCRIPTION:Join us for lunch as our speaker is Dale Brunner\, the President of the Dayton Area YMCA. \n\n\n\nGuests are welcome to attend.
URL:https://centervillenoonoptimist.com/event/cno-lunch-43/
LOCATION:Yankee Trace Golf Club\, 10000 Yankee St\,\, Centerville\, 45458
CATEGORIES:- CNO Lunch Meeting,Members,Public
ATTACH;FMTTYPE=image/png:https://centervillenoonoptimist.com/wp-content/uploads/2023/10/Club-Photo-2022-Small.png
END:VEVENT
END:VCALENDAR